BEGIN:VCALENDAR
VERSION:2.0
PRODID:-//Suncoast Florida Region - PCA - ECPv6.15.20//NONSGML v1.0//EN
CALSCALE:GREGORIAN
METHOD:PUBLISH
X-WR-CALNAME:Suncoast Florida Region - PCA
X-ORIGINAL-URL:https://suncoastpca.org
X-WR-CALDESC:Events for Suncoast Florida Region - PCA
REFRESH-INTERVAL;VALUE=DURATION:PT1H
X-Robots-Tag:noindex
X-PUBLISHED-TTL:PT1H
BEGIN:VTIMEZONE
TZID:America/New_York
BEGIN:DAYLIGHT
TZOFFSETFROM:-0500
TZOFFSETTO:-0400
TZNAME:EDT
DTSTART:20210314T070000
END:DAYLIGHT
BEGIN:STANDARD
TZOFFSETFROM:-0400
TZOFFSETTO:-0500
TZNAME:EST
DTSTART:20211107T060000
END:STANDARD
BEGIN:DAYLIGHT
TZOFFSETFROM:-0500
TZOFFSETTO:-0400
TZNAME:EDT
DTSTART:20220313T070000
END:DAYLIGHT
BEGIN:STANDARD
TZOFFSETFROM:-0400
TZOFFSETTO:-0500
TZNAME:EST
DTSTART:20221106T060000
END:STANDARD
BEGIN:DAYLIGHT
TZOFFSETFROM:-0500
TZOFFSETTO:-0400
TZNAME:EDT
DTSTART:20230312T070000
END:DAYLIGHT
BEGIN:STANDARD
TZOFFSETFROM:-0400
TZOFFSETTO:-0500
TZNAME:EST
DTSTART:20231105T060000
END:STANDARD
BEGIN:DAYLIGHT
TZOFFSETFROM:-0500
TZOFFSETTO:-0400
TZNAME:EDT
DTSTART:20240310T070000
END:DAYLIGHT
BEGIN:STANDARD
TZOFFSETFROM:-0400
TZOFFSETTO:-0500
TZNAME:EST
DTSTART:20241103T060000
END:STANDARD
END:VTIMEZONE
BEGIN:VEVENT
DTSTART;TZID=America/New_York:20230121T090000
DTEND;TZID=America/New_York:20230121T110000
DTSTAMP:20260424T095945
CREATED:20221112T214735Z
LAST-MODIFIED:20240520T215100Z
UID:10000816-1674291600-1674298800@suncoastpca.org
SUMMARY:Monthly Breakfast at Clear Sky Club Haus
DESCRIPTION:Please join us for our new and latest monthly breakfast at the Clear Sky Club Haus\, at 36355 East Lake Road South\, at the north end of the Ridgemoor Plaza Shopping Center\, in Palm Harbor. This will be a recurring monthly event. \nWe will begin at 9:00am. Your host for this event is Bill Schultz. \nWe encourage our members to come and bring your guests for a great time. \nRegister on ClubReg
URL:https://suncoastpca.org/event/monthly-breakfast-at-clear-sky-club-haus-2/2023-01-21/
LOCATION:Clear Sky Club Haus\, 36355 East Lake Road South\, Palm Harbor\, FL\, 34685\, United States
CATEGORIES:Social
END:VEVENT
BEGIN:VEVENT
DTSTART;TZID=America/New_York:20230121T083000
DTEND;TZID=America/New_York:20230121T083000
DTSTAMP:20260424T095945
CREATED:20220812T212713Z
LAST-MODIFIED:20260106T160125Z
UID:10000805-1674289800-1674289800@suncoastpca.org
SUMMARY:Monthly Breakfast - Venice
DESCRIPTION:Come join your fellow Suncoast Porsche members and guests for the monthly breakfast at Skillets at 4115 South Tamiami Trail South\, in Venice. We will be gathering at 8:30am Saturday\, August 20th. The restaurant can provide seating for us both at tables inside and outside. \nThis a monthly affair on the third Saturday of each month. So plan to come and enjoy each others’ company and make it a habit. \nRegister on ClubReg
URL:https://suncoastpca.org/event/monthly-breakfast-at-skillets/2023-01-21/
LOCATION:Skillets Venice\, 4115 Tamiami Trail S\, Venice\, FL\, 34293\, United States
CATEGORIES:Social
END:VEVENT
BEGIN:VEVENT
DTSTART;TZID=America/New_York:20230118T120000
DTEND;TZID=America/New_York:20230118T120000
DTSTAMP:20260424T095945
CREATED:20221218T140258Z
LAST-MODIFIED:20260106T164716Z
UID:10000849-1674043200-1674043200@suncoastpca.org
SUMMARY:Monthly Luncheon - Clearwater
DESCRIPTION:Tired of the same old sandwiches for lunch? Join your fellow PCA members for great food and interesting conversations at Quaker Steak & Lube\, 10400 49th St. N\, Clearwater\, FL 33762. We’re meeting the 3rd Wednesday of each month. No pre-registration required! If your schedule permits\, just show up at noon! Private room\, full menu and lunch specials. Their parking lot is very Porsche friendly so it will be an opportunity to show off your car as well!
URL:https://suncoastpca.org/event/monthly-luncheon-4/2023-01-18/
LOCATION:Quaker Steak & Lube\, 10400 49th St. N\, Clearwater\, FL\, 33762\, United States
CATEGORIES:Social
END:VEVENT
BEGIN:VEVENT
DTSTART;TZID=America/New_York:20230107T080000
DTEND;TZID=America/New_York:20230108T170000
DTSTAMP:20260424T095945
CREATED:20221019T211729Z
LAST-MODIFIED:20221019T211729Z
UID:10000839-1673078400-1673197200@suncoastpca.org
SUMMARY:Driver's Education
DESCRIPTION:
URL:https://suncoastpca.org/event/drivers-education-45/
LOCATION:Sebring International Raceway\, 113 Midway Drive\, Sebring\, FL\, 33870\, United States
CATEGORIES:Driver's Education
END:VEVENT
BEGIN:VEVENT
DTSTART;TZID=America/New_York:20221217T090000
DTEND;TZID=America/New_York:20221217T110000
DTSTAMP:20260424T095945
CREATED:20221112T214735Z
LAST-MODIFIED:20240520T215100Z
UID:10000814-1671267600-1671274800@suncoastpca.org
SUMMARY:Monthly Breakfast at Clear Sky Club Haus
DESCRIPTION:Please join us for our new and latest monthly breakfast at the Clear Sky Club Haus\, at 36355 East Lake Road South\, at the north end of the Ridgemoor Plaza Shopping Center\, in Palm Harbor. This will be a recurring monthly event. \nWe will begin at 9:00am. Your host for this event is Bill Schultz. \nWe encourage our members to come and bring your guests for a great time. \nRegister on ClubReg
URL:https://suncoastpca.org/event/monthly-breakfast-at-clear-sky-club-haus-2/2022-12-17/
LOCATION:Clear Sky Club Haus\, 36355 East Lake Road South\, Palm Harbor\, FL\, 34685\, United States
CATEGORIES:Social
END:VEVENT
BEGIN:VEVENT
DTSTART;TZID=America/New_York:20221217T083000
DTEND;TZID=America/New_York:20221217T083000
DTSTAMP:20260424T095945
CREATED:20220812T212713Z
LAST-MODIFIED:20260106T160125Z
UID:10000804-1671265800-1671265800@suncoastpca.org
SUMMARY:Monthly Breakfast - Venice
DESCRIPTION:Come join your fellow Suncoast Porsche members and guests for the monthly breakfast at Skillets at 4115 South Tamiami Trail South\, in Venice. We will be gathering at 8:30am Saturday\, August 20th. The restaurant can provide seating for us both at tables inside and outside. \nThis a monthly affair on the third Saturday of each month. So plan to come and enjoy each others’ company and make it a habit. \nRegister on ClubReg
URL:https://suncoastpca.org/event/monthly-breakfast-at-skillets/2022-12-17/
LOCATION:Skillets Venice\, 4115 Tamiami Trail S\, Venice\, FL\, 34293\, United States
CATEGORIES:Social
END:VEVENT
BEGIN:VEVENT
DTSTART;TZID=America/New_York:20221211T180000
DTEND;TZID=America/New_York:20221211T220000
DTSTAMP:20260424T095945
CREATED:20220721T003142Z
LAST-MODIFIED:20220721T015042Z
UID:10000799-1670781600-1670796000@suncoastpca.org
SUMMARY:Gala - Annual Member Celebration
DESCRIPTION:For cancellations received before December 1 at 5 pm\, all money will be refunded.  No refunds can be done for cancellations received after that date.  Charitable donations are nonrefundable.  \nhttps://clubregistration.net/events/signUp.cfm/event/12596
URL:https://suncoastpca.org/event/gala-annual-member-celebration/
LOCATION:Museum of Fine Arts\, 255 Beach Dr NE\, St Petersburg\, FL\, 33701\, United States
CATEGORIES:Social
GEO:27.7744205;-82.6318843
X-APPLE-STRUCTURED-LOCATION;VALUE=URI;X-ADDRESS=Museum of Fine Arts 255 Beach Dr NE St Petersburg FL 33701 United States;X-APPLE-RADIUS=500;X-TITLE=255 Beach Dr NE:geo:-82.6318843,27.7744205
END:VEVENT
BEGIN:VEVENT
DTSTART;TZID=America/New_York:20221210T080000
DTEND;TZID=America/New_York:20221210T170000
DTSTAMP:20260424T095945
CREATED:20220221T223041Z
LAST-MODIFIED:20220810T000114Z
UID:10000781-1670659200-1670691600@suncoastpca.org
SUMMARY:Autocross St Petersburg College AllState Center
DESCRIPTION:
URL:https://suncoastpca.org/event/autocross-st-petersburg-college-allstate-center-5/
LOCATION:St. Petersburg College Allstate Center\, 3200 34th St S\, St Petersburg\, 33711
CATEGORIES:Autocross
END:VEVENT
BEGIN:VEVENT
DTSTART;TZID=America/New_York:20221119T083000
DTEND;TZID=America/New_York:20221119T083000
DTSTAMP:20260424T095945
CREATED:20220812T212713Z
LAST-MODIFIED:20260106T160125Z
UID:10000803-1668846600-1668846600@suncoastpca.org
SUMMARY:Monthly Breakfast - Venice
DESCRIPTION:Come join your fellow Suncoast Porsche members and guests for the monthly breakfast at Skillets at 4115 South Tamiami Trail South\, in Venice. We will be gathering at 8:30am Saturday\, August 20th. The restaurant can provide seating for us both at tables inside and outside. \nThis a monthly affair on the third Saturday of each month. So plan to come and enjoy each others’ company and make it a habit. \nRegister on ClubReg
URL:https://suncoastpca.org/event/monthly-breakfast-at-skillets/2022-11-19/
LOCATION:Skillets Venice\, 4115 Tamiami Trail S\, Venice\, FL\, 34293\, United States
CATEGORIES:Social
END:VEVENT
BEGIN:VEVENT
DTSTART;VALUE=DATE:20221118
DTEND;VALUE=DATE:20221121
DTSTAMP:20260424T095945
CREATED:20211213T164322Z
LAST-MODIFIED:20211213T164322Z
UID:10000768-1668729600-1668988799@suncoastpca.org
SUMMARY:Driver's Education
DESCRIPTION:Instructor Weekend\, Instructors only Fri and Sat\, regular DE on Sun
URL:https://suncoastpca.org/event/drivers-education-44/
LOCATION:Sebring International Raceway\, 113 Midway Drive\, Sebring\, FL\, 33870\, United States
CATEGORIES:Driver's Education
END:VEVENT
BEGIN:VEVENT
DTSTART;TZID=America/New_York:20221112T170000
DTEND;TZID=America/New_York:20221112T200000
DTSTAMP:20260424T095945
CREATED:20220721T002950Z
LAST-MODIFIED:20220721T015005Z
UID:10000798-1668272400-1668283200@suncoastpca.org
SUMMARY:Wine\, Wheels and Wishes
DESCRIPTION:There are no refunds for this event\, all proceeds go to Ready for Life. Your registration is a donation to that organization.  If you need a receipt please e-mail Denise Remus\, Suncoast PCA President at president@suncoastpca.org \nhttps://clubregistration.net/events/signUp.cfm/event/12588
URL:https://suncoastpca.org/event/wine-wheels-and-wishes/
LOCATION:FL\, United States
CATEGORIES:Social
GEO:27.6648274;-81.5157535
END:VEVENT
BEGIN:VEVENT
DTSTART;TZID=America/New_York:20221106T080000
DTEND;TZID=America/New_York:20221106T170000
DTSTAMP:20260424T095945
CREATED:20220221T223219Z
LAST-MODIFIED:20221019T211055Z
UID:10000783-1667721600-1667754000@suncoastpca.org
SUMMARY:Autocross Venice Airport
DESCRIPTION:
URL:https://suncoastpca.org/event/autocross-venice-airport-4/
LOCATION:Venice Airport\, 150 Airport Ave E\, Venice\, FL\, 34285\, United States
CATEGORIES:Autocross
END:VEVENT
BEGIN:VEVENT
DTSTART;TZID=America/New_York:20221105T140000
DTEND;TZID=America/New_York:20221105T160000
DTSTAMP:20260424T095945
CREATED:20220721T002648Z
LAST-MODIFIED:20220721T002648Z
UID:10000797-1667656800-1667664000@suncoastpca.org
SUMMARY:Porsche Pantry - Thanksgiving
DESCRIPTION:Join your fellow Suncoast PCA members in a food drive to benefit the Food Bank at First Baptist Church\, 1900 Gandy Blvd N.\, St. Petersburg\, FL\, 33702 on Saturday\, November 5. Plan to arrive at the church by 2 pm\, event ends at 4 pm. Bring your donations of non-perishable food and/or grocery store gift cards. This is a chance to give back to our community and help others less fortunate. \nThe church has a large parking lot so we’ll have a chance to enjoy cars and light refreshments. Please respond with estimated number of attendees so we can have enough refreshments for all. \nIf you’re unable to attend in-person\, you may make a charitable donation and event admins will purchase food items and bring to the pantry on your behalf. Please note – charitable donations are non-refundable. \nhttps://clubregistration.net/events/signUp.cfm/event/12652
URL:https://suncoastpca.org/event/porsche-pantry-thanksgiving/
LOCATION:First Baptist Church\, 1900 Gandy Blvd N.\, St Petersburg\, FL\, 33702\, United States
CATEGORIES:Other
END:VEVENT
BEGIN:VEVENT
DTSTART;TZID=America/New_York:20221029T100000
DTEND;TZID=America/New_York:20221029T120000
DTSTAMP:20260424T095945
CREATED:20221019T210456Z
LAST-MODIFIED:20221019T210648Z
UID:10000838-1667037600-1667044800@suncoastpca.org
SUMMARY:Porsche Appreciation and Tech Talk
DESCRIPTION:At Ceramic Pro\, Sarasota \nhttps://clubregistration.net/events/event-details.cfm?event_id=12723
URL:https://suncoastpca.org/event/porsche-appreciation-and-tech-talk/
LOCATION:Ceramic Pro\, 6029 Decon Place\, Sarasota\, FL\, 34238\, United States
CATEGORIES:Other
END:VEVENT
BEGIN:VEVENT
DTSTART;TZID=America/New_York:20221025T180000
DTEND;TZID=America/New_York:20221025T210000
DTSTAMP:20260424T095945
CREATED:20221019T210125Z
LAST-MODIFIED:20221019T210137Z
UID:10000837-1666720800-1666731600@suncoastpca.org
SUMMARY:Date Your Porsche Night
DESCRIPTION:Date Your Porsche Night at Mattison’s on 41 in Sarasota. We will be welcoming our members and their guests at 6:00pm. This beautiful restaurant is located at 7275 South Tamiami Trail Sarasota\, 2.5 miles south of Suncoast Porsche. We expect a large crowd\, and a special menu of gourmet items to choose from. We will see you there! \nhttps://clubregistration.net/events/event-details.cfm?event_id=12790 \n 
URL:https://suncoastpca.org/event/date-your-porsche-night-55/
LOCATION:Mattison’s Forty-One\, 7275 S Tamiami Trail\, Sarasota\, 34231
CATEGORIES:Social
END:VEVENT
BEGIN:VEVENT
DTSTART;TZID=America/New_York:20221016T080000
DTEND;TZID=America/New_York:20221016T170000
DTSTAMP:20260424T095945
CREATED:20220221T223011Z
LAST-MODIFIED:20220221T223011Z
UID:10000780-1665907200-1665939600@suncoastpca.org
SUMMARY:Autocross St Petersburg College AllState Center
DESCRIPTION:
URL:https://suncoastpca.org/event/autocross-st-petersburg-college-allstate-center-4/
LOCATION:St. Petersburg College Allstate Center\, 3200 34th St S\, St Petersburg\, 33711
CATEGORIES:Autocross
END:VEVENT
BEGIN:VEVENT
DTSTART;TZID=America/New_York:20221015T090000
DTEND;TZID=America/New_York:20221015T110000
DTSTAMP:20260424T095945
CREATED:20221008T142556Z
LAST-MODIFIED:20221008T142556Z
UID:10000813-1665824400-1665831600@suncoastpca.org
SUMMARY:Monthly Breakfast at Clear Sky Club Haus
DESCRIPTION:Please join us for our new and latest monthly breakfast at the Clear Sky Club Haus\, at 36355 East Lake Road South\, at the north end of the Ridgemoor Plaza Shopping Center\, in Palm Harbor. This will be a recurring monthly event. \nWe will begin at 9:00am. Your host for this event is Bill Schultz. \nWe encourage our members to come and bring your guests for a great time.
URL:https://suncoastpca.org/event/monthly-breakfast-at-clear-sky-club-haus/
LOCATION:Clear Sky Club Haus\, 36355 East Lake Road South\, Palm Harbor\, FL\, 34685\, United States
CATEGORIES:Social
END:VEVENT
BEGIN:VEVENT
DTSTART;TZID=America/New_York:20221015T083000
DTEND;TZID=America/New_York:20221015T083000
DTSTAMP:20260424T095945
CREATED:20220812T212713Z
LAST-MODIFIED:20260106T160125Z
UID:10000802-1665822600-1665822600@suncoastpca.org
SUMMARY:Monthly Breakfast - Venice
DESCRIPTION:Come join your fellow Suncoast Porsche members and guests for the monthly breakfast at Skillets at 4115 South Tamiami Trail South\, in Venice. We will be gathering at 8:30am Saturday\, August 20th. The restaurant can provide seating for us both at tables inside and outside. \nThis a monthly affair on the third Saturday of each month. So plan to come and enjoy each others’ company and make it a habit. \nRegister on ClubReg
URL:https://suncoastpca.org/event/monthly-breakfast-at-skillets/2022-10-15/
LOCATION:Skillets Venice\, 4115 Tamiami Trail S\, Venice\, FL\, 34293\, United States
CATEGORIES:Social
END:VEVENT
BEGIN:VEVENT
DTSTART;VALUE=DATE:20221001
DTEND;VALUE=DATE:20221003
DTSTAMP:20260424T095945
CREATED:20211213T164242Z
LAST-MODIFIED:20220926T133218Z
UID:10000767-1664582400-1664755199@suncoastpca.org
SUMMARY:Driver's Education - CANCELED
DESCRIPTION:
URL:https://suncoastpca.org/event/drivers-education-43/
LOCATION:Sebring International Raceway\, 113 Midway Drive\, Sebring\, FL\, 33870\, United States
CATEGORIES:Driver's Education
END:VEVENT
BEGIN:VEVENT
DTSTART;TZID=America/New_York:20220917T083000
DTEND;TZID=America/New_York:20220917T083000
DTSTAMP:20260424T095945
CREATED:20220812T212713Z
LAST-MODIFIED:20260106T160125Z
UID:10000801-1663403400-1663403400@suncoastpca.org
SUMMARY:Monthly Breakfast - Venice
DESCRIPTION:Come join your fellow Suncoast Porsche members and guests for the monthly breakfast at Skillets at 4115 South Tamiami Trail South\, in Venice. We will be gathering at 8:30am Saturday\, August 20th. The restaurant can provide seating for us both at tables inside and outside. \nThis a monthly affair on the third Saturday of each month. So plan to come and enjoy each others’ company and make it a habit. \nRegister on ClubReg
URL:https://suncoastpca.org/event/monthly-breakfast-at-skillets/2022-09-17/
LOCATION:Skillets Venice\, 4115 Tamiami Trail S\, Venice\, FL\, 34293\, United States
CATEGORIES:Social
END:VEVENT
BEGIN:VEVENT
DTSTART;VALUE=DATE:20220910
DTEND;VALUE=DATE:20220912
DTSTAMP:20260424T095946
CREATED:20211213T164213Z
LAST-MODIFIED:20211213T164213Z
UID:10000766-1662768000-1662940799@suncoastpca.org
SUMMARY:Driver's Education
DESCRIPTION:
URL:https://suncoastpca.org/event/drivers-education-42/
LOCATION:Sebring International Raceway\, 113 Midway Drive\, Sebring\, FL\, 33870\, United States
CATEGORIES:Driver's Education
END:VEVENT
BEGIN:VEVENT
DTSTART;TZID=America/New_York:20220827T160000
DTEND;TZID=America/New_York:20220827T220000
DTSTAMP:20260424T095946
CREATED:20220721T002332Z
LAST-MODIFIED:20220721T002332Z
UID:10000796-1661616000-1661637600@suncoastpca.org
SUMMARY:Summer BBQ
DESCRIPTION:We’re able to celebrate again in person! We hope you can join us for our favorite summer event – the annual Suncoast Summer BBQ\, Saturday\, August 27\, 4:00 p.m. at Mike Kwasin’s home in south Tampa.  The event is for Suncoast PCA members and guests. Enjoy awesome BBQ (pulled pork\, ribs and chicken); beer and wine will be provided. You will need to bring an appetizer\, covered dish\, side dish or dessert to share. Attendance is limited to the first 80 guests\, confirmation will be sent by e-mail. \nHope to see you there! \nhttps://clubregistration.net/events/signUp.cfm/event/12563
URL:https://suncoastpca.org/event/summer-bbq/
LOCATION:FL\, United States
CATEGORIES:Social
GEO:27.6648274;-81.5157535
END:VEVENT
BEGIN:VEVENT
DTSTART;TZID=America/New_York:20220820T083000
DTEND;TZID=America/New_York:20220820T083000
DTSTAMP:20260424T095946
CREATED:20220812T212713Z
LAST-MODIFIED:20260106T160125Z
UID:10000800-1660984200-1660984200@suncoastpca.org
SUMMARY:Monthly Breakfast - Venice
DESCRIPTION:Come join your fellow Suncoast Porsche members and guests for the monthly breakfast at Skillets at 4115 South Tamiami Trail South\, in Venice. We will be gathering at 8:30am Saturday\, August 20th. The restaurant can provide seating for us both at tables inside and outside. \nThis a monthly affair on the third Saturday of each month. So plan to come and enjoy each others’ company and make it a habit. \nRegister on ClubReg
URL:https://suncoastpca.org/event/monthly-breakfast-at-skillets/2022-08-20/
LOCATION:Skillets Venice\, 4115 Tamiami Trail S\, Venice\, FL\, 34293\, United States
CATEGORIES:Social
END:VEVENT
BEGIN:VEVENT
DTSTART;TZID=America/New_York:20220817T120000
DTEND;TZID=America/New_York:20220817T140000
DTSTAMP:20260424T095946
CREATED:20220609T125157Z
LAST-MODIFIED:20220716T141949Z
UID:10000794-1660737600-1660744800@suncoastpca.org
SUMMARY:Monthly Luncheon
DESCRIPTION:Tired of the same old sandwiches for lunch? Join your fellow PCA members for great food and interesting conversations at Quaker Steak & Lube\, 10400 49th St. N\, Clearwater\, FL 33762. We’re meeting the 3rd Wednesday of each month. No pre-registration required! If your schedule permits\, just show up at noon! Private room\, full menu and lunch specials. Their parking lot is very Porsche friendly so it will be an opportunity to show off your car as well!
URL:https://suncoastpca.org/event/monthly-luncheon-3/
LOCATION:Quaker Steak & Lube\, 10400 49th St. N\, Clearwater\, FL\, 33762\, United States
CATEGORIES:Social
END:VEVENT
BEGIN:VEVENT
DTSTART;VALUE=DATE:20220806
DTEND;VALUE=DATE:20220808
DTSTAMP:20260424T095946
CREATED:20211213T164021Z
LAST-MODIFIED:20211213T164021Z
UID:10000765-1659744000-1659916799@suncoastpca.org
SUMMARY:Driver's Education
DESCRIPTION:
URL:https://suncoastpca.org/event/drivers-education-41/
LOCATION:Sebring International Raceway\, 113 Midway Drive\, Sebring\, FL\, 33870\, United States
CATEGORIES:Driver's Education
END:VEVENT
BEGIN:VEVENT
DTSTART;TZID=America/New_York:20220727T180000
DTEND;TZID=America/New_York:20220727T210000
DTSTAMP:20260424T095946
CREATED:20220712T120657Z
LAST-MODIFIED:20220716T141810Z
UID:10000795-1658944800-1658955600@suncoastpca.org
SUMMARY:Date Your Porsche Night
DESCRIPTION:Dinner at Riveters Sports Bar\, 2301 North Dale Mabry Hwy.\, Tampa.  Our hosts for the evening will be Anne and David Hale. Here’s a direct link to register:  \nhttps://clubregistration.net/events/signUp.cfm/event/12601 \n 
URL:https://suncoastpca.org/event/date-your-porsche-night-54/
LOCATION:Riveters Sports Bar\, 2301 North Dale Mabry Hwy\, Tampa\, FL\, 33607\, United States
CATEGORIES:Social
END:VEVENT
BEGIN:VEVENT
DTSTART;TZID=America/New_York:20220720T120000
DTEND;TZID=America/New_York:20220720T140000
DTSTAMP:20260424T095946
CREATED:20220609T125114Z
LAST-MODIFIED:20220716T141919Z
UID:10000793-1658318400-1658325600@suncoastpca.org
SUMMARY:Monthly Luncheon
DESCRIPTION:Tired of the same old sandwiches for lunch? Join your fellow PCA members for great food and interesting conversations at Quaker Steak & Lube\, 10400 49th St. N\, Clearwater\, FL 33762. We’re meeting the 3rd Wednesday of each month. No pre-registration required! If your schedule permits\, just show up at noon! Private room\, full menu and lunch specials. Their parking lot is very Porsche friendly so it will be an opportunity to show off your car as well!
URL:https://suncoastpca.org/event/monthly-luncheon-2/
LOCATION:Quaker Steak & Lube\, 10400 49th St. N\, Clearwater\, FL\, 33762\, United States
CATEGORIES:Social
END:VEVENT
BEGIN:VEVENT
DTSTART;VALUE=DATE:20220709
DTEND;VALUE=DATE:20220710
DTSTAMP:20260424T095946
CREATED:20220601T130335Z
LAST-MODIFIED:20220601T130521Z
UID:10000791-1657324800-1657411199@suncoastpca.org
SUMMARY:Time Speed Distance (TSD) Rally
DESCRIPTION:Rally in July! For those of us who have not traveled north for the Summer we will have a TSD Rally on Saturday July 9th. The gathering location will be the Eggs-Traordinary Cafe\, 3981 Cattlemen Rd\, Sarasota\, FL 34233 (south off Bee Ridge Rd west of I-75). The end location is a waterfront restaurant in Nokomis. Registration opens online at 8 AM June 6 at Club Registration.
URL:https://suncoastpca.org/event/time-speed-distance-tsd-rally-2/
LOCATION:FL\, United States
CATEGORIES:Other
GEO:27.6648274;-81.5157535
END:VEVENT
BEGIN:VEVENT
DTSTART;VALUE=DATE:20220625
DTEND;VALUE=DATE:20220627
DTSTAMP:20260424T095946
CREATED:20211213T163945Z
LAST-MODIFIED:20211213T163945Z
UID:10000764-1656115200-1656287999@suncoastpca.org
SUMMARY:Driver's Education
DESCRIPTION:
URL:https://suncoastpca.org/event/drivers-education-40/
LOCATION:Sebring International Raceway\, 113 Midway Drive\, Sebring\, FL\, 33870\, United States
CATEGORIES:Driver's Education
END:VEVENT
BEGIN:VEVENT
DTSTART;TZID=America/New_York:20220622T120000
DTEND;TZID=America/New_York:20220622T140000
DTSTAMP:20260424T095946
CREATED:20220609T124508Z
LAST-MODIFIED:20220609T124839Z
UID:10000792-1655899200-1655906400@suncoastpca.org
SUMMARY:Monthly Luncheon
DESCRIPTION:Tired of the same old sandwiches for lunch? Join your fellow PCA members for great food and interesting conversations at Quaker Steak & Lube\, 10400 49th St. N\, Clearwater\, FL 33762 for our first monthly luncheon at noon on Wednesday\, June 22. We’ve also confirmed noon on Wednesday\, July 20 and August 17. If we get a good response\, we’ll continue these lunches on the 3rd Wednesday of each month. No pre-registration required! If your schedule permits\, just show up at noon! Private room\, full menu and lunch specials. Their parking lot is very Porsche friendly so it will be an opportunity to show off your car as well!
URL:https://suncoastpca.org/event/monthly-luncheon/
LOCATION:Quaker Steak & Lube\, 10400 49th St. N\, Clearwater\, FL\, 33762\, United States
CATEGORIES:Social
END:VEVENT
END:VCALENDAR