BEGIN:VCALENDAR
VERSION:2.0
PRODID:-//Suncoast Florida Region - PCA - ECPv6.15.20//NONSGML v1.0//EN
CALSCALE:GREGORIAN
METHOD:PUBLISH
X-ORIGINAL-URL:https://suncoastpca.org
X-WR-CALDESC:Events for Suncoast Florida Region - PCA
REFRESH-INTERVAL;VALUE=DURATION:PT1H
X-Robots-Tag:noindex
X-PUBLISHED-TTL:PT1H
BEGIN:VTIMEZONE
TZID:America/New_York
BEGIN:DAYLIGHT
TZOFFSETFROM:-0500
TZOFFSETTO:-0400
TZNAME:EDT
DTSTART:20290311T070000
END:DAYLIGHT
BEGIN:STANDARD
TZOFFSETFROM:-0400
TZOFFSETTO:-0500
TZNAME:EST
DTSTART:20291104T060000
END:STANDARD
BEGIN:DAYLIGHT
TZOFFSETFROM:-0500
TZOFFSETTO:-0400
TZNAME:EDT
DTSTART:20300310T070000
END:DAYLIGHT
BEGIN:STANDARD
TZOFFSETFROM:-0400
TZOFFSETTO:-0500
TZNAME:EST
DTSTART:20301103T060000
END:STANDARD
BEGIN:DAYLIGHT
TZOFFSETFROM:-0500
TZOFFSETTO:-0400
TZNAME:EDT
DTSTART:20310309T070000
END:DAYLIGHT
BEGIN:STANDARD
TZOFFSETFROM:-0400
TZOFFSETTO:-0500
TZNAME:EST
DTSTART:20311102T060000
END:STANDARD
END:VTIMEZONE
BEGIN:VEVENT
DTSTART;TZID=America/New_York:20300216T083000
DTEND;TZID=America/New_York:20300216T083000
DTSTAMP:20260423T191334
CREATED:20220812T212713Z
LAST-MODIFIED:20260106T160125Z
UID:10001277-1897461000-1897461000@suncoastpca.org
SUMMARY:Monthly Breakfast - Venice
DESCRIPTION:Come join your fellow Suncoast Porsche members and guests for the monthly breakfast at Skillets at 4115 South Tamiami Trail South\, in Venice. We will be gathering at 8:30am Saturday\, August 20th. The restaurant can provide seating for us both at tables inside and outside. \nThis a monthly affair on the third Saturday of each month. So plan to come and enjoy each others’ company and make it a habit. \nRegister on ClubReg
URL:https://suncoastpca.org/event/monthly-breakfast-at-skillets/2030-02-16/
LOCATION:Skillets Venice\, 4115 Tamiami Trail S\, Venice\, FL\, 34293\, United States
CATEGORIES:Social
END:VEVENT
BEGIN:VEVENT
DTSTART;TZID=America/New_York:20300220T120000
DTEND;TZID=America/New_York:20300220T120000
DTSTAMP:20260423T191334
CREATED:20221218T140258Z
LAST-MODIFIED:20260106T164716Z
UID:10001288-1897819200-1897819200@suncoastpca.org
SUMMARY:Monthly Luncheon - Clearwater
DESCRIPTION:Tired of the same old sandwiches for lunch? Join your fellow PCA members for great food and interesting conversations at Quaker Steak & Lube\, 10400 49th St. N\, Clearwater\, FL 33762. We’re meeting the 3rd Wednesday of each month. No pre-registration required! If your schedule permits\, just show up at noon! Private room\, full menu and lunch specials. Their parking lot is very Porsche friendly so it will be an opportunity to show off your car as well!
URL:https://suncoastpca.org/event/monthly-luncheon-4/2030-02-20/
LOCATION:Quaker Steak & Lube\, 10400 49th St. N\, Clearwater\, FL\, 33762\, United States
CATEGORIES:Social
END:VEVENT
BEGIN:VEVENT
DTSTART;TZID=America/New_York:20300221T113000
DTEND;TZID=America/New_York:20300221T113000
DTSTAMP:20260423T191334
CREATED:20260106T152700Z
LAST-MODIFIED:20260106T155333Z
UID:10001257-1897903800-1897903800@suncoastpca.org
SUMMARY:Monthly Luncheon - Sarasota
DESCRIPTION:Join the Suncoast Region of PCA for a south of the Skyway monthly lunch at Gecko’s Grill & Pub located at 351 N Cattlemen Road Sarasota\, FL 34232. \nPlease register so we can provide Gecko’s Grill & Pub with a headcount. Plan to gather between 11:30am and noon Thur.\, January 15\, 2026. \nThe host is Wayne Cree. lbluevet@icloud.org
URL:https://suncoastpca.org/event/monthly-luncheon-7/2030-02-21/
LOCATION:Gecko’s – Fruitville\, 351 N Cattlemen Rd\, Sarasota\, FL\, 34232\, United States
CATEGORIES:Social
END:VEVENT
BEGIN:VEVENT
DTSTART;TZID=America/New_York:20300302T083000
DTEND;TZID=America/New_York:20300302T083000
DTSTAMP:20260423T191334
CREATED:20230804T145344Z
LAST-MODIFIED:20260106T164740Z
UID:10001301-1898670600-1898670600@suncoastpca.org
SUMMARY:Monthly Breakfast - Bradenton
DESCRIPTION:Come join your fellow Suncoast Porsche Club members and guests for our monthly breakfast at Skillets Restaurant! \nREGISTRATION REQUIRED via ClubReg so Skillet’s Bradenton can provide proper staffing for our group.  \nhttps://clubregistration.net/
URL:https://suncoastpca.org/event/monthly-breakfast-at-skillets-3/2030-03-02/
LOCATION:Skillets Bradenton\, 9722 FL-64\, Bradenton\, FL\, 34212\, United States
CATEGORIES:Social
END:VEVENT
BEGIN:VEVENT
DTSTART;TZID=America/New_York:20300316T083000
DTEND;TZID=America/New_York:20300316T083000
DTSTAMP:20260423T191334
CREATED:20220812T212713Z
LAST-MODIFIED:20260106T160125Z
UID:10001278-1899880200-1899880200@suncoastpca.org
SUMMARY:Monthly Breakfast - Venice
DESCRIPTION:Come join your fellow Suncoast Porsche members and guests for the monthly breakfast at Skillets at 4115 South Tamiami Trail South\, in Venice. We will be gathering at 8:30am Saturday\, August 20th. The restaurant can provide seating for us both at tables inside and outside. \nThis a monthly affair on the third Saturday of each month. So plan to come and enjoy each others’ company and make it a habit. \nRegister on ClubReg
URL:https://suncoastpca.org/event/monthly-breakfast-at-skillets/2030-03-16/
LOCATION:Skillets Venice\, 4115 Tamiami Trail S\, Venice\, FL\, 34293\, United States
CATEGORIES:Social
END:VEVENT
BEGIN:VEVENT
DTSTART;TZID=America/New_York:20300320T120000
DTEND;TZID=America/New_York:20300320T120000
DTSTAMP:20260423T191334
CREATED:20221218T140258Z
LAST-MODIFIED:20260106T164716Z
UID:10001289-1900238400-1900238400@suncoastpca.org
SUMMARY:Monthly Luncheon - Clearwater
DESCRIPTION:Tired of the same old sandwiches for lunch? Join your fellow PCA members for great food and interesting conversations at Quaker Steak & Lube\, 10400 49th St. N\, Clearwater\, FL 33762. We’re meeting the 3rd Wednesday of each month. No pre-registration required! If your schedule permits\, just show up at noon! Private room\, full menu and lunch specials. Their parking lot is very Porsche friendly so it will be an opportunity to show off your car as well!
URL:https://suncoastpca.org/event/monthly-luncheon-4/2030-03-20/
LOCATION:Quaker Steak & Lube\, 10400 49th St. N\, Clearwater\, FL\, 33762\, United States
CATEGORIES:Social
END:VEVENT
BEGIN:VEVENT
DTSTART;TZID=America/New_York:20300321T113000
DTEND;TZID=America/New_York:20300321T113000
DTSTAMP:20260423T191334
CREATED:20260106T152700Z
LAST-MODIFIED:20260106T155333Z
UID:10001258-1900323000-1900323000@suncoastpca.org
SUMMARY:Monthly Luncheon - Sarasota
DESCRIPTION:Join the Suncoast Region of PCA for a south of the Skyway monthly lunch at Gecko’s Grill & Pub located at 351 N Cattlemen Road Sarasota\, FL 34232. \nPlease register so we can provide Gecko’s Grill & Pub with a headcount. Plan to gather between 11:30am and noon Thur.\, January 15\, 2026. \nThe host is Wayne Cree. lbluevet@icloud.org
URL:https://suncoastpca.org/event/monthly-luncheon-7/2030-03-21/
LOCATION:Gecko’s – Fruitville\, 351 N Cattlemen Rd\, Sarasota\, FL\, 34232\, United States
CATEGORIES:Social
END:VEVENT
BEGIN:VEVENT
DTSTART;TZID=America/New_York:20300406T083000
DTEND;TZID=America/New_York:20300406T083000
DTSTAMP:20260423T191334
CREATED:20230804T145344Z
LAST-MODIFIED:20260106T164740Z
UID:10001302-1901694600-1901694600@suncoastpca.org
SUMMARY:Monthly Breakfast - Bradenton
DESCRIPTION:Come join your fellow Suncoast Porsche Club members and guests for our monthly breakfast at Skillets Restaurant! \nREGISTRATION REQUIRED via ClubReg so Skillet’s Bradenton can provide proper staffing for our group.  \nhttps://clubregistration.net/
URL:https://suncoastpca.org/event/monthly-breakfast-at-skillets-3/2030-04-06/
LOCATION:Skillets Bradenton\, 9722 FL-64\, Bradenton\, FL\, 34212\, United States
CATEGORIES:Social
END:VEVENT
BEGIN:VEVENT
DTSTART;TZID=America/New_York:20300417T120000
DTEND;TZID=America/New_York:20300417T120000
DTSTAMP:20260423T191334
CREATED:20221218T140258Z
LAST-MODIFIED:20260106T164716Z
UID:10001290-1902657600-1902657600@suncoastpca.org
SUMMARY:Monthly Luncheon - Clearwater
DESCRIPTION:Tired of the same old sandwiches for lunch? Join your fellow PCA members for great food and interesting conversations at Quaker Steak & Lube\, 10400 49th St. N\, Clearwater\, FL 33762. We’re meeting the 3rd Wednesday of each month. No pre-registration required! If your schedule permits\, just show up at noon! Private room\, full menu and lunch specials. Their parking lot is very Porsche friendly so it will be an opportunity to show off your car as well!
URL:https://suncoastpca.org/event/monthly-luncheon-4/2030-04-17/
LOCATION:Quaker Steak & Lube\, 10400 49th St. N\, Clearwater\, FL\, 33762\, United States
CATEGORIES:Social
END:VEVENT
BEGIN:VEVENT
DTSTART;TZID=America/New_York:20300418T113000
DTEND;TZID=America/New_York:20300418T113000
DTSTAMP:20260423T191334
CREATED:20260106T152700Z
LAST-MODIFIED:20260106T155333Z
UID:10001259-1902742200-1902742200@suncoastpca.org
SUMMARY:Monthly Luncheon - Sarasota
DESCRIPTION:Join the Suncoast Region of PCA for a south of the Skyway monthly lunch at Gecko’s Grill & Pub located at 351 N Cattlemen Road Sarasota\, FL 34232. \nPlease register so we can provide Gecko’s Grill & Pub with a headcount. Plan to gather between 11:30am and noon Thur.\, January 15\, 2026. \nThe host is Wayne Cree. lbluevet@icloud.org
URL:https://suncoastpca.org/event/monthly-luncheon-7/2030-04-18/
LOCATION:Gecko’s – Fruitville\, 351 N Cattlemen Rd\, Sarasota\, FL\, 34232\, United States
CATEGORIES:Social
END:VEVENT
BEGIN:VEVENT
DTSTART;TZID=America/New_York:20300420T083000
DTEND;TZID=America/New_York:20300420T083000
DTSTAMP:20260423T191334
CREATED:20220812T212713Z
LAST-MODIFIED:20260106T160125Z
UID:10001279-1902904200-1902904200@suncoastpca.org
SUMMARY:Monthly Breakfast - Venice
DESCRIPTION:Come join your fellow Suncoast Porsche members and guests for the monthly breakfast at Skillets at 4115 South Tamiami Trail South\, in Venice. We will be gathering at 8:30am Saturday\, August 20th. The restaurant can provide seating for us both at tables inside and outside. \nThis a monthly affair on the third Saturday of each month. So plan to come and enjoy each others’ company and make it a habit. \nRegister on ClubReg
URL:https://suncoastpca.org/event/monthly-breakfast-at-skillets/2030-04-20/
LOCATION:Skillets Venice\, 4115 Tamiami Trail S\, Venice\, FL\, 34293\, United States
CATEGORIES:Social
END:VEVENT
BEGIN:VEVENT
DTSTART;TZID=America/New_York:20300504T083000
DTEND;TZID=America/New_York:20300504T083000
DTSTAMP:20260423T191334
CREATED:20230804T145344Z
LAST-MODIFIED:20260106T164740Z
UID:10001303-1904113800-1904113800@suncoastpca.org
SUMMARY:Monthly Breakfast - Bradenton
DESCRIPTION:Come join your fellow Suncoast Porsche Club members and guests for our monthly breakfast at Skillets Restaurant! \nREGISTRATION REQUIRED via ClubReg so Skillet’s Bradenton can provide proper staffing for our group.  \nhttps://clubregistration.net/
URL:https://suncoastpca.org/event/monthly-breakfast-at-skillets-3/2030-05-04/
LOCATION:Skillets Bradenton\, 9722 FL-64\, Bradenton\, FL\, 34212\, United States
CATEGORIES:Social
END:VEVENT
BEGIN:VEVENT
DTSTART;TZID=America/New_York:20300515T120000
DTEND;TZID=America/New_York:20300515T120000
DTSTAMP:20260423T191334
CREATED:20221218T140258Z
LAST-MODIFIED:20260106T164716Z
UID:10001291-1905076800-1905076800@suncoastpca.org
SUMMARY:Monthly Luncheon - Clearwater
DESCRIPTION:Tired of the same old sandwiches for lunch? Join your fellow PCA members for great food and interesting conversations at Quaker Steak & Lube\, 10400 49th St. N\, Clearwater\, FL 33762. We’re meeting the 3rd Wednesday of each month. No pre-registration required! If your schedule permits\, just show up at noon! Private room\, full menu and lunch specials. Their parking lot is very Porsche friendly so it will be an opportunity to show off your car as well!
URL:https://suncoastpca.org/event/monthly-luncheon-4/2030-05-15/
LOCATION:Quaker Steak & Lube\, 10400 49th St. N\, Clearwater\, FL\, 33762\, United States
CATEGORIES:Social
END:VEVENT
BEGIN:VEVENT
DTSTART;TZID=America/New_York:20300516T113000
DTEND;TZID=America/New_York:20300516T113000
DTSTAMP:20260423T191334
CREATED:20260106T152700Z
LAST-MODIFIED:20260106T155333Z
UID:10001260-1905161400-1905161400@suncoastpca.org
SUMMARY:Monthly Luncheon - Sarasota
DESCRIPTION:Join the Suncoast Region of PCA for a south of the Skyway monthly lunch at Gecko’s Grill & Pub located at 351 N Cattlemen Road Sarasota\, FL 34232. \nPlease register so we can provide Gecko’s Grill & Pub with a headcount. Plan to gather between 11:30am and noon Thur.\, January 15\, 2026. \nThe host is Wayne Cree. lbluevet@icloud.org
URL:https://suncoastpca.org/event/monthly-luncheon-7/2030-05-16/
LOCATION:Gecko’s – Fruitville\, 351 N Cattlemen Rd\, Sarasota\, FL\, 34232\, United States
CATEGORIES:Social
END:VEVENT
BEGIN:VEVENT
DTSTART;TZID=America/New_York:20300518T083000
DTEND;TZID=America/New_York:20300518T083000
DTSTAMP:20260423T191334
CREATED:20220812T212713Z
LAST-MODIFIED:20260106T160125Z
UID:10001280-1905323400-1905323400@suncoastpca.org
SUMMARY:Monthly Breakfast - Venice
DESCRIPTION:Come join your fellow Suncoast Porsche members and guests for the monthly breakfast at Skillets at 4115 South Tamiami Trail South\, in Venice. We will be gathering at 8:30am Saturday\, August 20th. The restaurant can provide seating for us both at tables inside and outside. \nThis a monthly affair on the third Saturday of each month. So plan to come and enjoy each others’ company and make it a habit. \nRegister on ClubReg
URL:https://suncoastpca.org/event/monthly-breakfast-at-skillets/2030-05-18/
LOCATION:Skillets Venice\, 4115 Tamiami Trail S\, Venice\, FL\, 34293\, United States
CATEGORIES:Social
END:VEVENT
BEGIN:VEVENT
DTSTART;TZID=America/New_York:20300601T083000
DTEND;TZID=America/New_York:20300601T083000
DTSTAMP:20260423T191334
CREATED:20230804T145344Z
LAST-MODIFIED:20260106T164740Z
UID:10001304-1906533000-1906533000@suncoastpca.org
SUMMARY:Monthly Breakfast - Bradenton
DESCRIPTION:Come join your fellow Suncoast Porsche Club members and guests for our monthly breakfast at Skillets Restaurant! \nREGISTRATION REQUIRED via ClubReg so Skillet’s Bradenton can provide proper staffing for our group.  \nhttps://clubregistration.net/
URL:https://suncoastpca.org/event/monthly-breakfast-at-skillets-3/2030-06-01/
LOCATION:Skillets Bradenton\, 9722 FL-64\, Bradenton\, FL\, 34212\, United States
CATEGORIES:Social
END:VEVENT
BEGIN:VEVENT
DTSTART;TZID=America/New_York:20300615T083000
DTEND;TZID=America/New_York:20300615T083000
DTSTAMP:20260423T191334
CREATED:20220812T212713Z
LAST-MODIFIED:20260106T160125Z
UID:10001281-1907742600-1907742600@suncoastpca.org
SUMMARY:Monthly Breakfast - Venice
DESCRIPTION:Come join your fellow Suncoast Porsche members and guests for the monthly breakfast at Skillets at 4115 South Tamiami Trail South\, in Venice. We will be gathering at 8:30am Saturday\, August 20th. The restaurant can provide seating for us both at tables inside and outside. \nThis a monthly affair on the third Saturday of each month. So plan to come and enjoy each others’ company and make it a habit. \nRegister on ClubReg
URL:https://suncoastpca.org/event/monthly-breakfast-at-skillets/2030-06-15/
LOCATION:Skillets Venice\, 4115 Tamiami Trail S\, Venice\, FL\, 34293\, United States
CATEGORIES:Social
END:VEVENT
BEGIN:VEVENT
DTSTART;TZID=America/New_York:20300619T120000
DTEND;TZID=America/New_York:20300619T120000
DTSTAMP:20260423T191334
CREATED:20221218T140258Z
LAST-MODIFIED:20260106T164716Z
UID:10001292-1908100800-1908100800@suncoastpca.org
SUMMARY:Monthly Luncheon - Clearwater
DESCRIPTION:Tired of the same old sandwiches for lunch? Join your fellow PCA members for great food and interesting conversations at Quaker Steak & Lube\, 10400 49th St. N\, Clearwater\, FL 33762. We’re meeting the 3rd Wednesday of each month. No pre-registration required! If your schedule permits\, just show up at noon! Private room\, full menu and lunch specials. Their parking lot is very Porsche friendly so it will be an opportunity to show off your car as well!
URL:https://suncoastpca.org/event/monthly-luncheon-4/2030-06-19/
LOCATION:Quaker Steak & Lube\, 10400 49th St. N\, Clearwater\, FL\, 33762\, United States
CATEGORIES:Social
END:VEVENT
BEGIN:VEVENT
DTSTART;TZID=America/New_York:20300620T113000
DTEND;TZID=America/New_York:20300620T113000
DTSTAMP:20260423T191334
CREATED:20260106T152700Z
LAST-MODIFIED:20260106T155333Z
UID:10001261-1908185400-1908185400@suncoastpca.org
SUMMARY:Monthly Luncheon - Sarasota
DESCRIPTION:Join the Suncoast Region of PCA for a south of the Skyway monthly lunch at Gecko’s Grill & Pub located at 351 N Cattlemen Road Sarasota\, FL 34232. \nPlease register so we can provide Gecko’s Grill & Pub with a headcount. Plan to gather between 11:30am and noon Thur.\, January 15\, 2026. \nThe host is Wayne Cree. lbluevet@icloud.org
URL:https://suncoastpca.org/event/monthly-luncheon-7/2030-06-20/
LOCATION:Gecko’s – Fruitville\, 351 N Cattlemen Rd\, Sarasota\, FL\, 34232\, United States
CATEGORIES:Social
END:VEVENT
BEGIN:VEVENT
DTSTART;TZID=America/New_York:20300706T083000
DTEND;TZID=America/New_York:20300706T083000
DTSTAMP:20260423T191334
CREATED:20230804T145344Z
LAST-MODIFIED:20260106T164740Z
UID:10001305-1909557000-1909557000@suncoastpca.org
SUMMARY:Monthly Breakfast - Bradenton
DESCRIPTION:Come join your fellow Suncoast Porsche Club members and guests for our monthly breakfast at Skillets Restaurant! \nREGISTRATION REQUIRED via ClubReg so Skillet’s Bradenton can provide proper staffing for our group.  \nhttps://clubregistration.net/
URL:https://suncoastpca.org/event/monthly-breakfast-at-skillets-3/2030-07-06/
LOCATION:Skillets Bradenton\, 9722 FL-64\, Bradenton\, FL\, 34212\, United States
CATEGORIES:Social
END:VEVENT
BEGIN:VEVENT
DTSTART;TZID=America/New_York:20300717T120000
DTEND;TZID=America/New_York:20300717T120000
DTSTAMP:20260423T191334
CREATED:20221218T140258Z
LAST-MODIFIED:20260106T164716Z
UID:10001293-1910520000-1910520000@suncoastpca.org
SUMMARY:Monthly Luncheon - Clearwater
DESCRIPTION:Tired of the same old sandwiches for lunch? Join your fellow PCA members for great food and interesting conversations at Quaker Steak & Lube\, 10400 49th St. N\, Clearwater\, FL 33762. We’re meeting the 3rd Wednesday of each month. No pre-registration required! If your schedule permits\, just show up at noon! Private room\, full menu and lunch specials. Their parking lot is very Porsche friendly so it will be an opportunity to show off your car as well!
URL:https://suncoastpca.org/event/monthly-luncheon-4/2030-07-17/
LOCATION:Quaker Steak & Lube\, 10400 49th St. N\, Clearwater\, FL\, 33762\, United States
CATEGORIES:Social
END:VEVENT
BEGIN:VEVENT
DTSTART;TZID=America/New_York:20300718T113000
DTEND;TZID=America/New_York:20300718T113000
DTSTAMP:20260423T191334
CREATED:20260106T152700Z
LAST-MODIFIED:20260106T155333Z
UID:10001262-1910604600-1910604600@suncoastpca.org
SUMMARY:Monthly Luncheon - Sarasota
DESCRIPTION:Join the Suncoast Region of PCA for a south of the Skyway monthly lunch at Gecko’s Grill & Pub located at 351 N Cattlemen Road Sarasota\, FL 34232. \nPlease register so we can provide Gecko’s Grill & Pub with a headcount. Plan to gather between 11:30am and noon Thur.\, January 15\, 2026. \nThe host is Wayne Cree. lbluevet@icloud.org
URL:https://suncoastpca.org/event/monthly-luncheon-7/2030-07-18/
LOCATION:Gecko’s – Fruitville\, 351 N Cattlemen Rd\, Sarasota\, FL\, 34232\, United States
CATEGORIES:Social
END:VEVENT
BEGIN:VEVENT
DTSTART;TZID=America/New_York:20300720T083000
DTEND;TZID=America/New_York:20300720T083000
DTSTAMP:20260423T191334
CREATED:20220812T212713Z
LAST-MODIFIED:20260106T160125Z
UID:10001282-1910766600-1910766600@suncoastpca.org
SUMMARY:Monthly Breakfast - Venice
DESCRIPTION:Come join your fellow Suncoast Porsche members and guests for the monthly breakfast at Skillets at 4115 South Tamiami Trail South\, in Venice. We will be gathering at 8:30am Saturday\, August 20th. The restaurant can provide seating for us both at tables inside and outside. \nThis a monthly affair on the third Saturday of each month. So plan to come and enjoy each others’ company and make it a habit. \nRegister on ClubReg
URL:https://suncoastpca.org/event/monthly-breakfast-at-skillets/2030-07-20/
LOCATION:Skillets Venice\, 4115 Tamiami Trail S\, Venice\, FL\, 34293\, United States
CATEGORIES:Social
END:VEVENT
BEGIN:VEVENT
DTSTART;TZID=America/New_York:20300803T083000
DTEND;TZID=America/New_York:20300803T083000
DTSTAMP:20260423T191334
CREATED:20230804T145344Z
LAST-MODIFIED:20260106T164740Z
UID:10001306-1911976200-1911976200@suncoastpca.org
SUMMARY:Monthly Breakfast - Bradenton
DESCRIPTION:Come join your fellow Suncoast Porsche Club members and guests for our monthly breakfast at Skillets Restaurant! \nREGISTRATION REQUIRED via ClubReg so Skillet’s Bradenton can provide proper staffing for our group.  \nhttps://clubregistration.net/
URL:https://suncoastpca.org/event/monthly-breakfast-at-skillets-3/2030-08-03/
LOCATION:Skillets Bradenton\, 9722 FL-64\, Bradenton\, FL\, 34212\, United States
CATEGORIES:Social
END:VEVENT
BEGIN:VEVENT
DTSTART;TZID=America/New_York:20300815T113000
DTEND;TZID=America/New_York:20300815T113000
DTSTAMP:20260423T191334
CREATED:20260106T152700Z
LAST-MODIFIED:20260106T155333Z
UID:10001263-1913023800-1913023800@suncoastpca.org
SUMMARY:Monthly Luncheon - Sarasota
DESCRIPTION:Join the Suncoast Region of PCA for a south of the Skyway monthly lunch at Gecko’s Grill & Pub located at 351 N Cattlemen Road Sarasota\, FL 34232. \nPlease register so we can provide Gecko’s Grill & Pub with a headcount. Plan to gather between 11:30am and noon Thur.\, January 15\, 2026. \nThe host is Wayne Cree. lbluevet@icloud.org
URL:https://suncoastpca.org/event/monthly-luncheon-7/2030-08-15/
LOCATION:Gecko’s – Fruitville\, 351 N Cattlemen Rd\, Sarasota\, FL\, 34232\, United States
CATEGORIES:Social
END:VEVENT
BEGIN:VEVENT
DTSTART;TZID=America/New_York:20300817T083000
DTEND;TZID=America/New_York:20300817T083000
DTSTAMP:20260423T191334
CREATED:20220812T212713Z
LAST-MODIFIED:20260106T160125Z
UID:10001283-1913185800-1913185800@suncoastpca.org
SUMMARY:Monthly Breakfast - Venice
DESCRIPTION:Come join your fellow Suncoast Porsche members and guests for the monthly breakfast at Skillets at 4115 South Tamiami Trail South\, in Venice. We will be gathering at 8:30am Saturday\, August 20th. The restaurant can provide seating for us both at tables inside and outside. \nThis a monthly affair on the third Saturday of each month. So plan to come and enjoy each others’ company and make it a habit. \nRegister on ClubReg
URL:https://suncoastpca.org/event/monthly-breakfast-at-skillets/2030-08-17/
LOCATION:Skillets Venice\, 4115 Tamiami Trail S\, Venice\, FL\, 34293\, United States
CATEGORIES:Social
END:VEVENT
BEGIN:VEVENT
DTSTART;TZID=America/New_York:20300821T120000
DTEND;TZID=America/New_York:20300821T120000
DTSTAMP:20260423T191334
CREATED:20221218T140258Z
LAST-MODIFIED:20260106T164716Z
UID:10001294-1913544000-1913544000@suncoastpca.org
SUMMARY:Monthly Luncheon - Clearwater
DESCRIPTION:Tired of the same old sandwiches for lunch? Join your fellow PCA members for great food and interesting conversations at Quaker Steak & Lube\, 10400 49th St. N\, Clearwater\, FL 33762. We’re meeting the 3rd Wednesday of each month. No pre-registration required! If your schedule permits\, just show up at noon! Private room\, full menu and lunch specials. Their parking lot is very Porsche friendly so it will be an opportunity to show off your car as well!
URL:https://suncoastpca.org/event/monthly-luncheon-4/2030-08-21/
LOCATION:Quaker Steak & Lube\, 10400 49th St. N\, Clearwater\, FL\, 33762\, United States
CATEGORIES:Social
END:VEVENT
BEGIN:VEVENT
DTSTART;TZID=America/New_York:20300907T083000
DTEND;TZID=America/New_York:20300907T083000
DTSTAMP:20260423T191334
CREATED:20230804T145344Z
LAST-MODIFIED:20260106T164740Z
UID:10001307-1915000200-1915000200@suncoastpca.org
SUMMARY:Monthly Breakfast - Bradenton
DESCRIPTION:Come join your fellow Suncoast Porsche Club members and guests for our monthly breakfast at Skillets Restaurant! \nREGISTRATION REQUIRED via ClubReg so Skillet’s Bradenton can provide proper staffing for our group.  \nhttps://clubregistration.net/
URL:https://suncoastpca.org/event/monthly-breakfast-at-skillets-3/2030-09-07/
LOCATION:Skillets Bradenton\, 9722 FL-64\, Bradenton\, FL\, 34212\, United States
CATEGORIES:Social
END:VEVENT
BEGIN:VEVENT
DTSTART;TZID=America/New_York:20300918T120000
DTEND;TZID=America/New_York:20300918T120000
DTSTAMP:20260423T191334
CREATED:20221218T140258Z
LAST-MODIFIED:20260106T164716Z
UID:10001295-1915963200-1915963200@suncoastpca.org
SUMMARY:Monthly Luncheon - Clearwater
DESCRIPTION:Tired of the same old sandwiches for lunch? Join your fellow PCA members for great food and interesting conversations at Quaker Steak & Lube\, 10400 49th St. N\, Clearwater\, FL 33762. We’re meeting the 3rd Wednesday of each month. No pre-registration required! If your schedule permits\, just show up at noon! Private room\, full menu and lunch specials. Their parking lot is very Porsche friendly so it will be an opportunity to show off your car as well!
URL:https://suncoastpca.org/event/monthly-luncheon-4/2030-09-18/
LOCATION:Quaker Steak & Lube\, 10400 49th St. N\, Clearwater\, FL\, 33762\, United States
CATEGORIES:Social
END:VEVENT
BEGIN:VEVENT
DTSTART;TZID=America/New_York:20300919T113000
DTEND;TZID=America/New_York:20300919T113000
DTSTAMP:20260423T191334
CREATED:20260106T152700Z
LAST-MODIFIED:20260106T155333Z
UID:10001264-1916047800-1916047800@suncoastpca.org
SUMMARY:Monthly Luncheon - Sarasota
DESCRIPTION:Join the Suncoast Region of PCA for a south of the Skyway monthly lunch at Gecko’s Grill & Pub located at 351 N Cattlemen Road Sarasota\, FL 34232. \nPlease register so we can provide Gecko’s Grill & Pub with a headcount. Plan to gather between 11:30am and noon Thur.\, January 15\, 2026. \nThe host is Wayne Cree. lbluevet@icloud.org
URL:https://suncoastpca.org/event/monthly-luncheon-7/2030-09-19/
LOCATION:Gecko’s – Fruitville\, 351 N Cattlemen Rd\, Sarasota\, FL\, 34232\, United States
CATEGORIES:Social
END:VEVENT
END:VCALENDAR