BEGIN:VCALENDAR
VERSION:2.0
PRODID:-//Suncoast Florida Region - PCA - ECPv6.15.20//NONSGML v1.0//EN
CALSCALE:GREGORIAN
METHOD:PUBLISH
X-WR-CALNAME:Suncoast Florida Region - PCA
X-ORIGINAL-URL:https://suncoastpca.org
X-WR-CALDESC:Events for Suncoast Florida Region - PCA
REFRESH-INTERVAL;VALUE=DURATION:PT1H
X-Robots-Tag:noindex
X-PUBLISHED-TTL:PT1H
BEGIN:VTIMEZONE
TZID:America/New_York
BEGIN:DAYLIGHT
TZOFFSETFROM:-0500
TZOFFSETTO:-0400
TZNAME:EDT
DTSTART:20250309T070000
END:DAYLIGHT
BEGIN:STANDARD
TZOFFSETFROM:-0400
TZOFFSETTO:-0500
TZNAME:EST
DTSTART:20251102T060000
END:STANDARD
BEGIN:DAYLIGHT
TZOFFSETFROM:-0500
TZOFFSETTO:-0400
TZNAME:EDT
DTSTART:20260308T070000
END:DAYLIGHT
BEGIN:STANDARD
TZOFFSETFROM:-0400
TZOFFSETTO:-0500
TZNAME:EST
DTSTART:20261101T060000
END:STANDARD
BEGIN:DAYLIGHT
TZOFFSETFROM:-0500
TZOFFSETTO:-0400
TZNAME:EDT
DTSTART:20270314T070000
END:DAYLIGHT
BEGIN:STANDARD
TZOFFSETFROM:-0400
TZOFFSETTO:-0500
TZNAME:EST
DTSTART:20271107T060000
END:STANDARD
END:VTIMEZONE
BEGIN:VEVENT
DTSTART;TZID=America/New_York:20261023T080000
DTEND;TZID=America/New_York:20261025T170000
DTSTAMP:20260423T004529
CREATED:20251114T140341Z
LAST-MODIFIED:20251114T140341Z
UID:10001197-1792742400-1792947600@suncoastpca.org
SUMMARY:Driver's Education
DESCRIPTION:
URL:https://suncoastpca.org/event/drivers-education-78/
LOCATION:Sebring International Raceway\, 113 Midway Drive\, Sebring\, FL\, 33870\, United States
CATEGORIES:Driver's Education
END:VEVENT
BEGIN:VEVENT
DTSTART;TZID=America/New_York:20261021T120000
DTEND;TZID=America/New_York:20261021T120000
DTSTAMP:20260423T004529
CREATED:20221218T140258Z
LAST-MODIFIED:20260106T164716Z
UID:10001128-1792584000-1792584000@suncoastpca.org
SUMMARY:Monthly Luncheon - Clearwater
DESCRIPTION:Tired of the same old sandwiches for lunch? Join your fellow PCA members for great food and interesting conversations at Quaker Steak & Lube\, 10400 49th St. N\, Clearwater\, FL 33762. We’re meeting the 3rd Wednesday of each month. No pre-registration required! If your schedule permits\, just show up at noon! Private room\, full menu and lunch specials. Their parking lot is very Porsche friendly so it will be an opportunity to show off your car as well!
URL:https://suncoastpca.org/event/monthly-luncheon-4/2026-10-21/
LOCATION:Quaker Steak & Lube\, 10400 49th St. N\, Clearwater\, FL\, 33762\, United States
CATEGORIES:Social
END:VEVENT
BEGIN:VEVENT
DTSTART;TZID=America/New_York:20261017T083000
DTEND;TZID=America/New_York:20261017T083000
DTSTAMP:20260423T004529
CREATED:20220812T212713Z
LAST-MODIFIED:20260106T160125Z
UID:10000991-1792225800-1792225800@suncoastpca.org
SUMMARY:Monthly Breakfast - Venice
DESCRIPTION:Come join your fellow Suncoast Porsche members and guests for the monthly breakfast at Skillets at 4115 South Tamiami Trail South\, in Venice. We will be gathering at 8:30am Saturday\, August 20th. The restaurant can provide seating for us both at tables inside and outside. \nThis a monthly affair on the third Saturday of each month. So plan to come and enjoy each others’ company and make it a habit. \nRegister on ClubReg
URL:https://suncoastpca.org/event/monthly-breakfast-at-skillets/2026-10-17/
LOCATION:Skillets Venice\, 4115 Tamiami Trail S\, Venice\, FL\, 34293\, United States
CATEGORIES:Social
END:VEVENT
BEGIN:VEVENT
DTSTART;TZID=America/New_York:20261015T113000
DTEND;TZID=America/New_York:20261015T113000
DTSTAMP:20260423T004529
CREATED:20260106T152700Z
LAST-MODIFIED:20260106T155333Z
UID:10001217-1792063800-1792063800@suncoastpca.org
SUMMARY:Monthly Luncheon - Sarasota
DESCRIPTION:Join the Suncoast Region of PCA for a south of the Skyway monthly lunch at Gecko’s Grill & Pub located at 351 N Cattlemen Road Sarasota\, FL 34232. \nPlease register so we can provide Gecko’s Grill & Pub with a headcount. Plan to gather between 11:30am and noon Thur.\, January 15\, 2026. \nThe host is Wayne Cree. lbluevet@icloud.org
URL:https://suncoastpca.org/event/monthly-luncheon-7/2026-10-15/
LOCATION:Gecko’s – Fruitville\, 351 N Cattlemen Rd\, Sarasota\, FL\, 34232\, United States
CATEGORIES:Social
END:VEVENT
BEGIN:VEVENT
DTSTART;TZID=America/New_York:20261003T083000
DTEND;TZID=America/New_York:20261003T083000
DTSTAMP:20260423T004529
CREATED:20230804T145344Z
LAST-MODIFIED:20260106T164740Z
UID:10000929-1791016200-1791016200@suncoastpca.org
SUMMARY:Monthly Breakfast - Bradenton
DESCRIPTION:Come join your fellow Suncoast Porsche Club members and guests for our monthly breakfast at Skillets Restaurant! \nREGISTRATION REQUIRED via ClubReg so Skillet’s Bradenton can provide proper staffing for our group.  \nhttps://clubregistration.net/
URL:https://suncoastpca.org/event/monthly-breakfast-at-skillets-3/2026-10-03/
LOCATION:Skillets Bradenton\, 9722 FL-64\, Bradenton\, FL\, 34212\, United States
CATEGORIES:Social
END:VEVENT
BEGIN:VEVENT
DTSTART;TZID=America/New_York:20260919T083000
DTEND;TZID=America/New_York:20260919T083000
DTSTAMP:20260423T004529
CREATED:20220812T212713Z
LAST-MODIFIED:20260106T160125Z
UID:10000990-1789806600-1789806600@suncoastpca.org
SUMMARY:Monthly Breakfast - Venice
DESCRIPTION:Come join your fellow Suncoast Porsche members and guests for the monthly breakfast at Skillets at 4115 South Tamiami Trail South\, in Venice. We will be gathering at 8:30am Saturday\, August 20th. The restaurant can provide seating for us both at tables inside and outside. \nThis a monthly affair on the third Saturday of each month. So plan to come and enjoy each others’ company and make it a habit. \nRegister on ClubReg
URL:https://suncoastpca.org/event/monthly-breakfast-at-skillets/2026-09-19/
LOCATION:Skillets Venice\, 4115 Tamiami Trail S\, Venice\, FL\, 34293\, United States
CATEGORIES:Social
END:VEVENT
BEGIN:VEVENT
DTSTART;TZID=America/New_York:20260917T113000
DTEND;TZID=America/New_York:20260917T113000
DTSTAMP:20260423T004529
CREATED:20260106T152700Z
LAST-MODIFIED:20260106T155333Z
UID:10001216-1789644600-1789644600@suncoastpca.org
SUMMARY:Monthly Luncheon - Sarasota
DESCRIPTION:Join the Suncoast Region of PCA for a south of the Skyway monthly lunch at Gecko’s Grill & Pub located at 351 N Cattlemen Road Sarasota\, FL 34232. \nPlease register so we can provide Gecko’s Grill & Pub with a headcount. Plan to gather between 11:30am and noon Thur.\, January 15\, 2026. \nThe host is Wayne Cree. lbluevet@icloud.org
URL:https://suncoastpca.org/event/monthly-luncheon-7/2026-09-17/
LOCATION:Gecko’s – Fruitville\, 351 N Cattlemen Rd\, Sarasota\, FL\, 34232\, United States
CATEGORIES:Social
END:VEVENT
BEGIN:VEVENT
DTSTART;TZID=America/New_York:20260916T120000
DTEND;TZID=America/New_York:20260916T120000
DTSTAMP:20260423T004529
CREATED:20221218T140258Z
LAST-MODIFIED:20260106T164716Z
UID:10001127-1789560000-1789560000@suncoastpca.org
SUMMARY:Monthly Luncheon - Clearwater
DESCRIPTION:Tired of the same old sandwiches for lunch? Join your fellow PCA members for great food and interesting conversations at Quaker Steak & Lube\, 10400 49th St. N\, Clearwater\, FL 33762. We’re meeting the 3rd Wednesday of each month. No pre-registration required! If your schedule permits\, just show up at noon! Private room\, full menu and lunch specials. Their parking lot is very Porsche friendly so it will be an opportunity to show off your car as well!
URL:https://suncoastpca.org/event/monthly-luncheon-4/2026-09-16/
LOCATION:Quaker Steak & Lube\, 10400 49th St. N\, Clearwater\, FL\, 33762\, United States
CATEGORIES:Social
END:VEVENT
BEGIN:VEVENT
DTSTART;TZID=America/New_York:20260912T080000
DTEND;TZID=America/New_York:20260913T170000
DTSTAMP:20260423T004529
CREATED:20251114T140315Z
LAST-MODIFIED:20251114T140315Z
UID:10001196-1789200000-1789318800@suncoastpca.org
SUMMARY:Driver's Education
DESCRIPTION:
URL:https://suncoastpca.org/event/drivers-education-77/
LOCATION:Sebring International Raceway\, 113 Midway Drive\, Sebring\, FL\, 33870\, United States
CATEGORIES:Driver's Education
END:VEVENT
BEGIN:VEVENT
DTSTART;TZID=America/New_York:20260905T083000
DTEND;TZID=America/New_York:20260905T083000
DTSTAMP:20260423T004529
CREATED:20230804T145344Z
LAST-MODIFIED:20260106T164740Z
UID:10000928-1788597000-1788597000@suncoastpca.org
SUMMARY:Monthly Breakfast - Bradenton
DESCRIPTION:Come join your fellow Suncoast Porsche Club members and guests for our monthly breakfast at Skillets Restaurant! \nREGISTRATION REQUIRED via ClubReg so Skillet’s Bradenton can provide proper staffing for our group.  \nhttps://clubregistration.net/
URL:https://suncoastpca.org/event/monthly-breakfast-at-skillets-3/2026-09-05/
LOCATION:Skillets Bradenton\, 9722 FL-64\, Bradenton\, FL\, 34212\, United States
CATEGORIES:Social
END:VEVENT
BEGIN:VEVENT
DTSTART;TZID=America/New_York:20260820T113000
DTEND;TZID=America/New_York:20260820T113000
DTSTAMP:20260423T004529
CREATED:20260106T152700Z
LAST-MODIFIED:20260106T155333Z
UID:10001215-1787225400-1787225400@suncoastpca.org
SUMMARY:Monthly Luncheon - Sarasota
DESCRIPTION:Join the Suncoast Region of PCA for a south of the Skyway monthly lunch at Gecko’s Grill & Pub located at 351 N Cattlemen Road Sarasota\, FL 34232. \nPlease register so we can provide Gecko’s Grill & Pub with a headcount. Plan to gather between 11:30am and noon Thur.\, January 15\, 2026. \nThe host is Wayne Cree. lbluevet@icloud.org
URL:https://suncoastpca.org/event/monthly-luncheon-7/2026-08-20/
LOCATION:Gecko’s – Fruitville\, 351 N Cattlemen Rd\, Sarasota\, FL\, 34232\, United States
CATEGORIES:Social
END:VEVENT
BEGIN:VEVENT
DTSTART;TZID=America/New_York:20260819T120000
DTEND;TZID=America/New_York:20260819T120000
DTSTAMP:20260423T004529
CREATED:20221218T140258Z
LAST-MODIFIED:20260106T164716Z
UID:10001126-1787140800-1787140800@suncoastpca.org
SUMMARY:Monthly Luncheon - Clearwater
DESCRIPTION:Tired of the same old sandwiches for lunch? Join your fellow PCA members for great food and interesting conversations at Quaker Steak & Lube\, 10400 49th St. N\, Clearwater\, FL 33762. We’re meeting the 3rd Wednesday of each month. No pre-registration required! If your schedule permits\, just show up at noon! Private room\, full menu and lunch specials. Their parking lot is very Porsche friendly so it will be an opportunity to show off your car as well!
URL:https://suncoastpca.org/event/monthly-luncheon-4/2026-08-19/
LOCATION:Quaker Steak & Lube\, 10400 49th St. N\, Clearwater\, FL\, 33762\, United States
CATEGORIES:Social
END:VEVENT
BEGIN:VEVENT
DTSTART;TZID=America/New_York:20260815T083000
DTEND;TZID=America/New_York:20260815T083000
DTSTAMP:20260423T004529
CREATED:20220812T212713Z
LAST-MODIFIED:20260106T160125Z
UID:10000989-1786782600-1786782600@suncoastpca.org
SUMMARY:Monthly Breakfast - Venice
DESCRIPTION:Come join your fellow Suncoast Porsche members and guests for the monthly breakfast at Skillets at 4115 South Tamiami Trail South\, in Venice. We will be gathering at 8:30am Saturday\, August 20th. The restaurant can provide seating for us both at tables inside and outside. \nThis a monthly affair on the third Saturday of each month. So plan to come and enjoy each others’ company and make it a habit. \nRegister on ClubReg
URL:https://suncoastpca.org/event/monthly-breakfast-at-skillets/2026-08-15/
LOCATION:Skillets Venice\, 4115 Tamiami Trail S\, Venice\, FL\, 34293\, United States
CATEGORIES:Social
END:VEVENT
BEGIN:VEVENT
DTSTART;TZID=America/New_York:20260801T083000
DTEND;TZID=America/New_York:20260801T083000
DTSTAMP:20260423T004529
CREATED:20230804T145344Z
LAST-MODIFIED:20260106T164740Z
UID:10000927-1785573000-1785573000@suncoastpca.org
SUMMARY:Monthly Breakfast - Bradenton
DESCRIPTION:Come join your fellow Suncoast Porsche Club members and guests for our monthly breakfast at Skillets Restaurant! \nREGISTRATION REQUIRED via ClubReg so Skillet’s Bradenton can provide proper staffing for our group.  \nhttps://clubregistration.net/
URL:https://suncoastpca.org/event/monthly-breakfast-at-skillets-3/2026-08-01/
LOCATION:Skillets Bradenton\, 9722 FL-64\, Bradenton\, FL\, 34212\, United States
CATEGORIES:Social
END:VEVENT
BEGIN:VEVENT
DTSTART;TZID=America/New_York:20260725T080000
DTEND;TZID=America/New_York:20260726T170000
DTSTAMP:20260423T004529
CREATED:20251114T140255Z
LAST-MODIFIED:20251114T140255Z
UID:10001195-1784966400-1785085200@suncoastpca.org
SUMMARY:Driver's Education
DESCRIPTION:
URL:https://suncoastpca.org/event/drivers-education-76/
LOCATION:Sebring International Raceway\, 113 Midway Drive\, Sebring\, FL\, 33870\, United States
CATEGORIES:Driver's Education
END:VEVENT
BEGIN:VEVENT
DTSTART;TZID=America/New_York:20260718T083000
DTEND;TZID=America/New_York:20260718T083000
DTSTAMP:20260423T004529
CREATED:20220812T212713Z
LAST-MODIFIED:20260106T160125Z
UID:10000988-1784363400-1784363400@suncoastpca.org
SUMMARY:Monthly Breakfast - Venice
DESCRIPTION:Come join your fellow Suncoast Porsche members and guests for the monthly breakfast at Skillets at 4115 South Tamiami Trail South\, in Venice. We will be gathering at 8:30am Saturday\, August 20th. The restaurant can provide seating for us both at tables inside and outside. \nThis a monthly affair on the third Saturday of each month. So plan to come and enjoy each others’ company and make it a habit. \nRegister on ClubReg
URL:https://suncoastpca.org/event/monthly-breakfast-at-skillets/2026-07-18/
LOCATION:Skillets Venice\, 4115 Tamiami Trail S\, Venice\, FL\, 34293\, United States
CATEGORIES:Social
END:VEVENT
BEGIN:VEVENT
DTSTART;TZID=America/New_York:20260716T113000
DTEND;TZID=America/New_York:20260716T113000
DTSTAMP:20260423T004529
CREATED:20260106T152700Z
LAST-MODIFIED:20260106T155333Z
UID:10001214-1784201400-1784201400@suncoastpca.org
SUMMARY:Monthly Luncheon - Sarasota
DESCRIPTION:Join the Suncoast Region of PCA for a south of the Skyway monthly lunch at Gecko’s Grill & Pub located at 351 N Cattlemen Road Sarasota\, FL 34232. \nPlease register so we can provide Gecko’s Grill & Pub with a headcount. Plan to gather between 11:30am and noon Thur.\, January 15\, 2026. \nThe host is Wayne Cree. lbluevet@icloud.org
URL:https://suncoastpca.org/event/monthly-luncheon-7/2026-07-16/
LOCATION:Gecko’s – Fruitville\, 351 N Cattlemen Rd\, Sarasota\, FL\, 34232\, United States
CATEGORIES:Social
END:VEVENT
BEGIN:VEVENT
DTSTART;TZID=America/New_York:20260715T120000
DTEND;TZID=America/New_York:20260715T120000
DTSTAMP:20260423T004529
CREATED:20221218T140258Z
LAST-MODIFIED:20260106T164716Z
UID:10001125-1784116800-1784116800@suncoastpca.org
SUMMARY:Monthly Luncheon - Clearwater
DESCRIPTION:Tired of the same old sandwiches for lunch? Join your fellow PCA members for great food and interesting conversations at Quaker Steak & Lube\, 10400 49th St. N\, Clearwater\, FL 33762. We’re meeting the 3rd Wednesday of each month. No pre-registration required! If your schedule permits\, just show up at noon! Private room\, full menu and lunch specials. Their parking lot is very Porsche friendly so it will be an opportunity to show off your car as well!
URL:https://suncoastpca.org/event/monthly-luncheon-4/2026-07-15/
LOCATION:Quaker Steak & Lube\, 10400 49th St. N\, Clearwater\, FL\, 33762\, United States
CATEGORIES:Social
END:VEVENT
BEGIN:VEVENT
DTSTART;TZID=America/New_York:20260704T083000
DTEND;TZID=America/New_York:20260704T083000
DTSTAMP:20260423T004529
CREATED:20230804T145344Z
LAST-MODIFIED:20260106T164740Z
UID:10000926-1783153800-1783153800@suncoastpca.org
SUMMARY:Monthly Breakfast - Bradenton
DESCRIPTION:Come join your fellow Suncoast Porsche Club members and guests for our monthly breakfast at Skillets Restaurant! \nREGISTRATION REQUIRED via ClubReg so Skillet’s Bradenton can provide proper staffing for our group.  \nhttps://clubregistration.net/
URL:https://suncoastpca.org/event/monthly-breakfast-at-skillets-3/2026-07-04/
LOCATION:Skillets Bradenton\, 9722 FL-64\, Bradenton\, FL\, 34212\, United States
CATEGORIES:Social
END:VEVENT
BEGIN:VEVENT
DTSTART;TZID=America/New_York:20260620T083000
DTEND;TZID=America/New_York:20260620T083000
DTSTAMP:20260423T004529
CREATED:20220812T212713Z
LAST-MODIFIED:20260106T160125Z
UID:10000987-1781944200-1781944200@suncoastpca.org
SUMMARY:Monthly Breakfast - Venice
DESCRIPTION:Come join your fellow Suncoast Porsche members and guests for the monthly breakfast at Skillets at 4115 South Tamiami Trail South\, in Venice. We will be gathering at 8:30am Saturday\, August 20th. The restaurant can provide seating for us both at tables inside and outside. \nThis a monthly affair on the third Saturday of each month. So plan to come and enjoy each others’ company and make it a habit. \nRegister on ClubReg
URL:https://suncoastpca.org/event/monthly-breakfast-at-skillets/2026-06-20/
LOCATION:Skillets Venice\, 4115 Tamiami Trail S\, Venice\, FL\, 34293\, United States
CATEGORIES:Social
END:VEVENT
BEGIN:VEVENT
DTSTART;TZID=America/New_York:20260620T080000
DTEND;TZID=America/New_York:20260621T170000
DTSTAMP:20260423T004529
CREATED:20251114T140235Z
LAST-MODIFIED:20251114T140235Z
UID:10001194-1781942400-1782061200@suncoastpca.org
SUMMARY:Driver's Education
DESCRIPTION:
URL:https://suncoastpca.org/event/drivers-education-75/
LOCATION:Sebring International Raceway\, 113 Midway Drive\, Sebring\, FL\, 33870\, United States
CATEGORIES:Driver's Education
END:VEVENT
BEGIN:VEVENT
DTSTART;TZID=America/New_York:20260618T113000
DTEND;TZID=America/New_York:20260618T113000
DTSTAMP:20260423T004529
CREATED:20260106T152700Z
LAST-MODIFIED:20260106T155333Z
UID:10001213-1781782200-1781782200@suncoastpca.org
SUMMARY:Monthly Luncheon - Sarasota
DESCRIPTION:Join the Suncoast Region of PCA for a south of the Skyway monthly lunch at Gecko’s Grill & Pub located at 351 N Cattlemen Road Sarasota\, FL 34232. \nPlease register so we can provide Gecko’s Grill & Pub with a headcount. Plan to gather between 11:30am and noon Thur.\, January 15\, 2026. \nThe host is Wayne Cree. lbluevet@icloud.org
URL:https://suncoastpca.org/event/monthly-luncheon-7/2026-06-18/
LOCATION:Gecko’s – Fruitville\, 351 N Cattlemen Rd\, Sarasota\, FL\, 34232\, United States
CATEGORIES:Social
END:VEVENT
BEGIN:VEVENT
DTSTART;TZID=America/New_York:20260617T120000
DTEND;TZID=America/New_York:20260617T120000
DTSTAMP:20260423T004529
CREATED:20221218T140258Z
LAST-MODIFIED:20260106T164716Z
UID:10001124-1781697600-1781697600@suncoastpca.org
SUMMARY:Monthly Luncheon - Clearwater
DESCRIPTION:Tired of the same old sandwiches for lunch? Join your fellow PCA members for great food and interesting conversations at Quaker Steak & Lube\, 10400 49th St. N\, Clearwater\, FL 33762. We’re meeting the 3rd Wednesday of each month. No pre-registration required! If your schedule permits\, just show up at noon! Private room\, full menu and lunch specials. Their parking lot is very Porsche friendly so it will be an opportunity to show off your car as well!
URL:https://suncoastpca.org/event/monthly-luncheon-4/2026-06-17/
LOCATION:Quaker Steak & Lube\, 10400 49th St. N\, Clearwater\, FL\, 33762\, United States
CATEGORIES:Social
END:VEVENT
BEGIN:VEVENT
DTSTART;TZID=America/New_York:20260606T083000
DTEND;TZID=America/New_York:20260606T083000
DTSTAMP:20260423T004529
CREATED:20230804T145344Z
LAST-MODIFIED:20260106T164740Z
UID:10000925-1780734600-1780734600@suncoastpca.org
SUMMARY:Monthly Breakfast - Bradenton
DESCRIPTION:Come join your fellow Suncoast Porsche Club members and guests for our monthly breakfast at Skillets Restaurant! \nREGISTRATION REQUIRED via ClubReg so Skillet’s Bradenton can provide proper staffing for our group.  \nhttps://clubregistration.net/
URL:https://suncoastpca.org/event/monthly-breakfast-at-skillets-3/2026-06-06/
LOCATION:Skillets Bradenton\, 9722 FL-64\, Bradenton\, FL\, 34212\, United States
CATEGORIES:Social
END:VEVENT
BEGIN:VEVENT
DTSTART;TZID=America/New_York:20260531T080000
DTEND;TZID=America/New_York:20260531T170000
DTSTAMP:20260423T004529
CREATED:20251219T161114Z
LAST-MODIFIED:20251219T161114Z
UID:10001206-1780214400-1780246800@suncoastpca.org
SUMMARY:Autocross
DESCRIPTION:**Read Entire Description** – Events have been reaching max capacity\, so we will have to prioritize registrations by: Current PCA membership validated in your Clubreg profile; Porsche cars; BMWCCA Club Members (driving BMW) and Guests only are invited to register on 5/1/26.  \nDO NOT MAKE PAYMENT in advance if you are not a PCA/BMWCC member as you will be charged the credit card fee to cancel your payment. We will email you if we are able to move you from the Waitlist to “Pending” status to make payment.  \nEvent will be capped at approximately 40 drivers and up to 10 registered guests. Registration will close on May 23rd and cancellations must be submitted prior to that date for refund (less credit card processing fee). NO on-site registrations will be allowed. \nPre-payment (current/active PCA MEMBERSHIP # MUST be listed in your Clubreg Profile to qualify for the Member rate of $50)\, and the PCA Event Liability Waiver is required to be e-signed before you will be confirmed on the Roster. Your registration will remain as “Pending” until completed and you have received a confirmation email and see your name on the Roster. You can review and verify your car class and categories on the Suncoast PCA activities/autocross page at: https://suncoastpca.org/autocross/ \nALL non-driver GUEST attendees must register and e-sign the liability waiver as a “Crew/Guest” on Clubregistration.net. No on-site registrations as this is a private event. Please assist your guest in setting up an account with Clubregistration.net. $5 is requested if your guest will join us for lunch. \nPCA requires eSignatures for all events. Electronically sign the Event Liability Waiver prior to the event.  \n**New for 2026** SNELL SA2015 helmet or newer required! Limited loaner helmets available. \nPlease arrive at the gate between 7:45m and 8:15am. Tech inspection 8:00am – 8:30am. Guided course walk at 8:45am followed by drivers’ meeting at 9:15am. Group A ready to Grid by 9:30am. Lunch and cold drinks will be provided\, but feel free to bring your own cooler. We always target 4 morning runs and 4 afternoon runs depending on weather and other factor. Please make plans to stay the entire day so we have enough workers for the final B run group. We usually wrap up around 3:30pm. \nAll Drivers must be 18 years of age with valid Driver’s License.  Registered PCA “Juniors Program” members may drive at 16 years of age with valid Driver’s License.  Parent/Guardian must attend and sign Minor Participation Waiver. \nhttps://clubregistration.net/events/signUp.cfm/event/16524?CFID=14323110&CFTOKEN=3de0cb367f1510d2-2957E08C-A804-53E0-4DB4F89CD959CAC7
URL:https://suncoastpca.org/event/autocross-32/
LOCATION:Venice Airport\, 150 Airport Ave E\, Venice\, FL\, 34285\, United States
CATEGORIES:Autocross
END:VEVENT
BEGIN:VEVENT
DTSTART;TZID=America/New_York:20260521T113000
DTEND;TZID=America/New_York:20260521T113000
DTSTAMP:20260423T004529
CREATED:20260106T152700Z
LAST-MODIFIED:20260106T155333Z
UID:10001212-1779363000-1779363000@suncoastpca.org
SUMMARY:Monthly Luncheon - Sarasota
DESCRIPTION:Join the Suncoast Region of PCA for a south of the Skyway monthly lunch at Gecko’s Grill & Pub located at 351 N Cattlemen Road Sarasota\, FL 34232. \nPlease register so we can provide Gecko’s Grill & Pub with a headcount. Plan to gather between 11:30am and noon Thur.\, January 15\, 2026. \nThe host is Wayne Cree. lbluevet@icloud.org
URL:https://suncoastpca.org/event/monthly-luncheon-7/2026-05-21/
LOCATION:Gecko’s – Fruitville\, 351 N Cattlemen Rd\, Sarasota\, FL\, 34232\, United States
CATEGORIES:Social
END:VEVENT
BEGIN:VEVENT
DTSTART;TZID=America/New_York:20260520T120000
DTEND;TZID=America/New_York:20260520T120000
DTSTAMP:20260423T004529
CREATED:20221218T140258Z
LAST-MODIFIED:20260106T164716Z
UID:10001123-1779278400-1779278400@suncoastpca.org
SUMMARY:Monthly Luncheon - Clearwater
DESCRIPTION:Tired of the same old sandwiches for lunch? Join your fellow PCA members for great food and interesting conversations at Quaker Steak & Lube\, 10400 49th St. N\, Clearwater\, FL 33762. We’re meeting the 3rd Wednesday of each month. No pre-registration required! If your schedule permits\, just show up at noon! Private room\, full menu and lunch specials. Their parking lot is very Porsche friendly so it will be an opportunity to show off your car as well!
URL:https://suncoastpca.org/event/monthly-luncheon-4/2026-05-20/
LOCATION:Quaker Steak & Lube\, 10400 49th St. N\, Clearwater\, FL\, 33762\, United States
CATEGORIES:Social
END:VEVENT
BEGIN:VEVENT
DTSTART;TZID=America/New_York:20260516T083000
DTEND;TZID=America/New_York:20260516T083000
DTSTAMP:20260423T004529
CREATED:20220812T212713Z
LAST-MODIFIED:20260106T160125Z
UID:10000986-1778920200-1778920200@suncoastpca.org
SUMMARY:Monthly Breakfast - Venice
DESCRIPTION:Come join your fellow Suncoast Porsche members and guests for the monthly breakfast at Skillets at 4115 South Tamiami Trail South\, in Venice. We will be gathering at 8:30am Saturday\, August 20th. The restaurant can provide seating for us both at tables inside and outside. \nThis a monthly affair on the third Saturday of each month. So plan to come and enjoy each others’ company and make it a habit. \nRegister on ClubReg
URL:https://suncoastpca.org/event/monthly-breakfast-at-skillets/2026-05-16/
LOCATION:Skillets Venice\, 4115 Tamiami Trail S\, Venice\, FL\, 34293\, United States
CATEGORIES:Social
END:VEVENT
BEGIN:VEVENT
DTSTART;TZID=America/New_York:20260516T080000
DTEND;TZID=America/New_York:20260517T170000
DTSTAMP:20260423T004529
CREATED:20251114T140215Z
LAST-MODIFIED:20251114T140215Z
UID:10001193-1778918400-1779037200@suncoastpca.org
SUMMARY:Driver's Education
DESCRIPTION:
URL:https://suncoastpca.org/event/drivers-education-74/
LOCATION:Sebring International Raceway\, 113 Midway Drive\, Sebring\, FL\, 33870\, United States
CATEGORIES:Driver's Education
END:VEVENT
BEGIN:VEVENT
DTSTART;TZID=America/New_York:20260502T083000
DTEND;TZID=America/New_York:20260502T170000
DTSTAMP:20260423T004529
CREATED:20260416T151508Z
LAST-MODIFIED:20260416T151508Z
UID:10001318-1777710600-1777741200@suncoastpca.org
SUMMARY:Gimmick Rally - Polk County
DESCRIPTION:This Gimmick Rally is our first rally of this year.  We have located the rally in Polk County to make it easier for our membership there\, and in neighboring areas\, to participate.  Per PCA General Rules\, all cars registered for a rally must have a driver AND a navigator.  The driver must be a PCA member. More than one person may accompanying the driver–the more eyes the better for a Gimmick Rally.  We will have waivers available to sign at the starting point.  All minors must be accompanied by a parent or guardian who will sign for them.\nWe will gather beginning at 08:30 a.m. at the Florida Air Museum\, 4075 James C. Ray Drive\, Lakeland FL 33811. Please check in with the Hospitality Marshal to get the appropriate waivers signed. We will have coffee and pastries at the start. There will be a driver/navigator meeting at 09:00 to pass out and review the Rally Route Instructions\, the abbreviations used\, and some of the general rallying rules. After that the Start/Finish Marshal will get everyone queued up to launch at the appropriate interval.  At the terminus you will turn in your Rally Route Instruction sheets on which you will have written the answers to questions based on signs and landmarks along the route.  Ties will be determined by the corrected total miles driven.  If ties remain after accounting for miles driven\, a 10 question trivia quiz will\, it is to be hoped\, resolve the tie.  The Safety/Scoring Marshal will inform the Rally Master of the winners. The quiz could also help determine who gets door prizes. The terminus of the rally will be at a restaurant where we’ll enjoy lunch on your own followed by the awards ceremony.  There will be trophies for 1st\, 2nd\, and 3rd place finishers and some door prizes. Those of us on the Rally Committee look forward to seeing you at this fun event. \nRegister
URL:https://suncoastpca.org/event/gimmick-rally-polk-county/
LOCATION:Florida Air Museum\, 4075 James C. Ray Drive\, Lakeland\, 33811\, United States
CATEGORIES:Other
END:VEVENT
END:VCALENDAR