BEGIN:VCALENDAR
VERSION:2.0
PRODID:-//Suncoast Florida Region - PCA - ECPv6.15.20//NONSGML v1.0//EN
CALSCALE:GREGORIAN
METHOD:PUBLISH
X-ORIGINAL-URL:https://suncoastpca.org
X-WR-CALDESC:Events for Suncoast Florida Region - PCA
REFRESH-INTERVAL;VALUE=DURATION:PT1H
X-Robots-Tag:noindex
X-PUBLISHED-TTL:PT1H
BEGIN:VTIMEZONE
TZID:America/New_York
BEGIN:DAYLIGHT
TZOFFSETFROM:-0500
TZOFFSETTO:-0400
TZNAME:EDT
DTSTART:20230312T070000
END:DAYLIGHT
BEGIN:STANDARD
TZOFFSETFROM:-0400
TZOFFSETTO:-0500
TZNAME:EST
DTSTART:20231105T060000
END:STANDARD
BEGIN:DAYLIGHT
TZOFFSETFROM:-0500
TZOFFSETTO:-0400
TZNAME:EDT
DTSTART:20240310T070000
END:DAYLIGHT
BEGIN:STANDARD
TZOFFSETFROM:-0400
TZOFFSETTO:-0500
TZNAME:EST
DTSTART:20241103T060000
END:STANDARD
BEGIN:DAYLIGHT
TZOFFSETFROM:-0500
TZOFFSETTO:-0400
TZNAME:EDT
DTSTART:20250309T070000
END:DAYLIGHT
BEGIN:STANDARD
TZOFFSETFROM:-0400
TZOFFSETTO:-0500
TZNAME:EST
DTSTART:20251102T060000
END:STANDARD
BEGIN:DAYLIGHT
TZOFFSETFROM:-0500
TZOFFSETTO:-0400
TZNAME:EDT
DTSTART:20260308T070000
END:DAYLIGHT
BEGIN:STANDARD
TZOFFSETFROM:-0400
TZOFFSETTO:-0500
TZNAME:EST
DTSTART:20261101T060000
END:STANDARD
END:VTIMEZONE
BEGIN:VEVENT
DTSTART;TZID=America/New_York:20250215T083000
DTEND;TZID=America/New_York:20250215T083000
DTSTAMP:20260423T021626
CREATED:20220812T212713Z
LAST-MODIFIED:20260106T160125Z
UID:10000971-1739608200-1739608200@suncoastpca.org
SUMMARY:Monthly Breakfast - Venice
DESCRIPTION:Come join your fellow Suncoast Porsche members and guests for the monthly breakfast at Skillets at 4115 South Tamiami Trail South\, in Venice. We will be gathering at 8:30am Saturday\, August 20th. The restaurant can provide seating for us both at tables inside and outside. \nThis a monthly affair on the third Saturday of each month. So plan to come and enjoy each others’ company and make it a habit. \nRegister on ClubReg
URL:https://suncoastpca.org/event/monthly-breakfast-at-skillets/2025-02-15/
LOCATION:Skillets Venice\, 4115 Tamiami Trail S\, Venice\, FL\, 34293\, United States
CATEGORIES:Social
END:VEVENT
BEGIN:VEVENT
DTSTART;TZID=America/New_York:20250201T083000
DTEND;TZID=America/New_York:20250201T083000
DTSTAMP:20260423T021626
CREATED:20230804T145344Z
LAST-MODIFIED:20260106T164740Z
UID:10000909-1738398600-1738398600@suncoastpca.org
SUMMARY:Monthly Breakfast - Bradenton
DESCRIPTION:Come join your fellow Suncoast Porsche Club members and guests for our monthly breakfast at Skillets Restaurant! \nREGISTRATION REQUIRED via ClubReg so Skillet’s Bradenton can provide proper staffing for our group.  \nhttps://clubregistration.net/
URL:https://suncoastpca.org/event/monthly-breakfast-at-skillets-3/2025-02-01/
LOCATION:Skillets Bradenton\, 9722 FL-64\, Bradenton\, FL\, 34212\, United States
CATEGORIES:Social
END:VEVENT
BEGIN:VEVENT
DTSTART;TZID=America/New_York:20250118T083000
DTEND;TZID=America/New_York:20250118T083000
DTSTAMP:20260423T021626
CREATED:20220812T212713Z
LAST-MODIFIED:20260106T160125Z
UID:10000970-1737189000-1737189000@suncoastpca.org
SUMMARY:Monthly Breakfast - Venice
DESCRIPTION:Come join your fellow Suncoast Porsche members and guests for the monthly breakfast at Skillets at 4115 South Tamiami Trail South\, in Venice. We will be gathering at 8:30am Saturday\, August 20th. The restaurant can provide seating for us both at tables inside and outside. \nThis a monthly affair on the third Saturday of each month. So plan to come and enjoy each others’ company and make it a habit. \nRegister on ClubReg
URL:https://suncoastpca.org/event/monthly-breakfast-at-skillets/2025-01-18/
LOCATION:Skillets Venice\, 4115 Tamiami Trail S\, Venice\, FL\, 34293\, United States
CATEGORIES:Social
END:VEVENT
BEGIN:VEVENT
DTSTART;TZID=America/New_York:20250115T120000
DTEND;TZID=America/New_York:20250115T120000
DTSTAMP:20260423T021626
CREATED:20221218T140258Z
LAST-MODIFIED:20260106T164716Z
UID:10001107-1736942400-1736942400@suncoastpca.org
SUMMARY:Monthly Luncheon - Clearwater
DESCRIPTION:Tired of the same old sandwiches for lunch? Join your fellow PCA members for great food and interesting conversations at Quaker Steak & Lube\, 10400 49th St. N\, Clearwater\, FL 33762. We’re meeting the 3rd Wednesday of each month. No pre-registration required! If your schedule permits\, just show up at noon! Private room\, full menu and lunch specials. Their parking lot is very Porsche friendly so it will be an opportunity to show off your car as well!
URL:https://suncoastpca.org/event/monthly-luncheon-4/2025-01-15/
LOCATION:Quaker Steak & Lube\, 10400 49th St. N\, Clearwater\, FL\, 33762\, United States
CATEGORIES:Social
END:VEVENT
BEGIN:VEVENT
DTSTART;TZID=America/New_York:20250104T083000
DTEND;TZID=America/New_York:20250104T083000
DTSTAMP:20260423T021626
CREATED:20230804T145344Z
LAST-MODIFIED:20260106T164740Z
UID:10000908-1735979400-1735979400@suncoastpca.org
SUMMARY:Monthly Breakfast - Bradenton
DESCRIPTION:Come join your fellow Suncoast Porsche Club members and guests for our monthly breakfast at Skillets Restaurant! \nREGISTRATION REQUIRED via ClubReg so Skillet’s Bradenton can provide proper staffing for our group.  \nhttps://clubregistration.net/
URL:https://suncoastpca.org/event/monthly-breakfast-at-skillets-3/2025-01-04/
LOCATION:Skillets Bradenton\, 9722 FL-64\, Bradenton\, FL\, 34212\, United States
CATEGORIES:Social
END:VEVENT
BEGIN:VEVENT
DTSTART;TZID=America/New_York:20241221T083000
DTEND;TZID=America/New_York:20241221T083000
DTSTAMP:20260423T021626
CREATED:20220812T212713Z
LAST-MODIFIED:20260106T160125Z
UID:10000969-1734769800-1734769800@suncoastpca.org
SUMMARY:Monthly Breakfast - Venice
DESCRIPTION:Come join your fellow Suncoast Porsche members and guests for the monthly breakfast at Skillets at 4115 South Tamiami Trail South\, in Venice. We will be gathering at 8:30am Saturday\, August 20th. The restaurant can provide seating for us both at tables inside and outside. \nThis a monthly affair on the third Saturday of each month. So plan to come and enjoy each others’ company and make it a habit. \nRegister on ClubReg
URL:https://suncoastpca.org/event/monthly-breakfast-at-skillets/2024-12-21/
LOCATION:Skillets Venice\, 4115 Tamiami Trail S\, Venice\, FL\, 34293\, United States
CATEGORIES:Social
END:VEVENT
BEGIN:VEVENT
DTSTART;TZID=America/New_York:20241218T120000
DTEND;TZID=America/New_York:20241218T120000
DTSTAMP:20260423T021626
CREATED:20221218T140258Z
LAST-MODIFIED:20260106T164716Z
UID:10001106-1734523200-1734523200@suncoastpca.org
SUMMARY:Monthly Luncheon - Clearwater
DESCRIPTION:Tired of the same old sandwiches for lunch? Join your fellow PCA members for great food and interesting conversations at Quaker Steak & Lube\, 10400 49th St. N\, Clearwater\, FL 33762. We’re meeting the 3rd Wednesday of each month. No pre-registration required! If your schedule permits\, just show up at noon! Private room\, full menu and lunch specials. Their parking lot is very Porsche friendly so it will be an opportunity to show off your car as well!
URL:https://suncoastpca.org/event/monthly-luncheon-4/2024-12-18/
LOCATION:Quaker Steak & Lube\, 10400 49th St. N\, Clearwater\, FL\, 33762\, United States
CATEGORIES:Social
END:VEVENT
BEGIN:VEVENT
DTSTART;TZID=America/New_York:20241214T190000
DTEND;TZID=America/New_York:20241214T220000
DTSTAMP:20260423T021626
CREATED:20241015T203901Z
LAST-MODIFIED:20241015T203948Z
UID:10001090-1734202800-1734213600@suncoastpca.org
SUMMARY:Holiday Gala
DESCRIPTION:“Wine & Dine Around the World” \nYou’re invited to an exciting evening of global cuisine! Join us for a culinary adventure where we’ll savor delicious hors d’oeuvres and desserts with wine or beer pairings from around the world. Come ready to indulge your taste buds and enjoy great company. Please register promptly as space limited. We can’t wait to celebrate the flavors of the world with you! \nWhere: St Pete Cellars\n1501 22nd St N\, St Petersburg\, FL 33704 \nRegistration link: https://clubregistration.net/events/event-details.cfm?event_id=15076
URL:https://suncoastpca.org/event/holiday-gala-4/
LOCATION:St Pete Cellars\, 1501 22nd Street North\, St Petersburg\, 33713\, United States
CATEGORIES:Social
END:VEVENT
BEGIN:VEVENT
DTSTART;TZID=America/New_York:20241207T083000
DTEND;TZID=America/New_York:20241207T083000
DTSTAMP:20260423T021626
CREATED:20230804T145344Z
LAST-MODIFIED:20260106T164740Z
UID:10000907-1733560200-1733560200@suncoastpca.org
SUMMARY:Monthly Breakfast - Bradenton
DESCRIPTION:Come join your fellow Suncoast Porsche Club members and guests for our monthly breakfast at Skillets Restaurant! \nREGISTRATION REQUIRED via ClubReg so Skillet’s Bradenton can provide proper staffing for our group.  \nhttps://clubregistration.net/
URL:https://suncoastpca.org/event/monthly-breakfast-at-skillets-3/2024-12-07/
LOCATION:Skillets Bradenton\, 9722 FL-64\, Bradenton\, FL\, 34212\, United States
CATEGORIES:Social
END:VEVENT
BEGIN:VEVENT
DTSTART;TZID=America/New_York:20241120T120000
DTEND;TZID=America/New_York:20241120T120000
DTSTAMP:20260423T021626
CREATED:20221218T140258Z
LAST-MODIFIED:20260106T164716Z
UID:10000871-1732104000-1732104000@suncoastpca.org
SUMMARY:Monthly Luncheon - Clearwater
DESCRIPTION:Tired of the same old sandwiches for lunch? Join your fellow PCA members for great food and interesting conversations at Quaker Steak & Lube\, 10400 49th St. N\, Clearwater\, FL 33762. We’re meeting the 3rd Wednesday of each month. No pre-registration required! If your schedule permits\, just show up at noon! Private room\, full menu and lunch specials. Their parking lot is very Porsche friendly so it will be an opportunity to show off your car as well!
URL:https://suncoastpca.org/event/monthly-luncheon-4/2024-11-20/
LOCATION:Quaker Steak & Lube\, 10400 49th St. N\, Clearwater\, FL\, 33762\, United States
CATEGORIES:Social
END:VEVENT
BEGIN:VEVENT
DTSTART;TZID=America/New_York:20241116T083000
DTEND;TZID=America/New_York:20241116T083000
DTSTAMP:20260423T021626
CREATED:20220812T212713Z
LAST-MODIFIED:20260106T160125Z
UID:10000968-1731745800-1731745800@suncoastpca.org
SUMMARY:Monthly Breakfast - Venice
DESCRIPTION:Come join your fellow Suncoast Porsche members and guests for the monthly breakfast at Skillets at 4115 South Tamiami Trail South\, in Venice. We will be gathering at 8:30am Saturday\, August 20th. The restaurant can provide seating for us both at tables inside and outside. \nThis a monthly affair on the third Saturday of each month. So plan to come and enjoy each others’ company and make it a habit. \nRegister on ClubReg
URL:https://suncoastpca.org/event/monthly-breakfast-at-skillets/2024-11-16/
LOCATION:Skillets Venice\, 4115 Tamiami Trail S\, Venice\, FL\, 34293\, United States
CATEGORIES:Social
END:VEVENT
BEGIN:VEVENT
DTSTART;TZID=America/New_York:20241102T083000
DTEND;TZID=America/New_York:20241102T083000
DTSTAMP:20260423T021626
CREATED:20230804T145344Z
LAST-MODIFIED:20260106T164740Z
UID:10000906-1730536200-1730536200@suncoastpca.org
SUMMARY:Monthly Breakfast - Bradenton
DESCRIPTION:Come join your fellow Suncoast Porsche Club members and guests for our monthly breakfast at Skillets Restaurant! \nREGISTRATION REQUIRED via ClubReg so Skillet’s Bradenton can provide proper staffing for our group.  \nhttps://clubregistration.net/
URL:https://suncoastpca.org/event/monthly-breakfast-at-skillets-3/2024-11-02/
LOCATION:Skillets Bradenton\, 9722 FL-64\, Bradenton\, FL\, 34212\, United States
CATEGORIES:Social
END:VEVENT
BEGIN:VEVENT
DTSTART;TZID=America/New_York:20241026T083000
DTEND;TZID=America/New_York:20241026T120000
DTSTAMP:20260423T021626
CREATED:20241021T210208Z
LAST-MODIFIED:20241021T210208Z
UID:10001091-1729931400-1729944000@suncoastpca.org
SUMMARY:Porsche Pantry with Car Show and Coffee
DESCRIPTION:Join your fellow Suncoast PCA members in a food drive to benefit the Food Bank at First Baptist Church\, 1900 Gandy Blvd N.\, St. Petersburg\, FL\, 33702 on Saturday\, October 26. This year\, we’re combining with a car show! Prizes will be awarded for categories such as Sportiest Sports Car\, and Classiest Classic. This is not a concours\, any car can be entered in the show. It’s all for fun! If you do want to enter your car in the show\, plan to arrive no later than 8:45 am\, the show and judging will be from 9:00am to 10:00 am. Awards will be presented immediately after\, departure around 10:30am am. If you do not enter your car in the show\, you can arrive anytime before 9:30 am (we want you to be able to participate in the car show judging!). We will have coffee\, water and some breakfast goodies for you to enjoy. \nEveryone should bring your donations of non-perishable food and/or grocery store gift cards. This is a chance to give back to our community and help others less fortunate. \nThe church has a large parking lot\, very Porsche friendly with lots of room for the car show. Please respond with estimated number of attendees so we can have enough refreshments for all and answer the registration questions to let us know whether you will enter your car in the show. \nHope to see you there! \nhttps://clubregistration.net/events/event-details.cfm?event_id=14676
URL:https://suncoastpca.org/event/porsche-pantry-with-car-show-and-coffee/
LOCATION:First Baptist Church\, 1900 Gandy Blvd N.\, St Petersburg\, FL\, 33702\, United States
CATEGORIES:Social
END:VEVENT
BEGIN:VEVENT
DTSTART;TZID=America/New_York:20241019T090000
DTEND;TZID=America/New_York:20241019T110000
DTSTAMP:20260423T021626
CREATED:20221112T214735Z
LAST-MODIFIED:20240520T215100Z
UID:10000848-1729328400-1729335600@suncoastpca.org
SUMMARY:Monthly Breakfast at Clear Sky Club Haus
DESCRIPTION:Please join us for our new and latest monthly breakfast at the Clear Sky Club Haus\, at 36355 East Lake Road South\, at the north end of the Ridgemoor Plaza Shopping Center\, in Palm Harbor. This will be a recurring monthly event. \nWe will begin at 9:00am. Your host for this event is Bill Schultz. \nWe encourage our members to come and bring your guests for a great time. \nRegister on ClubReg
URL:https://suncoastpca.org/event/monthly-breakfast-at-clear-sky-club-haus-2/2024-10-19/
LOCATION:Clear Sky Club Haus\, 36355 East Lake Road South\, Palm Harbor\, FL\, 34685\, United States
CATEGORIES:Social
END:VEVENT
BEGIN:VEVENT
DTSTART;TZID=America/New_York:20241019T083000
DTEND;TZID=America/New_York:20241019T083000
DTSTAMP:20260423T021626
CREATED:20220812T212713Z
LAST-MODIFIED:20260106T160125Z
UID:10000967-1729326600-1729326600@suncoastpca.org
SUMMARY:Monthly Breakfast - Venice
DESCRIPTION:Come join your fellow Suncoast Porsche members and guests for the monthly breakfast at Skillets at 4115 South Tamiami Trail South\, in Venice. We will be gathering at 8:30am Saturday\, August 20th. The restaurant can provide seating for us both at tables inside and outside. \nThis a monthly affair on the third Saturday of each month. So plan to come and enjoy each others’ company and make it a habit. \nRegister on ClubReg
URL:https://suncoastpca.org/event/monthly-breakfast-at-skillets/2024-10-19/
LOCATION:Skillets Venice\, 4115 Tamiami Trail S\, Venice\, FL\, 34293\, United States
CATEGORIES:Social
END:VEVENT
BEGIN:VEVENT
DTSTART;TZID=America/New_York:20241016T120000
DTEND;TZID=America/New_York:20241016T120000
DTSTAMP:20260423T021626
CREATED:20221218T140258Z
LAST-MODIFIED:20260106T164716Z
UID:10000870-1729080000-1729080000@suncoastpca.org
SUMMARY:Monthly Luncheon - Clearwater
DESCRIPTION:Tired of the same old sandwiches for lunch? Join your fellow PCA members for great food and interesting conversations at Quaker Steak & Lube\, 10400 49th St. N\, Clearwater\, FL 33762. We’re meeting the 3rd Wednesday of each month. No pre-registration required! If your schedule permits\, just show up at noon! Private room\, full menu and lunch specials. Their parking lot is very Porsche friendly so it will be an opportunity to show off your car as well!
URL:https://suncoastpca.org/event/monthly-luncheon-4/2024-10-16/
LOCATION:Quaker Steak & Lube\, 10400 49th St. N\, Clearwater\, FL\, 33762\, United States
CATEGORIES:Social
END:VEVENT
BEGIN:VEVENT
DTSTART;TZID=America/New_York:20241005T083000
DTEND;TZID=America/New_York:20241005T083000
DTSTAMP:20260423T021626
CREATED:20230804T145344Z
LAST-MODIFIED:20260106T164740Z
UID:10000905-1728117000-1728117000@suncoastpca.org
SUMMARY:Monthly Breakfast - Bradenton
DESCRIPTION:Come join your fellow Suncoast Porsche Club members and guests for our monthly breakfast at Skillets Restaurant! \nREGISTRATION REQUIRED via ClubReg so Skillet’s Bradenton can provide proper staffing for our group.  \nhttps://clubregistration.net/
URL:https://suncoastpca.org/event/monthly-breakfast-at-skillets-3/2024-10-05/
LOCATION:Skillets Bradenton\, 9722 FL-64\, Bradenton\, FL\, 34212\, United States
CATEGORIES:Social
END:VEVENT
BEGIN:VEVENT
DTSTART;TZID=America/New_York:20240925T113000
DTEND;TZID=America/New_York:20240925T140000
DTSTAMP:20260423T021626
CREATED:20240601T204844Z
LAST-MODIFIED:20240601T204844Z
UID:10001077-1727263800-1727272800@suncoastpca.org
SUMMARY:Monthly Luncheon
DESCRIPTION:Join the Suncoast Region of PCA for a south of the Skyway monthly lunch at Ford’s Garage located at the UTC (295 N Cattlemen Road Sarasota\, FL 34243). \nPlease register so we can provide Ford’s Garage with a headcount. Plan to gather between 11:30am and noon! \nRegister on ClubReg\n 
URL:https://suncoastpca.org/event/monthly-luncheon-6/
LOCATION:Ford’s Garage\, 295 N Cattlemen Road\, Sarasota\, 34243\, United States
CATEGORIES:Social
END:VEVENT
BEGIN:VEVENT
DTSTART;TZID=America/New_York:20240924T180000
DTEND;TZID=America/New_York:20240924T210000
DTSTAMP:20260423T021626
CREATED:20240601T175131Z
LAST-MODIFIED:20240601T175131Z
UID:10001071-1727200800-1727211600@suncoastpca.org
SUMMARY:Date Your Porsche Night
DESCRIPTION:DYPN at Deep Lagoon in Osprey Florida\, Tuesday\, September 24\, 2024 at 6pm! \nLocated at 482 Blackburn Point Road\, Osprey\, FL 34229 \nJoin your Suncoast Region of PCA for a Date Your Porsche Night at Deep Lagoon in Osprey\, FL. Gather starting at 6pm. Deep Lagoon will offer the full menu and provide for a private room. \n**Registration required as venue requires a headcount in advance \nRegister on ClubReg
URL:https://suncoastpca.org/event/date-your-porsche-night-70/
LOCATION:Deep Lagoon\, 482 Blackburn Point Rd\, Osprey\, 34229\, United States
CATEGORIES:Social
END:VEVENT
BEGIN:VEVENT
DTSTART;TZID=America/New_York:20240921T090000
DTEND;TZID=America/New_York:20240921T110000
DTSTAMP:20260423T021626
CREATED:20221112T214735Z
LAST-MODIFIED:20240520T215100Z
UID:10000836-1726909200-1726916400@suncoastpca.org
SUMMARY:Monthly Breakfast at Clear Sky Club Haus
DESCRIPTION:Please join us for our new and latest monthly breakfast at the Clear Sky Club Haus\, at 36355 East Lake Road South\, at the north end of the Ridgemoor Plaza Shopping Center\, in Palm Harbor. This will be a recurring monthly event. \nWe will begin at 9:00am. Your host for this event is Bill Schultz. \nWe encourage our members to come and bring your guests for a great time. \nRegister on ClubReg
URL:https://suncoastpca.org/event/monthly-breakfast-at-clear-sky-club-haus-2/2024-09-21/
LOCATION:Clear Sky Club Haus\, 36355 East Lake Road South\, Palm Harbor\, FL\, 34685\, United States
CATEGORIES:Social
END:VEVENT
BEGIN:VEVENT
DTSTART;TZID=America/New_York:20240921T083000
DTEND;TZID=America/New_York:20240921T083000
DTSTAMP:20260423T021626
CREATED:20220812T212713Z
LAST-MODIFIED:20260106T160125Z
UID:10000966-1726907400-1726907400@suncoastpca.org
SUMMARY:Monthly Breakfast - Venice
DESCRIPTION:Come join your fellow Suncoast Porsche members and guests for the monthly breakfast at Skillets at 4115 South Tamiami Trail South\, in Venice. We will be gathering at 8:30am Saturday\, August 20th. The restaurant can provide seating for us both at tables inside and outside. \nThis a monthly affair on the third Saturday of each month. So plan to come and enjoy each others’ company and make it a habit. \nRegister on ClubReg
URL:https://suncoastpca.org/event/monthly-breakfast-at-skillets/2024-09-21/
LOCATION:Skillets Venice\, 4115 Tamiami Trail S\, Venice\, FL\, 34293\, United States
CATEGORIES:Social
END:VEVENT
BEGIN:VEVENT
DTSTART;TZID=America/New_York:20240918T120000
DTEND;TZID=America/New_York:20240918T120000
DTSTAMP:20260423T021626
CREATED:20221218T140258Z
LAST-MODIFIED:20260106T164716Z
UID:10000869-1726660800-1726660800@suncoastpca.org
SUMMARY:Monthly Luncheon - Clearwater
DESCRIPTION:Tired of the same old sandwiches for lunch? Join your fellow PCA members for great food and interesting conversations at Quaker Steak & Lube\, 10400 49th St. N\, Clearwater\, FL 33762. We’re meeting the 3rd Wednesday of each month. No pre-registration required! If your schedule permits\, just show up at noon! Private room\, full menu and lunch specials. Their parking lot is very Porsche friendly so it will be an opportunity to show off your car as well!
URL:https://suncoastpca.org/event/monthly-luncheon-4/2024-09-18/
LOCATION:Quaker Steak & Lube\, 10400 49th St. N\, Clearwater\, FL\, 33762\, United States
CATEGORIES:Social
END:VEVENT
BEGIN:VEVENT
DTSTART;TZID=America/New_York:20240917T180000
DTEND;TZID=America/New_York:20240917T180000
DTSTAMP:20260423T021626
CREATED:20240601T174713Z
LAST-MODIFIED:20240611T114424Z
UID:10001070-1726596000-1726596000@suncoastpca.org
SUMMARY:Cigars and Cars
DESCRIPTION:Join your Suncoast PCA Members for a fun night out in Tampa at Grand Cathedral Cigars located at 2201 N. Florida Avenue. Tampa\, FL 33602. The fun starts at 6pm! \nA row of parking will be reserved for our members so arrive early to secure one of these spots! Once filled\, parking is first come- first served in the lot. \nJose Peralta will be your Suncoast PCA Host for the evening! \nRegister on ClubReg
URL:https://suncoastpca.org/event/cigars-and-cars-2/
LOCATION:Grand Cathedral Cigars\, 2201 N Florida Ave\, Tampa\, FL\, 33602\, United States
CATEGORIES:Social
END:VEVENT
BEGIN:VEVENT
DTSTART;TZID=America/New_York:20240907T083000
DTEND;TZID=America/New_York:20240907T083000
DTSTAMP:20260423T021626
CREATED:20230804T145344Z
LAST-MODIFIED:20260106T164740Z
UID:10000904-1725697800-1725697800@suncoastpca.org
SUMMARY:Monthly Breakfast - Bradenton
DESCRIPTION:Come join your fellow Suncoast Porsche Club members and guests for our monthly breakfast at Skillets Restaurant! \nREGISTRATION REQUIRED via ClubReg so Skillet’s Bradenton can provide proper staffing for our group.  \nhttps://clubregistration.net/
URL:https://suncoastpca.org/event/monthly-breakfast-at-skillets-3/2024-09-07/
LOCATION:Skillets Bradenton\, 9722 FL-64\, Bradenton\, FL\, 34212\, United States
CATEGORIES:Social
END:VEVENT
BEGIN:VEVENT
DTSTART;TZID=America/New_York:20240828T113000
DTEND;TZID=America/New_York:20240828T140000
DTSTAMP:20260423T021626
CREATED:20240601T204424Z
LAST-MODIFIED:20240601T204425Z
UID:10001076-1724844600-1724853600@suncoastpca.org
SUMMARY:Monthly Luncheon
DESCRIPTION:Join the Suncoast Region of PCA for a south of the Skyway monthly lunch at Ford’s Garage located at the UTC (295 N Cattlemen Road Sarasota\, FL 34243). \nPlease register so we can provide Ford’s Garage with a headcount. Plan to gather between 11:30am and noon! \nRegister on ClubReg\n 
URL:https://suncoastpca.org/event/monthly-luncheon-5-4/
LOCATION:Ford’s Garage\, 295 N Cattlemen Road\, Sarasota\, 34243\, United States
CATEGORIES:Social
END:VEVENT
BEGIN:VEVENT
DTSTART;TZID=America/New_York:20240821T120000
DTEND;TZID=America/New_York:20240821T120000
DTSTAMP:20260423T021626
CREATED:20221218T140258Z
LAST-MODIFIED:20260106T164716Z
UID:10000868-1724241600-1724241600@suncoastpca.org
SUMMARY:Monthly Luncheon - Clearwater
DESCRIPTION:Tired of the same old sandwiches for lunch? Join your fellow PCA members for great food and interesting conversations at Quaker Steak & Lube\, 10400 49th St. N\, Clearwater\, FL 33762. We’re meeting the 3rd Wednesday of each month. No pre-registration required! If your schedule permits\, just show up at noon! Private room\, full menu and lunch specials. Their parking lot is very Porsche friendly so it will be an opportunity to show off your car as well!
URL:https://suncoastpca.org/event/monthly-luncheon-4/2024-08-21/
LOCATION:Quaker Steak & Lube\, 10400 49th St. N\, Clearwater\, FL\, 33762\, United States
CATEGORIES:Social
END:VEVENT
BEGIN:VEVENT
DTSTART;TZID=America/New_York:20240817T090000
DTEND;TZID=America/New_York:20240817T110000
DTSTAMP:20260423T021626
CREATED:20221112T214735Z
LAST-MODIFIED:20240520T215100Z
UID:10000835-1723885200-1723892400@suncoastpca.org
SUMMARY:Monthly Breakfast at Clear Sky Club Haus
DESCRIPTION:Please join us for our new and latest monthly breakfast at the Clear Sky Club Haus\, at 36355 East Lake Road South\, at the north end of the Ridgemoor Plaza Shopping Center\, in Palm Harbor. This will be a recurring monthly event. \nWe will begin at 9:00am. Your host for this event is Bill Schultz. \nWe encourage our members to come and bring your guests for a great time. \nRegister on ClubReg
URL:https://suncoastpca.org/event/monthly-breakfast-at-clear-sky-club-haus-2/2024-08-17/
LOCATION:Clear Sky Club Haus\, 36355 East Lake Road South\, Palm Harbor\, FL\, 34685\, United States
CATEGORIES:Social
END:VEVENT
BEGIN:VEVENT
DTSTART;TZID=America/New_York:20240817T083000
DTEND;TZID=America/New_York:20240817T083000
DTSTAMP:20260423T021626
CREATED:20220812T212713Z
LAST-MODIFIED:20260106T160125Z
UID:10000965-1723883400-1723883400@suncoastpca.org
SUMMARY:Monthly Breakfast - Venice
DESCRIPTION:Come join your fellow Suncoast Porsche members and guests for the monthly breakfast at Skillets at 4115 South Tamiami Trail South\, in Venice. We will be gathering at 8:30am Saturday\, August 20th. The restaurant can provide seating for us both at tables inside and outside. \nThis a monthly affair on the third Saturday of each month. So plan to come and enjoy each others’ company and make it a habit. \nRegister on ClubReg
URL:https://suncoastpca.org/event/monthly-breakfast-at-skillets/2024-08-17/
LOCATION:Skillets Venice\, 4115 Tamiami Trail S\, Venice\, FL\, 34293\, United States
CATEGORIES:Social
END:VEVENT
BEGIN:VEVENT
DTSTART;TZID=America/New_York:20240806T180000
DTEND;TZID=America/New_York:20240806T210000
DTSTAMP:20260423T021626
CREATED:20240601T173544Z
LAST-MODIFIED:20240601T173544Z
UID:10001069-1722967200-1722978000@suncoastpca.org
SUMMARY:Date Your Porsche Night
DESCRIPTION:Come check out the new location for Big Top Brewing – Restaurant & Brewery in Lakewood Ranch. \nLocated at 3045 Fruitville Commons Blvd\, Sarasota\, FL 34240 \nArrive around 6pm for social time and a casual dinner. \nRegister on ClubReg
URL:https://suncoastpca.org/event/date-your-porsche-night-69/
LOCATION:Big Top Brewing – Restaurant & Brewery\, 3045 Fruitville Commons Blvd\, Sarasota\, 34240\, United States
CATEGORIES:Social
END:VEVENT
BEGIN:VEVENT
DTSTART;TZID=America/New_York:20240803T083000
DTEND;TZID=America/New_York:20240803T083000
DTSTAMP:20260423T021626
CREATED:20230804T145344Z
LAST-MODIFIED:20260106T164740Z
UID:10000903-1722673800-1722673800@suncoastpca.org
SUMMARY:Monthly Breakfast - Bradenton
DESCRIPTION:Come join your fellow Suncoast Porsche Club members and guests for our monthly breakfast at Skillets Restaurant! \nREGISTRATION REQUIRED via ClubReg so Skillet’s Bradenton can provide proper staffing for our group.  \nhttps://clubregistration.net/
URL:https://suncoastpca.org/event/monthly-breakfast-at-skillets-3/2024-08-03/
LOCATION:Skillets Bradenton\, 9722 FL-64\, Bradenton\, FL\, 34212\, United States
CATEGORIES:Social
END:VEVENT
END:VCALENDAR