BEGIN:VCALENDAR
VERSION:2.0
PRODID:-//Suncoast Florida Region - PCA - ECPv6.15.20//NONSGML v1.0//EN
CALSCALE:GREGORIAN
METHOD:PUBLISH
X-ORIGINAL-URL:https://suncoastpca.org
X-WR-CALDESC:Events for Suncoast Florida Region - PCA
REFRESH-INTERVAL;VALUE=DURATION:PT1H
X-Robots-Tag:noindex
X-PUBLISHED-TTL:PT1H
BEGIN:VTIMEZONE
TZID:America/New_York
BEGIN:DAYLIGHT
TZOFFSETFROM:-0500
TZOFFSETTO:-0400
TZNAME:EDT
DTSTART:20230312T070000
END:DAYLIGHT
BEGIN:STANDARD
TZOFFSETFROM:-0400
TZOFFSETTO:-0500
TZNAME:EST
DTSTART:20231105T060000
END:STANDARD
BEGIN:DAYLIGHT
TZOFFSETFROM:-0500
TZOFFSETTO:-0400
TZNAME:EDT
DTSTART:20240310T070000
END:DAYLIGHT
BEGIN:STANDARD
TZOFFSETFROM:-0400
TZOFFSETTO:-0500
TZNAME:EST
DTSTART:20241103T060000
END:STANDARD
BEGIN:DAYLIGHT
TZOFFSETFROM:-0500
TZOFFSETTO:-0400
TZNAME:EDT
DTSTART:20250309T070000
END:DAYLIGHT
BEGIN:STANDARD
TZOFFSETFROM:-0400
TZOFFSETTO:-0500
TZNAME:EST
DTSTART:20251102T060000
END:STANDARD
BEGIN:DAYLIGHT
TZOFFSETFROM:-0500
TZOFFSETTO:-0400
TZNAME:EDT
DTSTART:20260308T070000
END:DAYLIGHT
BEGIN:STANDARD
TZOFFSETFROM:-0400
TZOFFSETTO:-0500
TZNAME:EST
DTSTART:20261101T060000
END:STANDARD
END:VTIMEZONE
BEGIN:VEVENT
DTSTART;TZID=America/New_York:20250716T120000
DTEND;TZID=America/New_York:20250716T120000
DTSTAMP:20260422T231452
CREATED:20221218T140258Z
LAST-MODIFIED:20260106T164716Z
UID:10001113-1752667200-1752667200@suncoastpca.org
SUMMARY:Monthly Luncheon - Clearwater
DESCRIPTION:Tired of the same old sandwiches for lunch? Join your fellow PCA members for great food and interesting conversations at Quaker Steak & Lube\, 10400 49th St. N\, Clearwater\, FL 33762. We’re meeting the 3rd Wednesday of each month. No pre-registration required! If your schedule permits\, just show up at noon! Private room\, full menu and lunch specials. Their parking lot is very Porsche friendly so it will be an opportunity to show off your car as well!
URL:https://suncoastpca.org/event/monthly-luncheon-4/2025-07-16/
LOCATION:Quaker Steak & Lube\, 10400 49th St. N\, Clearwater\, FL\, 33762\, United States
CATEGORIES:Social
END:VEVENT
BEGIN:VEVENT
DTSTART;TZID=America/New_York:20250705T083000
DTEND;TZID=America/New_York:20250705T083000
DTSTAMP:20260422T231452
CREATED:20230804T145344Z
LAST-MODIFIED:20260106T164740Z
UID:10000914-1751704200-1751704200@suncoastpca.org
SUMMARY:Monthly Breakfast - Bradenton
DESCRIPTION:Come join your fellow Suncoast Porsche Club members and guests for our monthly breakfast at Skillets Restaurant! \nREGISTRATION REQUIRED via ClubReg so Skillet’s Bradenton can provide proper staffing for our group.  \nhttps://clubregistration.net/
URL:https://suncoastpca.org/event/monthly-breakfast-at-skillets-3/2025-07-05/
LOCATION:Skillets Bradenton\, 9722 FL-64\, Bradenton\, FL\, 34212\, United States
CATEGORIES:Social
END:VEVENT
BEGIN:VEVENT
DTSTART;TZID=America/New_York:20250628T080000
DTEND;TZID=America/New_York:20250628T103000
DTSTAMP:20260422T231452
CREATED:20250218T212537Z
LAST-MODIFIED:20250321T123431Z
UID:10001173-1751097600-1751106600@suncoastpca.org
SUMMARY:Monthly Breakfast at The Hangar
DESCRIPTION:Saturday\, March 22\, 2025 at 8:00AM for fellowship in the SE parking lot. Breakfast at 8:30. \nCome join your fellow Suncoast Porsche Club members and guests at The Hangar Restaurant & Flight Lounge! \n2nd Floor of the Albert Whitted Airport\n540 1st St S\, St. Petersburg\, FL 33701 \nYour host for this event is Charlie MacRossie 720-273-2716. \nRegister here: https://clubregistration.net
URL:https://suncoastpca.org/event/monthly-breakfast-at-the-hangar/2025-06-28/
LOCATION:The Hangar\, 540 1st St SE\, St. Petersburg\, FL\, 34238\, United States
CATEGORIES:Social
GEO:27.7646873;-82.633336
X-APPLE-STRUCTURED-LOCATION;VALUE=URI;X-ADDRESS=The Hangar 540 1st St SE St. Petersburg FL 34238 United States;X-APPLE-RADIUS=500;X-TITLE=540 1st St SE:geo:-82.633336,27.7646873
END:VEVENT
BEGIN:VEVENT
DTSTART;TZID=America/New_York:20250621T083000
DTEND;TZID=America/New_York:20250621T083000
DTSTAMP:20260422T231452
CREATED:20220812T212713Z
LAST-MODIFIED:20260106T160125Z
UID:10000975-1750494600-1750494600@suncoastpca.org
SUMMARY:Monthly Breakfast - Venice
DESCRIPTION:Come join your fellow Suncoast Porsche members and guests for the monthly breakfast at Skillets at 4115 South Tamiami Trail South\, in Venice. We will be gathering at 8:30am Saturday\, August 20th. The restaurant can provide seating for us both at tables inside and outside. \nThis a monthly affair on the third Saturday of each month. So plan to come and enjoy each others’ company and make it a habit. \nRegister on ClubReg
URL:https://suncoastpca.org/event/monthly-breakfast-at-skillets/2025-06-21/
LOCATION:Skillets Venice\, 4115 Tamiami Trail S\, Venice\, FL\, 34293\, United States
CATEGORIES:Social
END:VEVENT
BEGIN:VEVENT
DTSTART;TZID=America/New_York:20250618T120000
DTEND;TZID=America/New_York:20250618T120000
DTSTAMP:20260422T231452
CREATED:20221218T140258Z
LAST-MODIFIED:20260106T164716Z
UID:10001112-1750248000-1750248000@suncoastpca.org
SUMMARY:Monthly Luncheon - Clearwater
DESCRIPTION:Tired of the same old sandwiches for lunch? Join your fellow PCA members for great food and interesting conversations at Quaker Steak & Lube\, 10400 49th St. N\, Clearwater\, FL 33762. We’re meeting the 3rd Wednesday of each month. No pre-registration required! If your schedule permits\, just show up at noon! Private room\, full menu and lunch specials. Their parking lot is very Porsche friendly so it will be an opportunity to show off your car as well!
URL:https://suncoastpca.org/event/monthly-luncheon-4/2025-06-18/
LOCATION:Quaker Steak & Lube\, 10400 49th St. N\, Clearwater\, FL\, 33762\, United States
CATEGORIES:Social
END:VEVENT
BEGIN:VEVENT
DTSTART;TZID=America/New_York:20250607T083000
DTEND;TZID=America/New_York:20250607T083000
DTSTAMP:20260422T231452
CREATED:20230804T145344Z
LAST-MODIFIED:20260106T164740Z
UID:10000913-1749285000-1749285000@suncoastpca.org
SUMMARY:Monthly Breakfast - Bradenton
DESCRIPTION:Come join your fellow Suncoast Porsche Club members and guests for our monthly breakfast at Skillets Restaurant! \nREGISTRATION REQUIRED via ClubReg so Skillet’s Bradenton can provide proper staffing for our group.  \nhttps://clubregistration.net/
URL:https://suncoastpca.org/event/monthly-breakfast-at-skillets-3/2025-06-07/
LOCATION:Skillets Bradenton\, 9722 FL-64\, Bradenton\, FL\, 34212\, United States
CATEGORIES:Social
END:VEVENT
BEGIN:VEVENT
DTSTART;TZID=America/New_York:20250524T080000
DTEND;TZID=America/New_York:20250524T103000
DTSTAMP:20260422T231452
CREATED:20250218T212537Z
LAST-MODIFIED:20250321T123431Z
UID:10001172-1748073600-1748082600@suncoastpca.org
SUMMARY:Monthly Breakfast at The Hangar
DESCRIPTION:Saturday\, March 22\, 2025 at 8:00AM for fellowship in the SE parking lot. Breakfast at 8:30. \nCome join your fellow Suncoast Porsche Club members and guests at The Hangar Restaurant & Flight Lounge! \n2nd Floor of the Albert Whitted Airport\n540 1st St S\, St. Petersburg\, FL 33701 \nYour host for this event is Charlie MacRossie 720-273-2716. \nRegister here: https://clubregistration.net
URL:https://suncoastpca.org/event/monthly-breakfast-at-the-hangar/2025-05-24/
LOCATION:The Hangar\, 540 1st St SE\, St. Petersburg\, FL\, 34238\, United States
CATEGORIES:Social
GEO:27.7646873;-82.633336
X-APPLE-STRUCTURED-LOCATION;VALUE=URI;X-ADDRESS=The Hangar 540 1st St SE St. Petersburg FL 34238 United States;X-APPLE-RADIUS=500;X-TITLE=540 1st St SE:geo:-82.633336,27.7646873
END:VEVENT
BEGIN:VEVENT
DTSTART;TZID=America/New_York:20250521T120000
DTEND;TZID=America/New_York:20250521T120000
DTSTAMP:20260422T231452
CREATED:20221218T140258Z
LAST-MODIFIED:20260106T164716Z
UID:10001111-1747828800-1747828800@suncoastpca.org
SUMMARY:Monthly Luncheon - Clearwater
DESCRIPTION:Tired of the same old sandwiches for lunch? Join your fellow PCA members for great food and interesting conversations at Quaker Steak & Lube\, 10400 49th St. N\, Clearwater\, FL 33762. We’re meeting the 3rd Wednesday of each month. No pre-registration required! If your schedule permits\, just show up at noon! Private room\, full menu and lunch specials. Their parking lot is very Porsche friendly so it will be an opportunity to show off your car as well!
URL:https://suncoastpca.org/event/monthly-luncheon-4/2025-05-21/
LOCATION:Quaker Steak & Lube\, 10400 49th St. N\, Clearwater\, FL\, 33762\, United States
CATEGORIES:Social
END:VEVENT
BEGIN:VEVENT
DTSTART;TZID=America/New_York:20250517T083000
DTEND;TZID=America/New_York:20250517T083000
DTSTAMP:20260422T231452
CREATED:20220812T212713Z
LAST-MODIFIED:20260106T160125Z
UID:10000974-1747470600-1747470600@suncoastpca.org
SUMMARY:Monthly Breakfast - Venice
DESCRIPTION:Come join your fellow Suncoast Porsche members and guests for the monthly breakfast at Skillets at 4115 South Tamiami Trail South\, in Venice. We will be gathering at 8:30am Saturday\, August 20th. The restaurant can provide seating for us both at tables inside and outside. \nThis a monthly affair on the third Saturday of each month. So plan to come and enjoy each others’ company and make it a habit. \nRegister on ClubReg
URL:https://suncoastpca.org/event/monthly-breakfast-at-skillets/2025-05-17/
LOCATION:Skillets Venice\, 4115 Tamiami Trail S\, Venice\, FL\, 34293\, United States
CATEGORIES:Social
END:VEVENT
BEGIN:VEVENT
DTSTART;TZID=America/New_York:20250503T083000
DTEND;TZID=America/New_York:20250503T083000
DTSTAMP:20260422T231452
CREATED:20230804T145344Z
LAST-MODIFIED:20260106T164740Z
UID:10000912-1746261000-1746261000@suncoastpca.org
SUMMARY:Monthly Breakfast - Bradenton
DESCRIPTION:Come join your fellow Suncoast Porsche Club members and guests for our monthly breakfast at Skillets Restaurant! \nREGISTRATION REQUIRED via ClubReg so Skillet’s Bradenton can provide proper staffing for our group.  \nhttps://clubregistration.net/
URL:https://suncoastpca.org/event/monthly-breakfast-at-skillets-3/2025-05-03/
LOCATION:Skillets Bradenton\, 9722 FL-64\, Bradenton\, FL\, 34212\, United States
CATEGORIES:Social
END:VEVENT
BEGIN:VEVENT
DTSTART;TZID=America/New_York:20250426T080000
DTEND;TZID=America/New_York:20250426T103000
DTSTAMP:20260422T231452
CREATED:20250218T212537Z
LAST-MODIFIED:20250321T123431Z
UID:10001171-1745654400-1745663400@suncoastpca.org
SUMMARY:Monthly Breakfast at The Hangar
DESCRIPTION:Saturday\, March 22\, 2025 at 8:00AM for fellowship in the SE parking lot. Breakfast at 8:30. \nCome join your fellow Suncoast Porsche Club members and guests at The Hangar Restaurant & Flight Lounge! \n2nd Floor of the Albert Whitted Airport\n540 1st St S\, St. Petersburg\, FL 33701 \nYour host for this event is Charlie MacRossie 720-273-2716. \nRegister here: https://clubregistration.net
URL:https://suncoastpca.org/event/monthly-breakfast-at-the-hangar/2025-04-26/
LOCATION:The Hangar\, 540 1st St SE\, St. Petersburg\, FL\, 34238\, United States
CATEGORIES:Social
GEO:27.7646873;-82.633336
X-APPLE-STRUCTURED-LOCATION;VALUE=URI;X-ADDRESS=The Hangar 540 1st St SE St. Petersburg FL 34238 United States;X-APPLE-RADIUS=500;X-TITLE=540 1st St SE:geo:-82.633336,27.7646873
END:VEVENT
BEGIN:VEVENT
DTSTART;TZID=America/New_York:20250419T083000
DTEND;TZID=America/New_York:20250419T083000
DTSTAMP:20260422T231452
CREATED:20220812T212713Z
LAST-MODIFIED:20260106T160125Z
UID:10000973-1745051400-1745051400@suncoastpca.org
SUMMARY:Monthly Breakfast - Venice
DESCRIPTION:Come join your fellow Suncoast Porsche members and guests for the monthly breakfast at Skillets at 4115 South Tamiami Trail South\, in Venice. We will be gathering at 8:30am Saturday\, August 20th. The restaurant can provide seating for us both at tables inside and outside. \nThis a monthly affair on the third Saturday of each month. So plan to come and enjoy each others’ company and make it a habit. \nRegister on ClubReg
URL:https://suncoastpca.org/event/monthly-breakfast-at-skillets/2025-04-19/
LOCATION:Skillets Venice\, 4115 Tamiami Trail S\, Venice\, FL\, 34293\, United States
CATEGORIES:Social
END:VEVENT
BEGIN:VEVENT
DTSTART;TZID=America/New_York:20250416T120000
DTEND;TZID=America/New_York:20250416T120000
DTSTAMP:20260422T231452
CREATED:20221218T140258Z
LAST-MODIFIED:20260106T164716Z
UID:10001110-1744804800-1744804800@suncoastpca.org
SUMMARY:Monthly Luncheon - Clearwater
DESCRIPTION:Tired of the same old sandwiches for lunch? Join your fellow PCA members for great food and interesting conversations at Quaker Steak & Lube\, 10400 49th St. N\, Clearwater\, FL 33762. We’re meeting the 3rd Wednesday of each month. No pre-registration required! If your schedule permits\, just show up at noon! Private room\, full menu and lunch specials. Their parking lot is very Porsche friendly so it will be an opportunity to show off your car as well!
URL:https://suncoastpca.org/event/monthly-luncheon-4/2025-04-16/
LOCATION:Quaker Steak & Lube\, 10400 49th St. N\, Clearwater\, FL\, 33762\, United States
CATEGORIES:Social
END:VEVENT
BEGIN:VEVENT
DTSTART;TZID=America/New_York:20250413T100000
DTEND;TZID=America/New_York:20250413T140000
DTSTAMP:20260422T231452
CREATED:20241122T145522Z
LAST-MODIFIED:20241122T145522Z
UID:10001092-1744538400-1744552800@suncoastpca.org
SUMMARY:Porsches & Polo
DESCRIPTION:
URL:https://suncoastpca.org/event/porsches-polo/
LOCATION:Sarasota Polo Club\, 8201 Polo Club Lane\, Lakewood Ranch\, FL\, 34240\, United States
CATEGORIES:Social
GEO:27.3807039;-82.4014306
X-APPLE-STRUCTURED-LOCATION;VALUE=URI;X-ADDRESS=Sarasota Polo Club 8201 Polo Club Lane Lakewood Ranch FL 34240 United States;X-APPLE-RADIUS=500;X-TITLE=8201 Polo Club Lane:geo:-82.4014306,27.3807039
END:VEVENT
BEGIN:VEVENT
DTSTART;TZID=America/New_York:20250405T083000
DTEND;TZID=America/New_York:20250405T083000
DTSTAMP:20260422T231452
CREATED:20230804T145344Z
LAST-MODIFIED:20260106T164740Z
UID:10000911-1743841800-1743841800@suncoastpca.org
SUMMARY:Monthly Breakfast - Bradenton
DESCRIPTION:Come join your fellow Suncoast Porsche Club members and guests for our monthly breakfast at Skillets Restaurant! \nREGISTRATION REQUIRED via ClubReg so Skillet’s Bradenton can provide proper staffing for our group.  \nhttps://clubregistration.net/
URL:https://suncoastpca.org/event/monthly-breakfast-at-skillets-3/2025-04-05/
LOCATION:Skillets Bradenton\, 9722 FL-64\, Bradenton\, FL\, 34212\, United States
CATEGORIES:Social
END:VEVENT
BEGIN:VEVENT
DTSTART;TZID=America/New_York:20250322T080000
DTEND;TZID=America/New_York:20250322T103000
DTSTAMP:20260422T231452
CREATED:20250218T212537Z
LAST-MODIFIED:20250321T123431Z
UID:10001168-1742630400-1742639400@suncoastpca.org
SUMMARY:Monthly Breakfast at The Hangar
DESCRIPTION:Saturday\, March 22\, 2025 at 8:00AM for fellowship in the SE parking lot. Breakfast at 8:30. \nCome join your fellow Suncoast Porsche Club members and guests at The Hangar Restaurant & Flight Lounge! \n2nd Floor of the Albert Whitted Airport\n540 1st St S\, St. Petersburg\, FL 33701 \nYour host for this event is Charlie MacRossie 720-273-2716. \nRegister here: https://clubregistration.net
URL:https://suncoastpca.org/event/monthly-breakfast-at-the-hangar/2025-03-22/
LOCATION:The Hangar\, 540 1st St SE\, St. Petersburg\, FL\, 34238\, United States
CATEGORIES:Social
GEO:27.7646873;-82.633336
X-APPLE-STRUCTURED-LOCATION;VALUE=URI;X-ADDRESS=The Hangar 540 1st St SE St. Petersburg FL 34238 United States;X-APPLE-RADIUS=500;X-TITLE=540 1st St SE:geo:-82.633336,27.7646873
END:VEVENT
BEGIN:VEVENT
DTSTART;TZID=America/New_York:20250319T120000
DTEND;TZID=America/New_York:20250319T120000
DTSTAMP:20260422T231452
CREATED:20221218T140258Z
LAST-MODIFIED:20260106T164716Z
UID:10001109-1742385600-1742385600@suncoastpca.org
SUMMARY:Monthly Luncheon - Clearwater
DESCRIPTION:Tired of the same old sandwiches for lunch? Join your fellow PCA members for great food and interesting conversations at Quaker Steak & Lube\, 10400 49th St. N\, Clearwater\, FL 33762. We’re meeting the 3rd Wednesday of each month. No pre-registration required! If your schedule permits\, just show up at noon! Private room\, full menu and lunch specials. Their parking lot is very Porsche friendly so it will be an opportunity to show off your car as well!
URL:https://suncoastpca.org/event/monthly-luncheon-4/2025-03-19/
LOCATION:Quaker Steak & Lube\, 10400 49th St. N\, Clearwater\, FL\, 33762\, United States
CATEGORIES:Social
END:VEVENT
BEGIN:VEVENT
DTSTART;TZID=America/New_York:20250315T083000
DTEND;TZID=America/New_York:20250315T083000
DTSTAMP:20260422T231452
CREATED:20220812T212713Z
LAST-MODIFIED:20260106T160125Z
UID:10000972-1742027400-1742027400@suncoastpca.org
SUMMARY:Monthly Breakfast - Venice
DESCRIPTION:Come join your fellow Suncoast Porsche members and guests for the monthly breakfast at Skillets at 4115 South Tamiami Trail South\, in Venice. We will be gathering at 8:30am Saturday\, August 20th. The restaurant can provide seating for us both at tables inside and outside. \nThis a monthly affair on the third Saturday of each month. So plan to come and enjoy each others’ company and make it a habit. \nRegister on ClubReg
URL:https://suncoastpca.org/event/monthly-breakfast-at-skillets/2025-03-15/
LOCATION:Skillets Venice\, 4115 Tamiami Trail S\, Venice\, FL\, 34293\, United States
CATEGORIES:Social
END:VEVENT
BEGIN:VEVENT
DTSTART;TZID=America/New_York:20250301T083000
DTEND;TZID=America/New_York:20250301T083000
DTSTAMP:20260422T231452
CREATED:20230804T145344Z
LAST-MODIFIED:20260106T164740Z
UID:10000910-1740817800-1740817800@suncoastpca.org
SUMMARY:Monthly Breakfast - Bradenton
DESCRIPTION:Come join your fellow Suncoast Porsche Club members and guests for our monthly breakfast at Skillets Restaurant! \nREGISTRATION REQUIRED via ClubReg so Skillet’s Bradenton can provide proper staffing for our group.  \nhttps://clubregistration.net/
URL:https://suncoastpca.org/event/monthly-breakfast-at-skillets-3/2025-03-01/
LOCATION:Skillets Bradenton\, 9722 FL-64\, Bradenton\, FL\, 34212\, United States
CATEGORIES:Social
END:VEVENT
BEGIN:VEVENT
DTSTART;TZID=America/New_York:20250219T120000
DTEND;TZID=America/New_York:20250219T120000
DTSTAMP:20260422T231452
CREATED:20221218T140258Z
LAST-MODIFIED:20260106T164716Z
UID:10001108-1739966400-1739966400@suncoastpca.org
SUMMARY:Monthly Luncheon - Clearwater
DESCRIPTION:Tired of the same old sandwiches for lunch? Join your fellow PCA members for great food and interesting conversations at Quaker Steak & Lube\, 10400 49th St. N\, Clearwater\, FL 33762. We’re meeting the 3rd Wednesday of each month. No pre-registration required! If your schedule permits\, just show up at noon! Private room\, full menu and lunch specials. Their parking lot is very Porsche friendly so it will be an opportunity to show off your car as well!
URL:https://suncoastpca.org/event/monthly-luncheon-4/2025-02-19/
LOCATION:Quaker Steak & Lube\, 10400 49th St. N\, Clearwater\, FL\, 33762\, United States
CATEGORIES:Social
END:VEVENT
BEGIN:VEVENT
DTSTART;TZID=America/New_York:20250215T083000
DTEND;TZID=America/New_York:20250215T083000
DTSTAMP:20260422T231452
CREATED:20220812T212713Z
LAST-MODIFIED:20260106T160125Z
UID:10000971-1739608200-1739608200@suncoastpca.org
SUMMARY:Monthly Breakfast - Venice
DESCRIPTION:Come join your fellow Suncoast Porsche members and guests for the monthly breakfast at Skillets at 4115 South Tamiami Trail South\, in Venice. We will be gathering at 8:30am Saturday\, August 20th. The restaurant can provide seating for us both at tables inside and outside. \nThis a monthly affair on the third Saturday of each month. So plan to come and enjoy each others’ company and make it a habit. \nRegister on ClubReg
URL:https://suncoastpca.org/event/monthly-breakfast-at-skillets/2025-02-15/
LOCATION:Skillets Venice\, 4115 Tamiami Trail S\, Venice\, FL\, 34293\, United States
CATEGORIES:Social
END:VEVENT
BEGIN:VEVENT
DTSTART;TZID=America/New_York:20250201T083000
DTEND;TZID=America/New_York:20250201T083000
DTSTAMP:20260422T231452
CREATED:20230804T145344Z
LAST-MODIFIED:20260106T164740Z
UID:10000909-1738398600-1738398600@suncoastpca.org
SUMMARY:Monthly Breakfast - Bradenton
DESCRIPTION:Come join your fellow Suncoast Porsche Club members and guests for our monthly breakfast at Skillets Restaurant! \nREGISTRATION REQUIRED via ClubReg so Skillet’s Bradenton can provide proper staffing for our group.  \nhttps://clubregistration.net/
URL:https://suncoastpca.org/event/monthly-breakfast-at-skillets-3/2025-02-01/
LOCATION:Skillets Bradenton\, 9722 FL-64\, Bradenton\, FL\, 34212\, United States
CATEGORIES:Social
END:VEVENT
BEGIN:VEVENT
DTSTART;TZID=America/New_York:20250118T083000
DTEND;TZID=America/New_York:20250118T083000
DTSTAMP:20260422T231452
CREATED:20220812T212713Z
LAST-MODIFIED:20260106T160125Z
UID:10000970-1737189000-1737189000@suncoastpca.org
SUMMARY:Monthly Breakfast - Venice
DESCRIPTION:Come join your fellow Suncoast Porsche members and guests for the monthly breakfast at Skillets at 4115 South Tamiami Trail South\, in Venice. We will be gathering at 8:30am Saturday\, August 20th. The restaurant can provide seating for us both at tables inside and outside. \nThis a monthly affair on the third Saturday of each month. So plan to come and enjoy each others’ company and make it a habit. \nRegister on ClubReg
URL:https://suncoastpca.org/event/monthly-breakfast-at-skillets/2025-01-18/
LOCATION:Skillets Venice\, 4115 Tamiami Trail S\, Venice\, FL\, 34293\, United States
CATEGORIES:Social
END:VEVENT
BEGIN:VEVENT
DTSTART;TZID=America/New_York:20250115T120000
DTEND;TZID=America/New_York:20250115T120000
DTSTAMP:20260422T231452
CREATED:20221218T140258Z
LAST-MODIFIED:20260106T164716Z
UID:10001107-1736942400-1736942400@suncoastpca.org
SUMMARY:Monthly Luncheon - Clearwater
DESCRIPTION:Tired of the same old sandwiches for lunch? Join your fellow PCA members for great food and interesting conversations at Quaker Steak & Lube\, 10400 49th St. N\, Clearwater\, FL 33762. We’re meeting the 3rd Wednesday of each month. No pre-registration required! If your schedule permits\, just show up at noon! Private room\, full menu and lunch specials. Their parking lot is very Porsche friendly so it will be an opportunity to show off your car as well!
URL:https://suncoastpca.org/event/monthly-luncheon-4/2025-01-15/
LOCATION:Quaker Steak & Lube\, 10400 49th St. N\, Clearwater\, FL\, 33762\, United States
CATEGORIES:Social
END:VEVENT
BEGIN:VEVENT
DTSTART;TZID=America/New_York:20250104T083000
DTEND;TZID=America/New_York:20250104T083000
DTSTAMP:20260422T231452
CREATED:20230804T145344Z
LAST-MODIFIED:20260106T164740Z
UID:10000908-1735979400-1735979400@suncoastpca.org
SUMMARY:Monthly Breakfast - Bradenton
DESCRIPTION:Come join your fellow Suncoast Porsche Club members and guests for our monthly breakfast at Skillets Restaurant! \nREGISTRATION REQUIRED via ClubReg so Skillet’s Bradenton can provide proper staffing for our group.  \nhttps://clubregistration.net/
URL:https://suncoastpca.org/event/monthly-breakfast-at-skillets-3/2025-01-04/
LOCATION:Skillets Bradenton\, 9722 FL-64\, Bradenton\, FL\, 34212\, United States
CATEGORIES:Social
END:VEVENT
BEGIN:VEVENT
DTSTART;TZID=America/New_York:20241221T083000
DTEND;TZID=America/New_York:20241221T083000
DTSTAMP:20260422T231452
CREATED:20220812T212713Z
LAST-MODIFIED:20260106T160125Z
UID:10000969-1734769800-1734769800@suncoastpca.org
SUMMARY:Monthly Breakfast - Venice
DESCRIPTION:Come join your fellow Suncoast Porsche members and guests for the monthly breakfast at Skillets at 4115 South Tamiami Trail South\, in Venice. We will be gathering at 8:30am Saturday\, August 20th. The restaurant can provide seating for us both at tables inside and outside. \nThis a monthly affair on the third Saturday of each month. So plan to come and enjoy each others’ company and make it a habit. \nRegister on ClubReg
URL:https://suncoastpca.org/event/monthly-breakfast-at-skillets/2024-12-21/
LOCATION:Skillets Venice\, 4115 Tamiami Trail S\, Venice\, FL\, 34293\, United States
CATEGORIES:Social
END:VEVENT
BEGIN:VEVENT
DTSTART;TZID=America/New_York:20241218T120000
DTEND;TZID=America/New_York:20241218T120000
DTSTAMP:20260422T231452
CREATED:20221218T140258Z
LAST-MODIFIED:20260106T164716Z
UID:10001106-1734523200-1734523200@suncoastpca.org
SUMMARY:Monthly Luncheon - Clearwater
DESCRIPTION:Tired of the same old sandwiches for lunch? Join your fellow PCA members for great food and interesting conversations at Quaker Steak & Lube\, 10400 49th St. N\, Clearwater\, FL 33762. We’re meeting the 3rd Wednesday of each month. No pre-registration required! If your schedule permits\, just show up at noon! Private room\, full menu and lunch specials. Their parking lot is very Porsche friendly so it will be an opportunity to show off your car as well!
URL:https://suncoastpca.org/event/monthly-luncheon-4/2024-12-18/
LOCATION:Quaker Steak & Lube\, 10400 49th St. N\, Clearwater\, FL\, 33762\, United States
CATEGORIES:Social
END:VEVENT
BEGIN:VEVENT
DTSTART;TZID=America/New_York:20241214T190000
DTEND;TZID=America/New_York:20241214T220000
DTSTAMP:20260422T231452
CREATED:20241015T203901Z
LAST-MODIFIED:20241015T203948Z
UID:10001090-1734202800-1734213600@suncoastpca.org
SUMMARY:Holiday Gala
DESCRIPTION:“Wine & Dine Around the World” \nYou’re invited to an exciting evening of global cuisine! Join us for a culinary adventure where we’ll savor delicious hors d’oeuvres and desserts with wine or beer pairings from around the world. Come ready to indulge your taste buds and enjoy great company. Please register promptly as space limited. We can’t wait to celebrate the flavors of the world with you! \nWhere: St Pete Cellars\n1501 22nd St N\, St Petersburg\, FL 33704 \nRegistration link: https://clubregistration.net/events/event-details.cfm?event_id=15076
URL:https://suncoastpca.org/event/holiday-gala-4/
LOCATION:St Pete Cellars\, 1501 22nd Street North\, St Petersburg\, 33713\, United States
CATEGORIES:Social
END:VEVENT
BEGIN:VEVENT
DTSTART;TZID=America/New_York:20241207T083000
DTEND;TZID=America/New_York:20241207T083000
DTSTAMP:20260422T231452
CREATED:20230804T145344Z
LAST-MODIFIED:20260106T164740Z
UID:10000907-1733560200-1733560200@suncoastpca.org
SUMMARY:Monthly Breakfast - Bradenton
DESCRIPTION:Come join your fellow Suncoast Porsche Club members and guests for our monthly breakfast at Skillets Restaurant! \nREGISTRATION REQUIRED via ClubReg so Skillet’s Bradenton can provide proper staffing for our group.  \nhttps://clubregistration.net/
URL:https://suncoastpca.org/event/monthly-breakfast-at-skillets-3/2024-12-07/
LOCATION:Skillets Bradenton\, 9722 FL-64\, Bradenton\, FL\, 34212\, United States
CATEGORIES:Social
END:VEVENT
BEGIN:VEVENT
DTSTART;TZID=America/New_York:20241120T120000
DTEND;TZID=America/New_York:20241120T120000
DTSTAMP:20260422T231452
CREATED:20221218T140258Z
LAST-MODIFIED:20260106T164716Z
UID:10000871-1732104000-1732104000@suncoastpca.org
SUMMARY:Monthly Luncheon - Clearwater
DESCRIPTION:Tired of the same old sandwiches for lunch? Join your fellow PCA members for great food and interesting conversations at Quaker Steak & Lube\, 10400 49th St. N\, Clearwater\, FL 33762. We’re meeting the 3rd Wednesday of each month. No pre-registration required! If your schedule permits\, just show up at noon! Private room\, full menu and lunch specials. Their parking lot is very Porsche friendly so it will be an opportunity to show off your car as well!
URL:https://suncoastpca.org/event/monthly-luncheon-4/2024-11-20/
LOCATION:Quaker Steak & Lube\, 10400 49th St. N\, Clearwater\, FL\, 33762\, United States
CATEGORIES:Social
END:VEVENT
END:VCALENDAR