BEGIN:VCALENDAR
VERSION:2.0
PRODID:-//Suncoast Florida Region - PCA - ECPv6.15.20//NONSGML v1.0//EN
CALSCALE:GREGORIAN
METHOD:PUBLISH
X-WR-CALNAME:Suncoast Florida Region - PCA
X-ORIGINAL-URL:https://suncoastpca.org
X-WR-CALDESC:Events for Suncoast Florida Region - PCA
REFRESH-INTERVAL;VALUE=DURATION:PT1H
X-Robots-Tag:noindex
X-PUBLISHED-TTL:PT1H
BEGIN:VTIMEZONE
TZID:America/New_York
BEGIN:DAYLIGHT
TZOFFSETFROM:-0500
TZOFFSETTO:-0400
TZNAME:EDT
DTSTART:20220313T070000
END:DAYLIGHT
BEGIN:STANDARD
TZOFFSETFROM:-0400
TZOFFSETTO:-0500
TZNAME:EST
DTSTART:20221106T060000
END:STANDARD
BEGIN:DAYLIGHT
TZOFFSETFROM:-0500
TZOFFSETTO:-0400
TZNAME:EDT
DTSTART:20230312T070000
END:DAYLIGHT
BEGIN:STANDARD
TZOFFSETFROM:-0400
TZOFFSETTO:-0500
TZNAME:EST
DTSTART:20231105T060000
END:STANDARD
BEGIN:DAYLIGHT
TZOFFSETFROM:-0500
TZOFFSETTO:-0400
TZNAME:EDT
DTSTART:20240310T070000
END:DAYLIGHT
BEGIN:STANDARD
TZOFFSETFROM:-0400
TZOFFSETTO:-0500
TZNAME:EST
DTSTART:20241103T060000
END:STANDARD
BEGIN:DAYLIGHT
TZOFFSETFROM:-0500
TZOFFSETTO:-0400
TZNAME:EDT
DTSTART:20250309T070000
END:DAYLIGHT
BEGIN:STANDARD
TZOFFSETFROM:-0400
TZOFFSETTO:-0500
TZNAME:EST
DTSTART:20251102T060000
END:STANDARD
END:VTIMEZONE
BEGIN:VEVENT
DTSTART;TZID=America/New_York:20240504T083000
DTEND;TZID=America/New_York:20240504T083000
DTSTAMP:20260423T094854
CREATED:20230804T145344Z
LAST-MODIFIED:20260106T164740Z
UID:10000900-1714811400-1714811400@suncoastpca.org
SUMMARY:Monthly Breakfast - Bradenton
DESCRIPTION:Come join your fellow Suncoast Porsche Club members and guests for our monthly breakfast at Skillets Restaurant! \nREGISTRATION REQUIRED via ClubReg so Skillet’s Bradenton can provide proper staffing for our group.  \nhttps://clubregistration.net/
URL:https://suncoastpca.org/event/monthly-breakfast-at-skillets-3/2024-05-04/
LOCATION:Skillets Bradenton\, 9722 FL-64\, Bradenton\, FL\, 34212\, United States
CATEGORIES:Social
END:VEVENT
BEGIN:VEVENT
DTSTART;TZID=America/New_York:20240420T090000
DTEND;TZID=America/New_York:20240420T110000
DTSTAMP:20260423T094854
CREATED:20221112T214735Z
LAST-MODIFIED:20240520T215100Z
UID:10000831-1713603600-1713610800@suncoastpca.org
SUMMARY:Monthly Breakfast at Clear Sky Club Haus
DESCRIPTION:Please join us for our new and latest monthly breakfast at the Clear Sky Club Haus\, at 36355 East Lake Road South\, at the north end of the Ridgemoor Plaza Shopping Center\, in Palm Harbor. This will be a recurring monthly event. \nWe will begin at 9:00am. Your host for this event is Bill Schultz. \nWe encourage our members to come and bring your guests for a great time. \nRegister on ClubReg
URL:https://suncoastpca.org/event/monthly-breakfast-at-clear-sky-club-haus-2/2024-04-20/
LOCATION:Clear Sky Club Haus\, 36355 East Lake Road South\, Palm Harbor\, FL\, 34685\, United States
CATEGORIES:Social
END:VEVENT
BEGIN:VEVENT
DTSTART;TZID=America/New_York:20240420T083000
DTEND;TZID=America/New_York:20240420T083000
DTSTAMP:20260423T094854
CREATED:20220812T212713Z
LAST-MODIFIED:20260106T160125Z
UID:10000961-1713601800-1713601800@suncoastpca.org
SUMMARY:Monthly Breakfast - Venice
DESCRIPTION:Come join your fellow Suncoast Porsche members and guests for the monthly breakfast at Skillets at 4115 South Tamiami Trail South\, in Venice. We will be gathering at 8:30am Saturday\, August 20th. The restaurant can provide seating for us both at tables inside and outside. \nThis a monthly affair on the third Saturday of each month. So plan to come and enjoy each others’ company and make it a habit. \nRegister on ClubReg
URL:https://suncoastpca.org/event/monthly-breakfast-at-skillets/2024-04-20/
LOCATION:Skillets Venice\, 4115 Tamiami Trail S\, Venice\, FL\, 34293\, United States
CATEGORIES:Social
END:VEVENT
BEGIN:VEVENT
DTSTART;TZID=America/New_York:20240417T180000
DTEND;TZID=America/New_York:20240417T180000
DTSTAMP:20260423T094854
CREATED:20240322T122948Z
LAST-MODIFIED:20240322T122948Z
UID:10001041-1713376800-1713376800@suncoastpca.org
SUMMARY:Date Your Porsche Night
DESCRIPTION:Come and join your fellow Suncoast Porsche members and guests for Dinner at Riveters of Tampa\, located at 2301 North Dale Mabry Hwy. \nParking will be blocked off and will start at 6pm\, Wednesday\, April 17. They have a large and diversified menu\, with many unique items sure to satisfy everyone. Our hosts for the evening will be Anne and David Hale. Riveters hosts many car clubs and they are providing a parking attendant to assist in parking our Porsches. \nWe look forward to seeing you there!
URL:https://suncoastpca.org/event/date-your-porsche-night-65/
LOCATION:Riveters Sports Bar\, 2301 North Dale Mabry Hwy\, Tampa\, FL\, 33607\, United States
CATEGORIES:Social
END:VEVENT
BEGIN:VEVENT
DTSTART;TZID=America/New_York:20240417T120000
DTEND;TZID=America/New_York:20240417T120000
DTSTAMP:20260423T094854
CREATED:20221218T140258Z
LAST-MODIFIED:20260106T164716Z
UID:10000864-1713355200-1713355200@suncoastpca.org
SUMMARY:Monthly Luncheon - Clearwater
DESCRIPTION:Tired of the same old sandwiches for lunch? Join your fellow PCA members for great food and interesting conversations at Quaker Steak & Lube\, 10400 49th St. N\, Clearwater\, FL 33762. We’re meeting the 3rd Wednesday of each month. No pre-registration required! If your schedule permits\, just show up at noon! Private room\, full menu and lunch specials. Their parking lot is very Porsche friendly so it will be an opportunity to show off your car as well!
URL:https://suncoastpca.org/event/monthly-luncheon-4/2024-04-17/
LOCATION:Quaker Steak & Lube\, 10400 49th St. N\, Clearwater\, FL\, 33762\, United States
CATEGORIES:Social
END:VEVENT
BEGIN:VEVENT
DTSTART;TZID=America/New_York:20240406T083000
DTEND;TZID=America/New_York:20240406T083000
DTSTAMP:20260423T094854
CREATED:20230804T145344Z
LAST-MODIFIED:20260106T164740Z
UID:10000899-1712392200-1712392200@suncoastpca.org
SUMMARY:Monthly Breakfast - Bradenton
DESCRIPTION:Come join your fellow Suncoast Porsche Club members and guests for our monthly breakfast at Skillets Restaurant! \nREGISTRATION REQUIRED via ClubReg so Skillet’s Bradenton can provide proper staffing for our group.  \nhttps://clubregistration.net/
URL:https://suncoastpca.org/event/monthly-breakfast-at-skillets-3/2024-04-06/
LOCATION:Skillets Bradenton\, 9722 FL-64\, Bradenton\, FL\, 34212\, United States
CATEGORIES:Social
END:VEVENT
BEGIN:VEVENT
DTSTART;TZID=America/New_York:20240404T180000
DTEND;TZID=America/New_York:20240404T180000
DTSTAMP:20260423T094854
CREATED:20240322T122727Z
LAST-MODIFIED:20240322T122727Z
UID:10001040-1712253600-1712253600@suncoastpca.org
SUMMARY:Wine 101
DESCRIPTION:Join us for the WINE #101 ‘HOW TO’! Get ready to explore and indulge in a delightful evening of tastings and learning. This in-person event will take place on Thursday April 4th\, 2024 at 6:00 PM. \nWhether you’re a wine connoisseur or just curious about the art of tasting\, this event is for you!\nDiscover the secrets behind the perfect pairings\, learn about different flavors and aromas\, and gain insights from our knowledgeable Cellar Master Dan Myers. Uncover the ‘HOW TO’ of wine tasting\, review a brief intro to winemaking\, take a dive into proper wine aging\, and enhance your appreciation for the world of beverage and food pairing.\nDon’t miss out on this unique opportunity to dip your toes into wine\, expand your palate and enjoy a fun-filled evening. Open only to Members of Suncoast Porsche Club of America. \nApril 4\, 2024 at 6pm\nSt Pete Cellars\n1501 22nd St N\nSt. Pete \nRegistration is required at this link: https://www.eventbrite.com/e/suncoast-porsche-club-of-america-wine-tasting-st-pete-cellars-wine-101-tickets-859074844987?aff=oddtdtcreator \nPassword: SunnyPCA \nSeating is limited to 24
URL:https://suncoastpca.org/event/wine-101/
LOCATION:St Pete Cellars\, 1501 22nd Street North\, St Petersburg\, 33713\, United States
CATEGORIES:Social
END:VEVENT
BEGIN:VEVENT
DTSTART;TZID=America/New_York:20240320T120000
DTEND;TZID=America/New_York:20240320T120000
DTSTAMP:20260423T094854
CREATED:20221218T140258Z
LAST-MODIFIED:20260106T164716Z
UID:10000863-1710936000-1710936000@suncoastpca.org
SUMMARY:Monthly Luncheon - Clearwater
DESCRIPTION:Tired of the same old sandwiches for lunch? Join your fellow PCA members for great food and interesting conversations at Quaker Steak & Lube\, 10400 49th St. N\, Clearwater\, FL 33762. We’re meeting the 3rd Wednesday of each month. No pre-registration required! If your schedule permits\, just show up at noon! Private room\, full menu and lunch specials. Their parking lot is very Porsche friendly so it will be an opportunity to show off your car as well!
URL:https://suncoastpca.org/event/monthly-luncheon-4/2024-03-20/
LOCATION:Quaker Steak & Lube\, 10400 49th St. N\, Clearwater\, FL\, 33762\, United States
CATEGORIES:Social
END:VEVENT
BEGIN:VEVENT
DTSTART;TZID=America/New_York:20240316T090000
DTEND;TZID=America/New_York:20240316T110000
DTSTAMP:20260423T094854
CREATED:20221112T214735Z
LAST-MODIFIED:20240520T215100Z
UID:10000830-1710579600-1710586800@suncoastpca.org
SUMMARY:Monthly Breakfast at Clear Sky Club Haus
DESCRIPTION:Please join us for our new and latest monthly breakfast at the Clear Sky Club Haus\, at 36355 East Lake Road South\, at the north end of the Ridgemoor Plaza Shopping Center\, in Palm Harbor. This will be a recurring monthly event. \nWe will begin at 9:00am. Your host for this event is Bill Schultz. \nWe encourage our members to come and bring your guests for a great time. \nRegister on ClubReg
URL:https://suncoastpca.org/event/monthly-breakfast-at-clear-sky-club-haus-2/2024-03-16/
LOCATION:Clear Sky Club Haus\, 36355 East Lake Road South\, Palm Harbor\, FL\, 34685\, United States
CATEGORIES:Social
END:VEVENT
BEGIN:VEVENT
DTSTART;TZID=America/New_York:20240316T083000
DTEND;TZID=America/New_York:20240316T083000
DTSTAMP:20260423T094854
CREATED:20220812T212713Z
LAST-MODIFIED:20260106T160125Z
UID:10000960-1710577800-1710577800@suncoastpca.org
SUMMARY:Monthly Breakfast - Venice
DESCRIPTION:Come join your fellow Suncoast Porsche members and guests for the monthly breakfast at Skillets at 4115 South Tamiami Trail South\, in Venice. We will be gathering at 8:30am Saturday\, August 20th. The restaurant can provide seating for us both at tables inside and outside. \nThis a monthly affair on the third Saturday of each month. So plan to come and enjoy each others’ company and make it a habit. \nRegister on ClubReg
URL:https://suncoastpca.org/event/monthly-breakfast-at-skillets/2024-03-16/
LOCATION:Skillets Venice\, 4115 Tamiami Trail S\, Venice\, FL\, 34293\, United States
CATEGORIES:Social
END:VEVENT
BEGIN:VEVENT
DTSTART;TZID=America/New_York:20240302T083000
DTEND;TZID=America/New_York:20240302T083000
DTSTAMP:20260423T094854
CREATED:20230804T145344Z
LAST-MODIFIED:20260106T164740Z
UID:10000898-1709368200-1709368200@suncoastpca.org
SUMMARY:Monthly Breakfast - Bradenton
DESCRIPTION:Come join your fellow Suncoast Porsche Club members and guests for our monthly breakfast at Skillets Restaurant! \nREGISTRATION REQUIRED via ClubReg so Skillet’s Bradenton can provide proper staffing for our group.  \nhttps://clubregistration.net/
URL:https://suncoastpca.org/event/monthly-breakfast-at-skillets-3/2024-03-02/
LOCATION:Skillets Bradenton\, 9722 FL-64\, Bradenton\, FL\, 34212\, United States
CATEGORIES:Social
END:VEVENT
BEGIN:VEVENT
DTSTART;TZID=America/New_York:20240221T120000
DTEND;TZID=America/New_York:20240221T120000
DTSTAMP:20260423T094854
CREATED:20221218T140258Z
LAST-MODIFIED:20260106T164716Z
UID:10000862-1708516800-1708516800@suncoastpca.org
SUMMARY:Monthly Luncheon - Clearwater
DESCRIPTION:Tired of the same old sandwiches for lunch? Join your fellow PCA members for great food and interesting conversations at Quaker Steak & Lube\, 10400 49th St. N\, Clearwater\, FL 33762. We’re meeting the 3rd Wednesday of each month. No pre-registration required! If your schedule permits\, just show up at noon! Private room\, full menu and lunch specials. Their parking lot is very Porsche friendly so it will be an opportunity to show off your car as well!
URL:https://suncoastpca.org/event/monthly-luncheon-4/2024-02-21/
LOCATION:Quaker Steak & Lube\, 10400 49th St. N\, Clearwater\, FL\, 33762\, United States
CATEGORIES:Social
END:VEVENT
BEGIN:VEVENT
DTSTART;TZID=America/New_York:20240217T090000
DTEND;TZID=America/New_York:20240217T110000
DTSTAMP:20260423T094854
CREATED:20221112T214735Z
LAST-MODIFIED:20240520T215100Z
UID:10000829-1708160400-1708167600@suncoastpca.org
SUMMARY:Monthly Breakfast at Clear Sky Club Haus
DESCRIPTION:Please join us for our new and latest monthly breakfast at the Clear Sky Club Haus\, at 36355 East Lake Road South\, at the north end of the Ridgemoor Plaza Shopping Center\, in Palm Harbor. This will be a recurring monthly event. \nWe will begin at 9:00am. Your host for this event is Bill Schultz. \nWe encourage our members to come and bring your guests for a great time. \nRegister on ClubReg
URL:https://suncoastpca.org/event/monthly-breakfast-at-clear-sky-club-haus-2/2024-02-17/
LOCATION:Clear Sky Club Haus\, 36355 East Lake Road South\, Palm Harbor\, FL\, 34685\, United States
CATEGORIES:Social
END:VEVENT
BEGIN:VEVENT
DTSTART;TZID=America/New_York:20240217T083000
DTEND;TZID=America/New_York:20240217T083000
DTSTAMP:20260423T094854
CREATED:20220812T212713Z
LAST-MODIFIED:20260106T160125Z
UID:10000959-1708158600-1708158600@suncoastpca.org
SUMMARY:Monthly Breakfast - Venice
DESCRIPTION:Come join your fellow Suncoast Porsche members and guests for the monthly breakfast at Skillets at 4115 South Tamiami Trail South\, in Venice. We will be gathering at 8:30am Saturday\, August 20th. The restaurant can provide seating for us both at tables inside and outside. \nThis a monthly affair on the third Saturday of each month. So plan to come and enjoy each others’ company and make it a habit. \nRegister on ClubReg
URL:https://suncoastpca.org/event/monthly-breakfast-at-skillets/2024-02-17/
LOCATION:Skillets Venice\, 4115 Tamiami Trail S\, Venice\, FL\, 34293\, United States
CATEGORIES:Social
END:VEVENT
BEGIN:VEVENT
DTSTART;TZID=America/New_York:20240203T083000
DTEND;TZID=America/New_York:20240203T083000
DTSTAMP:20260423T094854
CREATED:20230804T145344Z
LAST-MODIFIED:20260106T164740Z
UID:10000897-1706949000-1706949000@suncoastpca.org
SUMMARY:Monthly Breakfast - Bradenton
DESCRIPTION:Come join your fellow Suncoast Porsche Club members and guests for our monthly breakfast at Skillets Restaurant! \nREGISTRATION REQUIRED via ClubReg so Skillet’s Bradenton can provide proper staffing for our group.  \nhttps://clubregistration.net/
URL:https://suncoastpca.org/event/monthly-breakfast-at-skillets-3/2024-02-03/
LOCATION:Skillets Bradenton\, 9722 FL-64\, Bradenton\, FL\, 34212\, United States
CATEGORIES:Social
END:VEVENT
BEGIN:VEVENT
DTSTART;TZID=America/New_York:20240125T183000
DTEND;TZID=America/New_York:20240125T213000
DTSTAMP:20260423T094854
CREATED:20240113T173113Z
LAST-MODIFIED:20240113T173113Z
UID:10001038-1706207400-1706218200@suncoastpca.org
SUMMARY:Date Your Porsche Night
DESCRIPTION:Thursday\, January 25\, 2024 at 6:30 pm. Enjoy a special evening with great Italian food and Wine Pairing at Carrabba’s Italian Grill located at 1951 4th Street North\, St. Petersburg\, 33704. \nCarrabba’s is offering this wine and dinner pairing exclusively for our group on this evening! \nThis event will feature a set\, four-course menu with corresponding wine pairing at each course. Menu price is anticipated to be $55++ per person. The exact menu offerings will be shared when finalized. You pay at the restaurant but must register in advance. \nCarrabba’s is located next to the Sunken Gardens. The parking lot is Porsche friendly. We need a minimum of 25 guests to be able to host the social. Encourage your friends to join you! See you there!
URL:https://suncoastpca.org/event/date-your-porsche-night-64/
LOCATION:Carrabba’s Italian Grill\, 1951 4th Street North\, St. Petersburg\, FL\, 33704\, United States
CATEGORIES:Social
END:VEVENT
BEGIN:VEVENT
DTSTART;TZID=America/New_York:20240120T090000
DTEND;TZID=America/New_York:20240120T110000
DTSTAMP:20260423T094854
CREATED:20221112T214735Z
LAST-MODIFIED:20240520T215100Z
UID:10000828-1705741200-1705748400@suncoastpca.org
SUMMARY:Monthly Breakfast at Clear Sky Club Haus
DESCRIPTION:Please join us for our new and latest monthly breakfast at the Clear Sky Club Haus\, at 36355 East Lake Road South\, at the north end of the Ridgemoor Plaza Shopping Center\, in Palm Harbor. This will be a recurring monthly event. \nWe will begin at 9:00am. Your host for this event is Bill Schultz. \nWe encourage our members to come and bring your guests for a great time. \nRegister on ClubReg
URL:https://suncoastpca.org/event/monthly-breakfast-at-clear-sky-club-haus-2/2024-01-20/
LOCATION:Clear Sky Club Haus\, 36355 East Lake Road South\, Palm Harbor\, FL\, 34685\, United States
CATEGORIES:Social
END:VEVENT
BEGIN:VEVENT
DTSTART;TZID=America/New_York:20240120T083000
DTEND;TZID=America/New_York:20240120T083000
DTSTAMP:20260423T094854
CREATED:20220812T212713Z
LAST-MODIFIED:20260106T160125Z
UID:10000958-1705739400-1705739400@suncoastpca.org
SUMMARY:Monthly Breakfast - Venice
DESCRIPTION:Come join your fellow Suncoast Porsche members and guests for the monthly breakfast at Skillets at 4115 South Tamiami Trail South\, in Venice. We will be gathering at 8:30am Saturday\, August 20th. The restaurant can provide seating for us both at tables inside and outside. \nThis a monthly affair on the third Saturday of each month. So plan to come and enjoy each others’ company and make it a habit. \nRegister on ClubReg
URL:https://suncoastpca.org/event/monthly-breakfast-at-skillets/2024-01-20/
LOCATION:Skillets Venice\, 4115 Tamiami Trail S\, Venice\, FL\, 34293\, United States
CATEGORIES:Social
END:VEVENT
BEGIN:VEVENT
DTSTART;TZID=America/New_York:20240117T120000
DTEND;TZID=America/New_York:20240117T120000
DTSTAMP:20260423T094854
CREATED:20221218T140258Z
LAST-MODIFIED:20260106T164716Z
UID:10000861-1705492800-1705492800@suncoastpca.org
SUMMARY:Monthly Luncheon - Clearwater
DESCRIPTION:Tired of the same old sandwiches for lunch? Join your fellow PCA members for great food and interesting conversations at Quaker Steak & Lube\, 10400 49th St. N\, Clearwater\, FL 33762. We’re meeting the 3rd Wednesday of each month. No pre-registration required! If your schedule permits\, just show up at noon! Private room\, full menu and lunch specials. Their parking lot is very Porsche friendly so it will be an opportunity to show off your car as well!
URL:https://suncoastpca.org/event/monthly-luncheon-4/2024-01-17/
LOCATION:Quaker Steak & Lube\, 10400 49th St. N\, Clearwater\, FL\, 33762\, United States
CATEGORIES:Social
END:VEVENT
BEGIN:VEVENT
DTSTART;TZID=America/New_York:20240106T083000
DTEND;TZID=America/New_York:20240106T083000
DTSTAMP:20260423T094854
CREATED:20230804T145344Z
LAST-MODIFIED:20260106T164740Z
UID:10000896-1704529800-1704529800@suncoastpca.org
SUMMARY:Monthly Breakfast - Bradenton
DESCRIPTION:Come join your fellow Suncoast Porsche Club members and guests for our monthly breakfast at Skillets Restaurant! \nREGISTRATION REQUIRED via ClubReg so Skillet’s Bradenton can provide proper staffing for our group.  \nhttps://clubregistration.net/
URL:https://suncoastpca.org/event/monthly-breakfast-at-skillets-3/2024-01-06/
LOCATION:Skillets Bradenton\, 9722 FL-64\, Bradenton\, FL\, 34212\, United States
CATEGORIES:Social
END:VEVENT
BEGIN:VEVENT
DTSTART;TZID=America/New_York:20231220T120000
DTEND;TZID=America/New_York:20231220T120000
DTSTAMP:20260423T094854
CREATED:20221218T140258Z
LAST-MODIFIED:20260106T164716Z
UID:10000860-1703073600-1703073600@suncoastpca.org
SUMMARY:Monthly Luncheon - Clearwater
DESCRIPTION:Tired of the same old sandwiches for lunch? Join your fellow PCA members for great food and interesting conversations at Quaker Steak & Lube\, 10400 49th St. N\, Clearwater\, FL 33762. We’re meeting the 3rd Wednesday of each month. No pre-registration required! If your schedule permits\, just show up at noon! Private room\, full menu and lunch specials. Their parking lot is very Porsche friendly so it will be an opportunity to show off your car as well!
URL:https://suncoastpca.org/event/monthly-luncheon-4/2023-12-20/
LOCATION:Quaker Steak & Lube\, 10400 49th St. N\, Clearwater\, FL\, 33762\, United States
CATEGORIES:Social
END:VEVENT
BEGIN:VEVENT
DTSTART;TZID=America/New_York:20231216T180000
DTEND;TZID=America/New_York:20231216T220000
DTSTAMP:20260423T094854
CREATED:20230806T153012Z
LAST-MODIFIED:20230806T153012Z
UID:10001018-1702749600-1702764000@suncoastpca.org
SUMMARY:Gala - Annual Member Celebration
DESCRIPTION:Join your fellow Suncoast PCA members for our annual Gala (Member Celebration) on Saturday\, December 16 from 6:00 p.m. to 10:00 p.m. at the St. Petersburg Yacht Club in St. Petersburg to celebrate another wonderful year! \nAdditional details will be provided as we get closer to the event date. \nThe St. Petersburg Yacht Club address is: 10 Central Avenue\, St. Petersburg\, FL 33701. Valet parking will be provided. There is limited on-street parking. \nhttps://clubregistration.net/events/event-details.cfm?event_id=13044
URL:https://suncoastpca.org/event/gala-annual-member-celebration-2/
LOCATION:St. Petersburg Yacht Club\, 11 Central Ave\, St. Petersburg\, FL\, 33701\, United States
CATEGORIES:Social
GEO:27.771472;-82.632594
X-APPLE-STRUCTURED-LOCATION;VALUE=URI;X-ADDRESS=St. Petersburg Yacht Club 11 Central Ave St. Petersburg FL 33701 United States;X-APPLE-RADIUS=500;X-TITLE=11 Central Ave:geo:-82.632594,27.771472
END:VEVENT
BEGIN:VEVENT
DTSTART;TZID=America/New_York:20231216T090000
DTEND;TZID=America/New_York:20231216T110000
DTSTAMP:20260423T094854
CREATED:20221112T214735Z
LAST-MODIFIED:20240520T215100Z
UID:10000827-1702717200-1702724400@suncoastpca.org
SUMMARY:Monthly Breakfast at Clear Sky Club Haus
DESCRIPTION:Please join us for our new and latest monthly breakfast at the Clear Sky Club Haus\, at 36355 East Lake Road South\, at the north end of the Ridgemoor Plaza Shopping Center\, in Palm Harbor. This will be a recurring monthly event. \nWe will begin at 9:00am. Your host for this event is Bill Schultz. \nWe encourage our members to come and bring your guests for a great time. \nRegister on ClubReg
URL:https://suncoastpca.org/event/monthly-breakfast-at-clear-sky-club-haus-2/2023-12-16/
LOCATION:Clear Sky Club Haus\, 36355 East Lake Road South\, Palm Harbor\, FL\, 34685\, United States
CATEGORIES:Social
END:VEVENT
BEGIN:VEVENT
DTSTART;TZID=America/New_York:20231216T083000
DTEND;TZID=America/New_York:20231216T083000
DTSTAMP:20260423T094854
CREATED:20220812T212713Z
LAST-MODIFIED:20260106T160125Z
UID:10000957-1702715400-1702715400@suncoastpca.org
SUMMARY:Monthly Breakfast - Venice
DESCRIPTION:Come join your fellow Suncoast Porsche members and guests for the monthly breakfast at Skillets at 4115 South Tamiami Trail South\, in Venice. We will be gathering at 8:30am Saturday\, August 20th. The restaurant can provide seating for us both at tables inside and outside. \nThis a monthly affair on the third Saturday of each month. So plan to come and enjoy each others’ company and make it a habit. \nRegister on ClubReg
URL:https://suncoastpca.org/event/monthly-breakfast-at-skillets/2023-12-16/
LOCATION:Skillets Venice\, 4115 Tamiami Trail S\, Venice\, FL\, 34293\, United States
CATEGORIES:Social
END:VEVENT
BEGIN:VEVENT
DTSTART;TZID=America/New_York:20231202T083000
DTEND;TZID=America/New_York:20231202T083000
DTSTAMP:20260423T094854
CREATED:20230804T145344Z
LAST-MODIFIED:20260106T164740Z
UID:10000895-1701505800-1701505800@suncoastpca.org
SUMMARY:Monthly Breakfast - Bradenton
DESCRIPTION:Come join your fellow Suncoast Porsche Club members and guests for our monthly breakfast at Skillets Restaurant! \nREGISTRATION REQUIRED via ClubReg so Skillet’s Bradenton can provide proper staffing for our group.  \nhttps://clubregistration.net/
URL:https://suncoastpca.org/event/monthly-breakfast-at-skillets-3/2023-12-02/
LOCATION:Skillets Bradenton\, 9722 FL-64\, Bradenton\, FL\, 34212\, United States
CATEGORIES:Social
END:VEVENT
BEGIN:VEVENT
DTSTART;TZID=America/New_York:20231118T090000
DTEND;TZID=America/New_York:20231118T110000
DTSTAMP:20260423T094854
CREATED:20221112T214735Z
LAST-MODIFIED:20240520T215100Z
UID:10000826-1700298000-1700305200@suncoastpca.org
SUMMARY:Monthly Breakfast at Clear Sky Club Haus
DESCRIPTION:Please join us for our new and latest monthly breakfast at the Clear Sky Club Haus\, at 36355 East Lake Road South\, at the north end of the Ridgemoor Plaza Shopping Center\, in Palm Harbor. This will be a recurring monthly event. \nWe will begin at 9:00am. Your host for this event is Bill Schultz. \nWe encourage our members to come and bring your guests for a great time. \nRegister on ClubReg
URL:https://suncoastpca.org/event/monthly-breakfast-at-clear-sky-club-haus-2/2023-11-18/
LOCATION:Clear Sky Club Haus\, 36355 East Lake Road South\, Palm Harbor\, FL\, 34685\, United States
CATEGORIES:Social
END:VEVENT
BEGIN:VEVENT
DTSTART;TZID=America/New_York:20231118T083000
DTEND;TZID=America/New_York:20231118T083000
DTSTAMP:20260423T094854
CREATED:20220812T212713Z
LAST-MODIFIED:20260106T160125Z
UID:10000956-1700296200-1700296200@suncoastpca.org
SUMMARY:Monthly Breakfast - Venice
DESCRIPTION:Come join your fellow Suncoast Porsche members and guests for the monthly breakfast at Skillets at 4115 South Tamiami Trail South\, in Venice. We will be gathering at 8:30am Saturday\, August 20th. The restaurant can provide seating for us both at tables inside and outside. \nThis a monthly affair on the third Saturday of each month. So plan to come and enjoy each others’ company and make it a habit. \nRegister on ClubReg
URL:https://suncoastpca.org/event/monthly-breakfast-at-skillets/2023-11-18/
LOCATION:Skillets Venice\, 4115 Tamiami Trail S\, Venice\, FL\, 34293\, United States
CATEGORIES:Social
END:VEVENT
BEGIN:VEVENT
DTSTART;TZID=America/New_York:20231115T120000
DTEND;TZID=America/New_York:20231115T120000
DTSTAMP:20260423T094854
CREATED:20221218T140258Z
LAST-MODIFIED:20260106T164716Z
UID:10000859-1700049600-1700049600@suncoastpca.org
SUMMARY:Monthly Luncheon - Clearwater
DESCRIPTION:Tired of the same old sandwiches for lunch? Join your fellow PCA members for great food and interesting conversations at Quaker Steak & Lube\, 10400 49th St. N\, Clearwater\, FL 33762. We’re meeting the 3rd Wednesday of each month. No pre-registration required! If your schedule permits\, just show up at noon! Private room\, full menu and lunch specials. Their parking lot is very Porsche friendly so it will be an opportunity to show off your car as well!
URL:https://suncoastpca.org/event/monthly-luncheon-4/2023-11-15/
LOCATION:Quaker Steak & Lube\, 10400 49th St. N\, Clearwater\, FL\, 33762\, United States
CATEGORIES:Social
END:VEVENT
BEGIN:VEVENT
DTSTART;TZID=America/New_York:20231104T170000
DTEND;TZID=America/New_York:20231104T210000
DTSTAMP:20260423T094854
CREATED:20230806T152800Z
LAST-MODIFIED:20230806T152800Z
UID:10001017-1699117200-1699131600@suncoastpca.org
SUMMARY:Wine\, Wheels & Wishes
DESCRIPTION:Suncoast Region PCA cordially invites you to the 2023 Wine Tasting and Dinner Charity Event to benefit Ready for Life\, a 501(c)(3) organization serving youth and young adults in the Tampa Bay Area (http://www.readyforlifepinellas.org/). The event is Saturday\, November 4\, approximately 5 pm (exact time will be announced closer to the event). The location is Mike Kwasin’s home in south Tampa. The registration fee is a donation\, all proceeds go to Ready for Life. \nThe evening includes an amazing dinner\, wines hand picked by Mike and a silent auction. \nAttendance is not confirmed until payment is received – please remember\, this is a fund raiser\, a very special event to support a wonderful organization. Location address will be in confirmation email. \nhttps://clubregistration.net/events/event-details.cfm?event_id=13626
URL:https://suncoastpca.org/event/wine-wheels-wishes/
LOCATION:Mike Kwasin’s Home\, 3613 S. Beach Drive\, Tampa\, FL\, 33629\, United States
CATEGORIES:Social
GEO:27.910035;-82.533317
X-APPLE-STRUCTURED-LOCATION;VALUE=URI;X-ADDRESS=Mike Kwasin’s Home 3613 S. Beach Drive Tampa FL 33629 United States;X-APPLE-RADIUS=500;X-TITLE=3613 S. Beach Drive:geo:-82.533317,27.910035
END:VEVENT
BEGIN:VEVENT
DTSTART;TZID=America/New_York:20231104T083000
DTEND;TZID=America/New_York:20231104T083000
DTSTAMP:20260423T094854
CREATED:20230804T145344Z
LAST-MODIFIED:20260106T164740Z
UID:10000894-1699086600-1699086600@suncoastpca.org
SUMMARY:Monthly Breakfast - Bradenton
DESCRIPTION:Come join your fellow Suncoast Porsche Club members and guests for our monthly breakfast at Skillets Restaurant! \nREGISTRATION REQUIRED via ClubReg so Skillet’s Bradenton can provide proper staffing for our group.  \nhttps://clubregistration.net/
URL:https://suncoastpca.org/event/monthly-breakfast-at-skillets-3/2023-11-04/
LOCATION:Skillets Bradenton\, 9722 FL-64\, Bradenton\, FL\, 34212\, United States
CATEGORIES:Social
END:VEVENT
END:VCALENDAR