BEGIN:VCALENDAR
VERSION:2.0
PRODID:-//Suncoast Florida Region - PCA - ECPv6.15.20//NONSGML v1.0//EN
CALSCALE:GREGORIAN
METHOD:PUBLISH
X-ORIGINAL-URL:https://suncoastpca.org
X-WR-CALDESC:Events for Suncoast Florida Region - PCA
REFRESH-INTERVAL;VALUE=DURATION:PT1H
X-Robots-Tag:noindex
X-PUBLISHED-TTL:PT1H
BEGIN:VTIMEZONE
TZID:America/New_York
BEGIN:DAYLIGHT
TZOFFSETFROM:-0500
TZOFFSETTO:-0400
TZNAME:EDT
DTSTART:20240310T070000
END:DAYLIGHT
BEGIN:STANDARD
TZOFFSETFROM:-0400
TZOFFSETTO:-0500
TZNAME:EST
DTSTART:20241103T060000
END:STANDARD
BEGIN:DAYLIGHT
TZOFFSETFROM:-0500
TZOFFSETTO:-0400
TZNAME:EDT
DTSTART:20250309T070000
END:DAYLIGHT
BEGIN:STANDARD
TZOFFSETFROM:-0400
TZOFFSETTO:-0500
TZNAME:EST
DTSTART:20251102T060000
END:STANDARD
BEGIN:DAYLIGHT
TZOFFSETFROM:-0500
TZOFFSETTO:-0400
TZNAME:EDT
DTSTART:20260308T070000
END:DAYLIGHT
BEGIN:STANDARD
TZOFFSETFROM:-0400
TZOFFSETTO:-0500
TZNAME:EST
DTSTART:20261101T060000
END:STANDARD
END:VTIMEZONE
BEGIN:VEVENT
DTSTART;TZID=America/New_York:20251101T083000
DTEND;TZID=America/New_York:20251101T083000
DTSTAMP:20260422T195549
CREATED:20230804T145344Z
LAST-MODIFIED:20260106T164740Z
UID:10000918-1761985800-1761985800@suncoastpca.org
SUMMARY:Monthly Breakfast - Bradenton
DESCRIPTION:Come join your fellow Suncoast Porsche Club members and guests for our monthly breakfast at Skillets Restaurant! \nREGISTRATION REQUIRED via ClubReg so Skillet’s Bradenton can provide proper staffing for our group.  \nhttps://clubregistration.net/
URL:https://suncoastpca.org/event/monthly-breakfast-at-skillets-3/2025-11-01/
LOCATION:Skillets Bradenton\, 9722 FL-64\, Bradenton\, FL\, 34212\, United States
CATEGORIES:Social
END:VEVENT
BEGIN:VEVENT
DTSTART;TZID=America/New_York:20251115T083000
DTEND;TZID=America/New_York:20251115T083000
DTSTAMP:20260422T195549
CREATED:20220812T212713Z
LAST-MODIFIED:20260106T160125Z
UID:10000980-1763195400-1763195400@suncoastpca.org
SUMMARY:Monthly Breakfast - Venice
DESCRIPTION:Come join your fellow Suncoast Porsche members and guests for the monthly breakfast at Skillets at 4115 South Tamiami Trail South\, in Venice. We will be gathering at 8:30am Saturday\, August 20th. The restaurant can provide seating for us both at tables inside and outside. \nThis a monthly affair on the third Saturday of each month. So plan to come and enjoy each others’ company and make it a habit. \nRegister on ClubReg
URL:https://suncoastpca.org/event/monthly-breakfast-at-skillets/2025-11-15/
LOCATION:Skillets Venice\, 4115 Tamiami Trail S\, Venice\, FL\, 34293\, United States
CATEGORIES:Social
END:VEVENT
BEGIN:VEVENT
DTSTART;TZID=America/New_York:20251118T170000
DTEND;TZID=America/New_York:20251118T170000
DTSTAMP:20260422T195549
CREATED:20251114T202225Z
LAST-MODIFIED:20251114T202239Z
UID:10001199-1763485200-1763485200@suncoastpca.org
SUMMARY:Date Your Porsche and Pooch Night
DESCRIPTION:Date your Porsche and Pooch Night \n5:00-6:00 Car Show/Mingle\n6:00 Dinner \n25526 Sierra Center Blvd\nLutz\, FL 33559\n813-540-3673 \nThe under roof/screened patio overlooking our cars in designated parking will be ours for the evening. Pets are welcome\, but not required. \nHosted by: Marshall Burnette \nhttps://clubregistration.net/events/signUp.cfm/event/16324
URL:https://suncoastpca.org/event/date-your-porsche-and-pooch-night/
LOCATION:Ford’s Garage – Wesley Chapel\, 25526 Sierra Center Blvd\, Lutz\, FL\, 33559\, United States
CATEGORIES:Social
END:VEVENT
BEGIN:VEVENT
DTSTART;TZID=America/New_York:20251119T120000
DTEND;TZID=America/New_York:20251119T120000
DTSTAMP:20260422T195549
CREATED:20221218T140258Z
LAST-MODIFIED:20260106T164716Z
UID:10001117-1763553600-1763553600@suncoastpca.org
SUMMARY:Monthly Luncheon - Clearwater
DESCRIPTION:Tired of the same old sandwiches for lunch? Join your fellow PCA members for great food and interesting conversations at Quaker Steak & Lube\, 10400 49th St. N\, Clearwater\, FL 33762. We’re meeting the 3rd Wednesday of each month. No pre-registration required! If your schedule permits\, just show up at noon! Private room\, full menu and lunch specials. Their parking lot is very Porsche friendly so it will be an opportunity to show off your car as well!
URL:https://suncoastpca.org/event/monthly-luncheon-4/2025-11-19/
LOCATION:Quaker Steak & Lube\, 10400 49th St. N\, Clearwater\, FL\, 33762\, United States
CATEGORIES:Social
END:VEVENT
BEGIN:VEVENT
DTSTART;TZID=America/New_York:20251122T080000
DTEND;TZID=America/New_York:20251122T103000
DTSTAMP:20260422T195549
CREATED:20250218T212537Z
LAST-MODIFIED:20250321T123431Z
UID:10001178-1763798400-1763807400@suncoastpca.org
SUMMARY:Monthly Breakfast at The Hangar
DESCRIPTION:Saturday\, March 22\, 2025 at 8:00AM for fellowship in the SE parking lot. Breakfast at 8:30. \nCome join your fellow Suncoast Porsche Club members and guests at The Hangar Restaurant & Flight Lounge! \n2nd Floor of the Albert Whitted Airport\n540 1st St S\, St. Petersburg\, FL 33701 \nYour host for this event is Charlie MacRossie 720-273-2716. \nRegister here: https://clubregistration.net
URL:https://suncoastpca.org/event/monthly-breakfast-at-the-hangar/2025-11-22/
LOCATION:The Hangar\, 540 1st St SE\, St. Petersburg\, FL\, 34238\, United States
CATEGORIES:Social
GEO:27.7646873;-82.633336
X-APPLE-STRUCTURED-LOCATION;VALUE=URI;X-ADDRESS=The Hangar 540 1st St SE St. Petersburg FL 34238 United States;X-APPLE-RADIUS=500;X-TITLE=540 1st St SE:geo:-82.633336,27.7646873
END:VEVENT
BEGIN:VEVENT
DTSTART;TZID=America/New_York:20251129T080000
DTEND;TZID=America/New_York:20251129T080000
DTSTAMP:20260422T195549
CREATED:20251114T202519Z
LAST-MODIFIED:20251114T202519Z
UID:10001200-1764403200-1764403200@suncoastpca.org
SUMMARY:Wheels of Color Gathering
DESCRIPTION:Attention all Suncoast Region members\, especially those that own a cherished 996 Model!  This show is for you!  This event is a “Show within a show” with the 996 Gathering being one of the first in the USA! \nThe 996 loyalists will arrive on Friday at Sebring\, but most will arrive Saturday where other car makes will be invited!  Car trailers are welcome and special colors are especially welcome!!! \nEvent requirements \nFirst annual “996 Gathering” will be a show inside the Wheels of Color Automotive Gathering show in Sebring this November 28-29th. \nGroup dinner and get together Friday night November 28th. \nPossible group tour of Sebring Raceway Friday November 28th. \nWheels of Color Automotive Gathering show; \n\nDate of show\, rain or shine\, Saturday\, November 29\, 2025 at The Sebring Motor Garages and Townhomes on US 98.\nShow hours\, car entry and setup 8AM to 10AM – show ends at 4PM EST. All displayed cars must stay in place until 4PM close of show. Public entry to show scheduled to start at 10AM.\nAll car entries must be in original factory paint color; repaints in original factory assigned color are ok. Road race cars are exempt from these requirements.\nTrophies will be awarded for each color group\, judging will be of exterior of car only\, no judges appeals with be allowed.\nAll entrants must agree to event waiver.\nSpectator public attendance is free. Each registered car gets admission for two at $75.00 per car.\nNo animals allowed.\n\nRegistration Ends Saturday November 15th\, 2025 \nDate of Show is Saturday November 29th\, 2025 \nLocated at Sebring Motor Garages in Sebring\, FL \nUse pcar20 Discount code when registering. \nRegistration is located at: www.msreg.com/wheelsofcolor
URL:https://suncoastpca.org/event/wheels-of-color-gathering/
LOCATION:FL
CATEGORIES:Social
END:VEVENT
BEGIN:VEVENT
DTSTART;TZID=America/New_York:20251130T080000
DTEND;TZID=America/New_York:20251130T120000
DTSTAMP:20260422T195549
CREATED:20250911T175219Z
LAST-MODIFIED:20250911T175219Z
UID:10001186-1764489600-1764504000@suncoastpca.org
SUMMARY:Swap Meet with Wash & Shine
DESCRIPTION:QUAKER STEAK AND LUBE\n10400 49TH STREET N. CLEARWATER\, FL \nBENEFITING KART 4 KIDS \nSWAP MEET set up 8 AM *** $20.00 MINIMUM DONATION \nBring whatever you need to set up in a vacant parking spot such as tents\, chairs & tables \nWASH & SHINE set up 8:30 AM *** $20.00 MINIMUM DONATION \nJudging beginning at 10:30 AM and awards at 12:00 PM \nGawkers and Shoppers ** 9:30 AM DONATIONS APPRECIATED ** Bring plenty of cash \nRestaurant restrooms open by 9:00 with a brunch/lunch available at 11:00 \nPlease support our hosts\, Quaker Steak and Lube \nRegister and pay on clubreg.net\, or when you arrive. Proceeds to KART 4 KIDS who supports Johns Hopkins All Children’s Hospital. \nContacts: \nSwap Meet – Page Obenshain\, page6532@gmail.com \nWash & Shine – Brian West\, bwfst84@gmail.com
URL:https://suncoastpca.org/event/swap-meet-with-wash-shine/
LOCATION:Quaker Steak & Lube\, 10400 49th St. N\, Clearwater\, FL\, 33762\, United States
CATEGORIES:Social
END:VEVENT
END:VCALENDAR