BEGIN:VCALENDAR
VERSION:2.0
PRODID:-//Suncoast Florida Region - PCA - ECPv6.15.20//NONSGML v1.0//EN
CALSCALE:GREGORIAN
METHOD:PUBLISH
X-ORIGINAL-URL:https://suncoastpca.org
X-WR-CALDESC:Events for Suncoast Florida Region - PCA
REFRESH-INTERVAL;VALUE=DURATION:PT1H
X-Robots-Tag:noindex
X-PUBLISHED-TTL:PT1H
BEGIN:VTIMEZONE
TZID:America/New_York
BEGIN:DAYLIGHT
TZOFFSETFROM:-0500
TZOFFSETTO:-0400
TZNAME:EDT
DTSTART:20230312T070000
END:DAYLIGHT
BEGIN:STANDARD
TZOFFSETFROM:-0400
TZOFFSETTO:-0500
TZNAME:EST
DTSTART:20231105T060000
END:STANDARD
BEGIN:DAYLIGHT
TZOFFSETFROM:-0500
TZOFFSETTO:-0400
TZNAME:EDT
DTSTART:20240310T070000
END:DAYLIGHT
BEGIN:STANDARD
TZOFFSETFROM:-0400
TZOFFSETTO:-0500
TZNAME:EST
DTSTART:20241103T060000
END:STANDARD
BEGIN:DAYLIGHT
TZOFFSETFROM:-0500
TZOFFSETTO:-0400
TZNAME:EDT
DTSTART:20250309T070000
END:DAYLIGHT
BEGIN:STANDARD
TZOFFSETFROM:-0400
TZOFFSETTO:-0500
TZNAME:EST
DTSTART:20251102T060000
END:STANDARD
END:VTIMEZONE
BEGIN:VEVENT
DTSTART;TZID=America/New_York:20241005T083000
DTEND;TZID=America/New_York:20241005T083000
DTSTAMP:20260423T155543
CREATED:20230804T145344Z
LAST-MODIFIED:20260106T164740Z
UID:10000905-1728117000-1728117000@suncoastpca.org
SUMMARY:Monthly Breakfast - Bradenton
DESCRIPTION:Come join your fellow Suncoast Porsche Club members and guests for our monthly breakfast at Skillets Restaurant! \nREGISTRATION REQUIRED via ClubReg so Skillet’s Bradenton can provide proper staffing for our group.  \nhttps://clubregistration.net/
URL:https://suncoastpca.org/event/monthly-breakfast-at-skillets-3/2024-10-05/
LOCATION:Skillets Bradenton\, 9722 FL-64\, Bradenton\, FL\, 34212\, United States
CATEGORIES:Social
END:VEVENT
BEGIN:VEVENT
DTSTART;TZID=America/New_York:20241016T120000
DTEND;TZID=America/New_York:20241016T120000
DTSTAMP:20260423T155543
CREATED:20221218T140258Z
LAST-MODIFIED:20260106T164716Z
UID:10000870-1729080000-1729080000@suncoastpca.org
SUMMARY:Monthly Luncheon - Clearwater
DESCRIPTION:Tired of the same old sandwiches for lunch? Join your fellow PCA members for great food and interesting conversations at Quaker Steak & Lube\, 10400 49th St. N\, Clearwater\, FL 33762. We’re meeting the 3rd Wednesday of each month. No pre-registration required! If your schedule permits\, just show up at noon! Private room\, full menu and lunch specials. Their parking lot is very Porsche friendly so it will be an opportunity to show off your car as well!
URL:https://suncoastpca.org/event/monthly-luncheon-4/2024-10-16/
LOCATION:Quaker Steak & Lube\, 10400 49th St. N\, Clearwater\, FL\, 33762\, United States
CATEGORIES:Social
END:VEVENT
BEGIN:VEVENT
DTSTART;TZID=America/New_York:20241019T083000
DTEND;TZID=America/New_York:20241019T083000
DTSTAMP:20260423T155543
CREATED:20220812T212713Z
LAST-MODIFIED:20260106T160125Z
UID:10000967-1729326600-1729326600@suncoastpca.org
SUMMARY:Monthly Breakfast - Venice
DESCRIPTION:Come join your fellow Suncoast Porsche members and guests for the monthly breakfast at Skillets at 4115 South Tamiami Trail South\, in Venice. We will be gathering at 8:30am Saturday\, August 20th. The restaurant can provide seating for us both at tables inside and outside. \nThis a monthly affair on the third Saturday of each month. So plan to come and enjoy each others’ company and make it a habit. \nRegister on ClubReg
URL:https://suncoastpca.org/event/monthly-breakfast-at-skillets/2024-10-19/
LOCATION:Skillets Venice\, 4115 Tamiami Trail S\, Venice\, FL\, 34293\, United States
CATEGORIES:Social
END:VEVENT
BEGIN:VEVENT
DTSTART;TZID=America/New_York:20241019T090000
DTEND;TZID=America/New_York:20241019T110000
DTSTAMP:20260423T155543
CREATED:20221112T214735Z
LAST-MODIFIED:20240520T215100Z
UID:10000848-1729328400-1729335600@suncoastpca.org
SUMMARY:Monthly Breakfast at Clear Sky Club Haus
DESCRIPTION:Please join us for our new and latest monthly breakfast at the Clear Sky Club Haus\, at 36355 East Lake Road South\, at the north end of the Ridgemoor Plaza Shopping Center\, in Palm Harbor. This will be a recurring monthly event. \nWe will begin at 9:00am. Your host for this event is Bill Schultz. \nWe encourage our members to come and bring your guests for a great time. \nRegister on ClubReg
URL:https://suncoastpca.org/event/monthly-breakfast-at-clear-sky-club-haus-2/2024-10-19/
LOCATION:Clear Sky Club Haus\, 36355 East Lake Road South\, Palm Harbor\, FL\, 34685\, United States
CATEGORIES:Social
END:VEVENT
BEGIN:VEVENT
DTSTART;TZID=America/New_York:20241026T083000
DTEND;TZID=America/New_York:20241026T120000
DTSTAMP:20260423T155543
CREATED:20241021T210208Z
LAST-MODIFIED:20241021T210208Z
UID:10001091-1729931400-1729944000@suncoastpca.org
SUMMARY:Porsche Pantry with Car Show and Coffee
DESCRIPTION:Join your fellow Suncoast PCA members in a food drive to benefit the Food Bank at First Baptist Church\, 1900 Gandy Blvd N.\, St. Petersburg\, FL\, 33702 on Saturday\, October 26. This year\, we’re combining with a car show! Prizes will be awarded for categories such as Sportiest Sports Car\, and Classiest Classic. This is not a concours\, any car can be entered in the show. It’s all for fun! If you do want to enter your car in the show\, plan to arrive no later than 8:45 am\, the show and judging will be from 9:00am to 10:00 am. Awards will be presented immediately after\, departure around 10:30am am. If you do not enter your car in the show\, you can arrive anytime before 9:30 am (we want you to be able to participate in the car show judging!). We will have coffee\, water and some breakfast goodies for you to enjoy. \nEveryone should bring your donations of non-perishable food and/or grocery store gift cards. This is a chance to give back to our community and help others less fortunate. \nThe church has a large parking lot\, very Porsche friendly with lots of room for the car show. Please respond with estimated number of attendees so we can have enough refreshments for all and answer the registration questions to let us know whether you will enter your car in the show. \nHope to see you there! \nhttps://clubregistration.net/events/event-details.cfm?event_id=14676
URL:https://suncoastpca.org/event/porsche-pantry-with-car-show-and-coffee/
LOCATION:First Baptist Church\, 1900 Gandy Blvd N.\, St Petersburg\, FL\, 33702\, United States
CATEGORIES:Social
END:VEVENT
END:VCALENDAR