BEGIN:VCALENDAR
VERSION:2.0
PRODID:-//Suncoast Florida Region - PCA - ECPv6.15.20//NONSGML v1.0//EN
CALSCALE:GREGORIAN
METHOD:PUBLISH
X-WR-CALNAME:Suncoast Florida Region - PCA
X-ORIGINAL-URL:https://suncoastpca.org
X-WR-CALDESC:Events for Suncoast Florida Region - PCA
REFRESH-INTERVAL;VALUE=DURATION:PT1H
X-Robots-Tag:noindex
X-PUBLISHED-TTL:PT1H
BEGIN:VTIMEZONE
TZID:America/New_York
BEGIN:DAYLIGHT
TZOFFSETFROM:-0500
TZOFFSETTO:-0400
TZNAME:EDT
DTSTART:20230312T070000
END:DAYLIGHT
BEGIN:STANDARD
TZOFFSETFROM:-0400
TZOFFSETTO:-0500
TZNAME:EST
DTSTART:20231105T060000
END:STANDARD
BEGIN:DAYLIGHT
TZOFFSETFROM:-0500
TZOFFSETTO:-0400
TZNAME:EDT
DTSTART:20240310T070000
END:DAYLIGHT
BEGIN:STANDARD
TZOFFSETFROM:-0400
TZOFFSETTO:-0500
TZNAME:EST
DTSTART:20241103T060000
END:STANDARD
BEGIN:DAYLIGHT
TZOFFSETFROM:-0500
TZOFFSETTO:-0400
TZNAME:EDT
DTSTART:20250309T070000
END:DAYLIGHT
BEGIN:STANDARD
TZOFFSETFROM:-0400
TZOFFSETTO:-0500
TZNAME:EST
DTSTART:20251102T060000
END:STANDARD
END:VTIMEZONE
BEGIN:VEVENT
DTSTART;TZID=America/New_York:20240601T083000
DTEND;TZID=America/New_York:20240601T083000
DTSTAMP:20260423T221122
CREATED:20230804T145344Z
LAST-MODIFIED:20260106T164740Z
UID:10000901-1717230600-1717230600@suncoastpca.org
SUMMARY:Monthly Breakfast - Bradenton
DESCRIPTION:Come join your fellow Suncoast Porsche Club members and guests for our monthly breakfast at Skillets Restaurant! \nREGISTRATION REQUIRED via ClubReg so Skillet’s Bradenton can provide proper staffing for our group.  \nhttps://clubregistration.net/
URL:https://suncoastpca.org/event/monthly-breakfast-at-skillets-3/2024-06-01/
LOCATION:Skillets Bradenton\, 9722 FL-64\, Bradenton\, FL\, 34212\, United States
CATEGORIES:Social
END:VEVENT
BEGIN:VEVENT
DTSTART;TZID=America/New_York:20240615T083000
DTEND;TZID=America/New_York:20240615T083000
DTSTAMP:20260423T221122
CREATED:20220812T212713Z
LAST-MODIFIED:20260106T160125Z
UID:10000963-1718440200-1718440200@suncoastpca.org
SUMMARY:Monthly Breakfast - Venice
DESCRIPTION:Come join your fellow Suncoast Porsche members and guests for the monthly breakfast at Skillets at 4115 South Tamiami Trail South\, in Venice. We will be gathering at 8:30am Saturday\, August 20th. The restaurant can provide seating for us both at tables inside and outside. \nThis a monthly affair on the third Saturday of each month. So plan to come and enjoy each others’ company and make it a habit. \nRegister on ClubReg
URL:https://suncoastpca.org/event/monthly-breakfast-at-skillets/2024-06-15/
LOCATION:Skillets Venice\, 4115 Tamiami Trail S\, Venice\, FL\, 34293\, United States
CATEGORIES:Social
END:VEVENT
BEGIN:VEVENT
DTSTART;TZID=America/New_York:20240615T090000
DTEND;TZID=America/New_York:20240615T110000
DTSTAMP:20260423T221122
CREATED:20221112T214735Z
LAST-MODIFIED:20240520T215100Z
UID:10000833-1718442000-1718449200@suncoastpca.org
SUMMARY:Monthly Breakfast at Clear Sky Club Haus
DESCRIPTION:Please join us for our new and latest monthly breakfast at the Clear Sky Club Haus\, at 36355 East Lake Road South\, at the north end of the Ridgemoor Plaza Shopping Center\, in Palm Harbor. This will be a recurring monthly event. \nWe will begin at 9:00am. Your host for this event is Bill Schultz. \nWe encourage our members to come and bring your guests for a great time. \nRegister on ClubReg
URL:https://suncoastpca.org/event/monthly-breakfast-at-clear-sky-club-haus-2/2024-06-15/
LOCATION:Clear Sky Club Haus\, 36355 East Lake Road South\, Palm Harbor\, FL\, 34685\, United States
CATEGORIES:Social
END:VEVENT
BEGIN:VEVENT
DTSTART;TZID=America/New_York:20240619T120000
DTEND;TZID=America/New_York:20240619T120000
DTSTAMP:20260423T221122
CREATED:20221218T140258Z
LAST-MODIFIED:20260106T164716Z
UID:10000866-1718798400-1718798400@suncoastpca.org
SUMMARY:Monthly Luncheon - Clearwater
DESCRIPTION:Tired of the same old sandwiches for lunch? Join your fellow PCA members for great food and interesting conversations at Quaker Steak & Lube\, 10400 49th St. N\, Clearwater\, FL 33762. We’re meeting the 3rd Wednesday of each month. No pre-registration required! If your schedule permits\, just show up at noon! Private room\, full menu and lunch specials. Their parking lot is very Porsche friendly so it will be an opportunity to show off your car as well!
URL:https://suncoastpca.org/event/monthly-luncheon-4/2024-06-19/
LOCATION:Quaker Steak & Lube\, 10400 49th St. N\, Clearwater\, FL\, 33762\, United States
CATEGORIES:Social
END:VEVENT
BEGIN:VEVENT
DTSTART;TZID=America/New_York:20240623T173000
DTEND;TZID=America/New_York:20240623T210000
DTSTAMP:20260423T221122
CREATED:20240601T170852Z
LAST-MODIFIED:20240601T172224Z
UID:10001065-1719163800-1719176400@suncoastpca.org
SUMMARY:Date Your Porsche Night
DESCRIPTION:DYPN – Tampa!! Gather with fellow members at Yuengling Draft Haus & Kitchen!\nFull menu is available; Individuals will be responsible for their own order and check. \n5:30 – 6:30pm park and display cars – meet and greet w/ fellow members\n6:30pm move inside for dinner \nRegistration is required! \nYour host for this event is Marshall Burnette \nRegister on ClubReg
URL:https://suncoastpca.org/event/date-your-porsche-night-66/
LOCATION:Yuengling Draft Haus & Kitchen\, 11109 N 30th St\, Tampa\, 33612\, United States
CATEGORIES:Social
END:VEVENT
BEGIN:VEVENT
DTSTART;TZID=America/New_York:20240625T180000
DTEND;TZID=America/New_York:20240625T213000
DTSTAMP:20260423T221122
CREATED:20240611T114019Z
LAST-MODIFIED:20240611T114019Z
UID:10001078-1719338400-1719351000@suncoastpca.org
SUMMARY:Date Your Porsche Night
DESCRIPTION:“Enjoy Old Florida at it’s Best” for a DYPN at Linger Lodge Restaurant\, Tuesday\, June 25 at 6pm. \nLocated at 7116 85th Street Court East\nBradenton\, FL 34202 \nREGISTRATION REQUIRED so we can confirm a guest count with the restaurant! \nRegister on ClubReg
URL:https://suncoastpca.org/event/date-your-porsche-night-72/
LOCATION:Linger Lodge Restaurant\, 7116 85th Street Court East\, Bradenton\, 34202\, United States
CATEGORIES:Social
END:VEVENT
BEGIN:VEVENT
DTSTART;TZID=America/New_York:20240626T113000
DTEND;TZID=America/New_York:20240626T140000
DTSTAMP:20260423T221122
CREATED:20240601T204309Z
LAST-MODIFIED:20240601T204310Z
UID:10001074-1719401400-1719410400@suncoastpca.org
SUMMARY:Monthly Luncheon
DESCRIPTION:Join the Suncoast Region of PCA for a south of the Skyway monthly lunch at Ford’s Garage located at the UTC (295 N Cattlemen Road Sarasota\, FL 34243). \nPlease register so we can provide Ford’s Garage with a headcount. Plan to gather between 11:30am and noon! \nRegister on ClubReg\n 
URL:https://suncoastpca.org/event/monthly-luncheon-5-3/
LOCATION:Ford’s Garage\, 295 N Cattlemen Road\, Sarasota\, 34243\, United States
CATEGORIES:Social
END:VEVENT
BEGIN:VEVENT
DTSTART;TZID=America/New_York:20240627T180000
DTEND;TZID=America/New_York:20240627T210000
DTSTAMP:20260423T221122
CREATED:20240601T171337Z
LAST-MODIFIED:20240601T171337Z
UID:10001066-1719511200-1719522000@suncoastpca.org
SUMMARY:Wine 201 Digging Deeper
DESCRIPTION:Join us for the WINE 201 ‘Digging Deeper’! Get ready to explore and indulge in a delightful evening of tastings and learning. This in-person event will take place on Thursday June 27\, 2024 at 6:00 PM. \nJune 27\, 2024 at 6pm\nSt Pete Cellars\n1501 22nd St N\nSt. Pete \nSeating is limited to 24\n$65.00 per person will include wine tasting\, pairings\, education\, and fun!\nRegistration is only confirmed once payment is received. \nRegister on ClubReg
URL:https://suncoastpca.org/event/wine-201-digging-deeper/
LOCATION:St Pete Cellars\, 1501 22nd Street North\, St Petersburg\, 33713\, United States
CATEGORIES:Social
END:VEVENT
END:VCALENDAR