BEGIN:VCALENDAR
VERSION:2.0
PRODID:-//Suncoast Florida Region - PCA - ECPv6.15.20//NONSGML v1.0//EN
CALSCALE:GREGORIAN
METHOD:PUBLISH
X-WR-CALNAME:Suncoast Florida Region - PCA
X-ORIGINAL-URL:https://suncoastpca.org
X-WR-CALDESC:Events for Suncoast Florida Region - PCA
REFRESH-INTERVAL;VALUE=DURATION:PT1H
X-Robots-Tag:noindex
X-PUBLISHED-TTL:PT1H
BEGIN:VTIMEZONE
TZID:America/New_York
BEGIN:DAYLIGHT
TZOFFSETFROM:-0500
TZOFFSETTO:-0400
TZNAME:EDT
DTSTART:20220313T070000
END:DAYLIGHT
BEGIN:STANDARD
TZOFFSETFROM:-0400
TZOFFSETTO:-0500
TZNAME:EST
DTSTART:20221106T060000
END:STANDARD
BEGIN:DAYLIGHT
TZOFFSETFROM:-0500
TZOFFSETTO:-0400
TZNAME:EDT
DTSTART:20230312T070000
END:DAYLIGHT
BEGIN:STANDARD
TZOFFSETFROM:-0400
TZOFFSETTO:-0500
TZNAME:EST
DTSTART:20231105T060000
END:STANDARD
BEGIN:DAYLIGHT
TZOFFSETFROM:-0500
TZOFFSETTO:-0400
TZNAME:EDT
DTSTART:20240310T070000
END:DAYLIGHT
BEGIN:STANDARD
TZOFFSETFROM:-0400
TZOFFSETTO:-0500
TZNAME:EST
DTSTART:20241103T060000
END:STANDARD
END:VTIMEZONE
BEGIN:VEVENT
DTSTART;TZID=America/New_York:20231007T083000
DTEND;TZID=America/New_York:20231007T083000
DTSTAMP:20260424T110237
CREATED:20230804T145344Z
LAST-MODIFIED:20260106T164740Z
UID:10000893-1696667400-1696667400@suncoastpca.org
SUMMARY:Monthly Breakfast - Bradenton
DESCRIPTION:Come join your fellow Suncoast Porsche Club members and guests for our monthly breakfast at Skillets Restaurant! \nREGISTRATION REQUIRED via ClubReg so Skillet’s Bradenton can provide proper staffing for our group.  \nhttps://clubregistration.net/
URL:https://suncoastpca.org/event/monthly-breakfast-at-skillets-3/2023-10-07/
LOCATION:Skillets Bradenton\, 9722 FL-64\, Bradenton\, FL\, 34212\, United States
CATEGORIES:Social
END:VEVENT
BEGIN:VEVENT
DTSTART;TZID=America/New_York:20231012T183000
DTEND;TZID=America/New_York:20231012T213000
DTSTAMP:20260424T110237
CREATED:20230806T143611Z
LAST-MODIFIED:20230806T143611Z
UID:10001014-1697135400-1697146200@suncoastpca.org
SUMMARY:Date Your Porsche Night
DESCRIPTION:Thursday\, October 12\, 2023 at 6:30 pm. Enjoy a special evening with great Italian food and Wine Pairing at Carrabba’s Italian Grill located at 1951 4th Street North\, St. Petersburg\, 33704. \nCarrabba’s is offering this wine and dinner pairing exclusively for our group on this evening! \nThis event will feature a set\, four-course menu with corresponding wine pairing at each course. Menu price is $65++ per person. (This menu and pairing will differ from previous dinner events.) \nThe restaurant is located next to the Sunken Gardens. The parking lot is Porsche friendly. We need a minimum of 25 guests to be able to host the social. Encourage your friends to join you! \nhttps://clubregistration.net/events/event-details.cfm?event_id=13690
URL:https://suncoastpca.org/event/date-your-porsche-night-63/
LOCATION:Carrabba’s Italian Grill\, 1951 4th Street North\, St. Petersburg\, FL\, 33704\, United States
CATEGORIES:Social
END:VEVENT
BEGIN:VEVENT
DTSTART;TZID=America/New_York:20231014T100000
DTEND;TZID=America/New_York:20231014T140000
DTSTAMP:20260424T110237
CREATED:20230922T201637Z
LAST-MODIFIED:20230922T201637Z
UID:10001019-1697277600-1697292000@suncoastpca.org
SUMMARY:Air Cooled Beach Bash
DESCRIPTION:When: October 14th 10AM – 2PM\nWhere: Pass-A-Grille at St Pete Beach (9th & 10th Avenues)\nFee: $25/Car Entry and Free to Public \nWhat? This show\, formerly known as the VW Beach Bash\, is a long standing car event at St. Pete Beach.  In years past\, Air Cooled VW’s of all varieties made the show and there are some really nice ones at this event.  Over the past several years\, many Porsche owners started showing up starting with 356 owners\, followed by early air cooled 911’s.  The promoter of the show is new and has asked us to promote the event and they also formally changed the name to:  “Air Cooled Beach Bash”.  Please use the links below for more information with this event. \n NOTE: This is not a PCA sanctioned event therefore PCA Insurance does not apply. \nEnjoy!! \n2023 Air Cooled Beach Bash Show Info\nVW Beach Bash on Instagram\nVW Beach Bash on Facebook 
URL:https://suncoastpca.org/event/air-cooled-beach-bash/
LOCATION:Pass-A-Grille Beach\, St Petersburg\, United States
CATEGORIES:Social
END:VEVENT
BEGIN:VEVENT
DTSTART;TZID=America/New_York:20231018T120000
DTEND;TZID=America/New_York:20231018T120000
DTSTAMP:20260424T110237
CREATED:20221218T140258Z
LAST-MODIFIED:20260106T164716Z
UID:10000858-1697630400-1697630400@suncoastpca.org
SUMMARY:Monthly Luncheon - Clearwater
DESCRIPTION:Tired of the same old sandwiches for lunch? Join your fellow PCA members for great food and interesting conversations at Quaker Steak & Lube\, 10400 49th St. N\, Clearwater\, FL 33762. We’re meeting the 3rd Wednesday of each month. No pre-registration required! If your schedule permits\, just show up at noon! Private room\, full menu and lunch specials. Their parking lot is very Porsche friendly so it will be an opportunity to show off your car as well!
URL:https://suncoastpca.org/event/monthly-luncheon-4/2023-10-18/
LOCATION:Quaker Steak & Lube\, 10400 49th St. N\, Clearwater\, FL\, 33762\, United States
CATEGORIES:Social
END:VEVENT
BEGIN:VEVENT
DTSTART;TZID=America/New_York:20231021T083000
DTEND;TZID=America/New_York:20231021T083000
DTSTAMP:20260424T110237
CREATED:20220812T212713Z
LAST-MODIFIED:20260106T160125Z
UID:10000955-1697877000-1697877000@suncoastpca.org
SUMMARY:Monthly Breakfast - Venice
DESCRIPTION:Come join your fellow Suncoast Porsche members and guests for the monthly breakfast at Skillets at 4115 South Tamiami Trail South\, in Venice. We will be gathering at 8:30am Saturday\, August 20th. The restaurant can provide seating for us both at tables inside and outside. \nThis a monthly affair on the third Saturday of each month. So plan to come and enjoy each others’ company and make it a habit. \nRegister on ClubReg
URL:https://suncoastpca.org/event/monthly-breakfast-at-skillets/2023-10-21/
LOCATION:Skillets Venice\, 4115 Tamiami Trail S\, Venice\, FL\, 34293\, United States
CATEGORIES:Social
END:VEVENT
BEGIN:VEVENT
DTSTART;TZID=America/New_York:20231021T090000
DTEND;TZID=America/New_York:20231021T110000
DTSTAMP:20260424T110237
CREATED:20221112T214735Z
LAST-MODIFIED:20240520T215100Z
UID:10000825-1697878800-1697886000@suncoastpca.org
SUMMARY:Monthly Breakfast at Clear Sky Club Haus
DESCRIPTION:Please join us for our new and latest monthly breakfast at the Clear Sky Club Haus\, at 36355 East Lake Road South\, at the north end of the Ridgemoor Plaza Shopping Center\, in Palm Harbor. This will be a recurring monthly event. \nWe will begin at 9:00am. Your host for this event is Bill Schultz. \nWe encourage our members to come and bring your guests for a great time. \nRegister on ClubReg
URL:https://suncoastpca.org/event/monthly-breakfast-at-clear-sky-club-haus-2/2023-10-21/
LOCATION:Clear Sky Club Haus\, 36355 East Lake Road South\, Palm Harbor\, FL\, 34685\, United States
CATEGORIES:Social
END:VEVENT
BEGIN:VEVENT
DTSTART;TZID=America/New_York:20231022T150000
DTEND;TZID=America/New_York:20231022T190000
DTSTAMP:20260424T110237
CREATED:20230806T150611Z
LAST-MODIFIED:20230806T150611Z
UID:10001015-1697986800-1698001200@suncoastpca.org
SUMMARY:Formula 1 Watch Party
DESCRIPTION:Join your PCA friends at Scuderia Italian Cuisine on Sunday\, October 22 for an exclusive Formula 1 watch party located at 4805 Cortez Road W\, Bradenton FL 34210 \nScuderia will open early for our group to enjoy a revved up Sunday afternoon. \nRace time is 3pm and specific details are to be confirmed but plan to come out and have a fun time! \nhttps://clubregistration.net/events/event-details.cfm?event_id=13691
URL:https://suncoastpca.org/event/formula-1-watch-party/
LOCATION:Scuderia Italian Cuisine\, 4805 Cortez Rd W\, Bradenton\, FL\, 34210\, United States
CATEGORIES:Social
END:VEVENT
BEGIN:VEVENT
DTSTART;TZID=America/New_York:20231028T080000
DTEND;TZID=America/New_York:20231028T110000
DTSTAMP:20260424T110237
CREATED:20230929T154145Z
LAST-MODIFIED:20230929T154145Z
UID:10001020-1698480000-1698490800@suncoastpca.org
SUMMARY:Porsche Pantry with Car Show & Coffee
DESCRIPTION:Join your fellow Suncoast PCA members in a food drive to benefit the Food Bank at First Baptist Church\, 1900 Gandy Blvd N.\, St. Petersburg\, FL\, 33702 on Saturday\, October 28. This year\, we’re combining with a car show! Prizes will be awarded for categories such as Sportiest Sports Car\, Classiest Classic\, Best Grocery Getter\, and Kids Favorite. This is not a concours\, any car can be entered in the show. It’s all for fun! If you do want to enter your car in the show\, plan to arrive at 8:00 am\, the show and judging will be from 8:30 to 10:00 am. Awards will be presented immediately after\, departure around 11:00 am. If you do not enter your car in the show\, you can arrive anytime before 9:30 am (we want you to be able to participate in the car show judging!). We will have coffee\, water and some breakfast goodies for you to enjoy. \nEveryone should bring your donations of non-perishable food and/or grocery store gift cards. This is a chance to give back to our community and help others less fortunate. \nThe church has a large parking lot\, very Porsche friendly with lots of room for the car show. Please respond with estimated number of attendees so we can have enough refreshments for all and answer the registration questions to let us know whether you will enter your car in the show. \nHope to see you there! \nYour Suncoast Board of Directors \nhttps://clubregistration.net/events/event-details.cfm?event_id=13839
URL:https://suncoastpca.org/event/porsche-pantry-with-car-show-coffee/
LOCATION:First Baptist Church\, 1900 Gandy Blvd N.\, St Petersburg\, FL\, 33702\, United States
CATEGORIES:Social
END:VEVENT
END:VCALENDAR