BEGIN:VCALENDAR
VERSION:2.0
PRODID:-//Suncoast Florida Region - PCA - ECPv6.15.20//NONSGML v1.0//EN
CALSCALE:GREGORIAN
METHOD:PUBLISH
X-WR-CALNAME:Suncoast Florida Region - PCA
X-ORIGINAL-URL:https://suncoastpca.org
X-WR-CALDESC:Events for Suncoast Florida Region - PCA
REFRESH-INTERVAL;VALUE=DURATION:PT1H
X-Robots-Tag:noindex
X-PUBLISHED-TTL:PT1H
BEGIN:VTIMEZONE
TZID:America/New_York
BEGIN:DAYLIGHT
TZOFFSETFROM:-0500
TZOFFSETTO:-0400
TZNAME:EDT
DTSTART:20220313T070000
END:DAYLIGHT
BEGIN:STANDARD
TZOFFSETFROM:-0400
TZOFFSETTO:-0500
TZNAME:EST
DTSTART:20221106T060000
END:STANDARD
BEGIN:DAYLIGHT
TZOFFSETFROM:-0500
TZOFFSETTO:-0400
TZNAME:EDT
DTSTART:20230312T070000
END:DAYLIGHT
BEGIN:STANDARD
TZOFFSETFROM:-0400
TZOFFSETTO:-0500
TZNAME:EST
DTSTART:20231105T060000
END:STANDARD
BEGIN:DAYLIGHT
TZOFFSETFROM:-0500
TZOFFSETTO:-0400
TZNAME:EDT
DTSTART:20240310T070000
END:DAYLIGHT
BEGIN:STANDARD
TZOFFSETFROM:-0400
TZOFFSETTO:-0500
TZNAME:EST
DTSTART:20241103T060000
END:STANDARD
END:VTIMEZONE
BEGIN:VEVENT
DTSTART;TZID=America/New_York:20230715T083000
DTEND;TZID=America/New_York:20230715T083000
DTSTAMP:20260424T154525
CREATED:20220812T212713Z
LAST-MODIFIED:20260106T160125Z
UID:10000811-1689409800-1689409800@suncoastpca.org
SUMMARY:Monthly Breakfast - Venice
DESCRIPTION:Come join your fellow Suncoast Porsche members and guests for the monthly breakfast at Skillets at 4115 South Tamiami Trail South\, in Venice. We will be gathering at 8:30am Saturday\, August 20th. The restaurant can provide seating for us both at tables inside and outside. \nThis a monthly affair on the third Saturday of each month. So plan to come and enjoy each others’ company and make it a habit. \nRegister on ClubReg
URL:https://suncoastpca.org/event/monthly-breakfast-at-skillets/2023-07-15/
LOCATION:Skillets Venice\, 4115 Tamiami Trail S\, Venice\, FL\, 34293\, United States
CATEGORIES:Social
END:VEVENT
BEGIN:VEVENT
DTSTART;TZID=America/New_York:20230715T090000
DTEND;TZID=America/New_York:20230715T110000
DTSTAMP:20260424T154525
CREATED:20221112T214735Z
LAST-MODIFIED:20240520T215100Z
UID:10000822-1689411600-1689418800@suncoastpca.org
SUMMARY:Monthly Breakfast at Clear Sky Club Haus
DESCRIPTION:Please join us for our new and latest monthly breakfast at the Clear Sky Club Haus\, at 36355 East Lake Road South\, at the north end of the Ridgemoor Plaza Shopping Center\, in Palm Harbor. This will be a recurring monthly event. \nWe will begin at 9:00am. Your host for this event is Bill Schultz. \nWe encourage our members to come and bring your guests for a great time. \nRegister on ClubReg
URL:https://suncoastpca.org/event/monthly-breakfast-at-clear-sky-club-haus-2/2023-07-15/
LOCATION:Clear Sky Club Haus\, 36355 East Lake Road South\, Palm Harbor\, FL\, 34685\, United States
CATEGORIES:Social
END:VEVENT
BEGIN:VEVENT
DTSTART;TZID=America/New_York:20230719T120000
DTEND;TZID=America/New_York:20230719T120000
DTSTAMP:20260424T154525
CREATED:20221218T140258Z
LAST-MODIFIED:20260106T164716Z
UID:10000855-1689768000-1689768000@suncoastpca.org
SUMMARY:Monthly Luncheon - Clearwater
DESCRIPTION:Tired of the same old sandwiches for lunch? Join your fellow PCA members for great food and interesting conversations at Quaker Steak & Lube\, 10400 49th St. N\, Clearwater\, FL 33762. We’re meeting the 3rd Wednesday of each month. No pre-registration required! If your schedule permits\, just show up at noon! Private room\, full menu and lunch specials. Their parking lot is very Porsche friendly so it will be an opportunity to show off your car as well!
URL:https://suncoastpca.org/event/monthly-luncheon-4/2023-07-19/
LOCATION:Quaker Steak & Lube\, 10400 49th St. N\, Clearwater\, FL\, 33762\, United States
CATEGORIES:Social
END:VEVENT
BEGIN:VEVENT
DTSTART;TZID=America/New_York:20230722T080000
DTEND;TZID=America/New_York:20230722T080000
DTSTAMP:20260424T154525
CREATED:20230621T015945Z
LAST-MODIFIED:20230621T015945Z
UID:10000889-1690012800-1690012800@suncoastpca.org
SUMMARY:Back Roads Tour
DESCRIPTION:Here’s Opportunity to Visit Where Tom and Henry Used to Hang Out\nBack Roads Tour to Edison and Ford Winter Estates\nFort Myers \nThere’s a lot to see when you visit the Edison and Ford winter estates besides the two historic homes: a car exhibit; gardens; laboratory; museum; Edison’s study; extensive exhibits on Edison’s various patents and his search to make rubber\, and\, also a plant nursery. \nA guided group tour is $30 per person (paid through Clubreg) and is limited to 30 people\, the maximum the venue allows on one tour. (With a minimum of 20 participants we will have our own historian to guide us.) Plans are in the works for a group lunch following the tour after which you can return to the grounds should you choose – your tour ticket gives you day-long access\, or head home on your own. \nWe will drive to Fort Myers on back roads starting from Lakewood Ranch (SR 70 east of Bradenton). The 86 mile drive will take about 2 hours. Exact starting location will be e-mailed to participants before July 20. \nhttps://clubregistration.net/events/event-details.cfm?event_id=13651
URL:https://suncoastpca.org/event/back-roads-tour/
LOCATION:FL\, United States
CATEGORIES:Social
GEO:27.6648274;-81.5157535
END:VEVENT
BEGIN:VEVENT
DTSTART;TZID=America/New_York:20230727T183000
DTEND;TZID=America/New_York:20230727T213000
DTSTAMP:20260424T154525
CREATED:20230711T120923Z
LAST-MODIFIED:20230711T120923Z
UID:10000890-1690482600-1690493400@suncoastpca.org
SUMMARY:Date Your Porsche Night
DESCRIPTION:Enjoy a special evening with great Italian food and Wine Pairing at Carrabba’s Italian Grill located at 1951 4th Street North\, St. Petersburg\, 33704. \nCarrabba’s is offering this wine and dinner pairing exclusively for our group on this evening! \nThis event will feature a set\, four-course menu with corresponding wine pairing at each course. Menu price is $65++ per person. \nThe restaurant is located next to the Sunken Gardens. The parking lot is Porsche friendly. We need a minimum of 25 guests to be able to host the social. Encourage your friends to join you! \nhttps://clubregistration.net/events/event-details.cfm?event_id=13689
URL:https://suncoastpca.org/event/date-your-porsche-night-60/
LOCATION:Carrabba’s Italian Grill\, 1951 4th Street North\, St. Petersburg\, FL\, 33704\, United States
CATEGORIES:Social
END:VEVENT
END:VCALENDAR