BEGIN:VCALENDAR
VERSION:2.0
PRODID:-//Suncoast Florida Region - PCA - ECPv6.15.20//NONSGML v1.0//EN
CALSCALE:GREGORIAN
METHOD:PUBLISH
X-WR-CALNAME:Suncoast Florida Region - PCA
X-ORIGINAL-URL:https://suncoastpca.org
X-WR-CALDESC:Events for Suncoast Florida Region - PCA
REFRESH-INTERVAL;VALUE=DURATION:PT1H
X-Robots-Tag:noindex
X-PUBLISHED-TTL:PT1H
BEGIN:VTIMEZONE
TZID:America/New_York
BEGIN:DAYLIGHT
TZOFFSETFROM:-0500
TZOFFSETTO:-0400
TZNAME:EDT
DTSTART:20210314T070000
END:DAYLIGHT
BEGIN:STANDARD
TZOFFSETFROM:-0400
TZOFFSETTO:-0500
TZNAME:EST
DTSTART:20211107T060000
END:STANDARD
BEGIN:DAYLIGHT
TZOFFSETFROM:-0500
TZOFFSETTO:-0400
TZNAME:EDT
DTSTART:20220313T070000
END:DAYLIGHT
BEGIN:STANDARD
TZOFFSETFROM:-0400
TZOFFSETTO:-0500
TZNAME:EST
DTSTART:20221106T060000
END:STANDARD
BEGIN:DAYLIGHT
TZOFFSETFROM:-0500
TZOFFSETTO:-0400
TZNAME:EDT
DTSTART:20230312T070000
END:DAYLIGHT
BEGIN:STANDARD
TZOFFSETFROM:-0400
TZOFFSETTO:-0500
TZNAME:EST
DTSTART:20231105T060000
END:STANDARD
END:VTIMEZONE
BEGIN:VEVENT
DTSTART;TZID=America/New_York:20220622T120000
DTEND;TZID=America/New_York:20220622T140000
DTSTAMP:20260425T112606
CREATED:20220609T124508Z
LAST-MODIFIED:20220609T124839Z
UID:10000792-1655899200-1655906400@suncoastpca.org
SUMMARY:Monthly Luncheon
DESCRIPTION:Tired of the same old sandwiches for lunch? Join your fellow PCA members for great food and interesting conversations at Quaker Steak & Lube\, 10400 49th St. N\, Clearwater\, FL 33762 for our first monthly luncheon at noon on Wednesday\, June 22. We’ve also confirmed noon on Wednesday\, July 20 and August 17. If we get a good response\, we’ll continue these lunches on the 3rd Wednesday of each month. No pre-registration required! If your schedule permits\, just show up at noon! Private room\, full menu and lunch specials. Their parking lot is very Porsche friendly so it will be an opportunity to show off your car as well!
URL:https://suncoastpca.org/event/monthly-luncheon/
LOCATION:Quaker Steak & Lube\, 10400 49th St. N\, Clearwater\, FL\, 33762\, United States
CATEGORIES:Social
END:VEVENT
END:VCALENDAR