BEGIN:VCALENDAR
VERSION:2.0
PRODID:-//Suncoast Florida Region - PCA - ECPv6.15.20//NONSGML v1.0//EN
CALSCALE:GREGORIAN
METHOD:PUBLISH
X-WR-CALNAME:Suncoast Florida Region - PCA
X-ORIGINAL-URL:https://suncoastpca.org
X-WR-CALDESC:Events for Suncoast Florida Region - PCA
REFRESH-INTERVAL;VALUE=DURATION:PT1H
X-Robots-Tag:noindex
X-PUBLISHED-TTL:PT1H
BEGIN:VTIMEZONE
TZID:America/New_York
BEGIN:DAYLIGHT
TZOFFSETFROM:-0500
TZOFFSETTO:-0400
TZNAME:EDT
DTSTART:20210314T070000
END:DAYLIGHT
BEGIN:STANDARD
TZOFFSETFROM:-0400
TZOFFSETTO:-0500
TZNAME:EST
DTSTART:20211107T060000
END:STANDARD
BEGIN:DAYLIGHT
TZOFFSETFROM:-0500
TZOFFSETTO:-0400
TZNAME:EDT
DTSTART:20220313T070000
END:DAYLIGHT
BEGIN:STANDARD
TZOFFSETFROM:-0400
TZOFFSETTO:-0500
TZNAME:EST
DTSTART:20221106T060000
END:STANDARD
BEGIN:DAYLIGHT
TZOFFSETFROM:-0500
TZOFFSETTO:-0400
TZNAME:EDT
DTSTART:20230312T070000
END:DAYLIGHT
BEGIN:STANDARD
TZOFFSETFROM:-0400
TZOFFSETTO:-0500
TZNAME:EST
DTSTART:20231105T060000
END:STANDARD
END:VTIMEZONE
BEGIN:VEVENT
DTSTART;TZID=America/New_York:20220219T083000
DTEND;TZID=America/New_York:20220219T110000
DTSTAMP:20260425T164943
CREATED:20220213T190727Z
LAST-MODIFIED:20220213T191449Z
UID:10000775-1645259400-1645268400@suncoastpca.org
SUMMARY:Monthly Breakfast
DESCRIPTION:Come join your fellow Suncoast Porsche members and guests for the monthly breakfast at Skillet’s at 4115 South Tamiami Trail South\, in Venice. We will be gathering at 8:30am Saturday\, February 19th. The restaurant will provide seating for us both at tables inside and outside.\nThis a monthly affair on the third Saturday of each month. So plan to come and enjoy each others’ company and make it a habit.
URL:https://suncoastpca.org/event/monthly-breakfast/
LOCATION:Skillets Venice\, 4115 Tamiami Trail S\, Venice\, FL\, 34293\, United States
CATEGORIES:Social
END:VEVENT
BEGIN:VEVENT
DTSTART;TZID=America/New_York:20220222T180000
DTEND;TZID=America/New_York:20220222T210000
DTSTAMP:20260425T164943
CREATED:20220213T190923Z
LAST-MODIFIED:20220213T191414Z
UID:10000776-1645552800-1645563600@suncoastpca.org
SUMMARY:Date Your Porsche Night
DESCRIPTION:Come and join your fellow Porsche club members and guests for a very enjoyable evening with dinner at McGrath’s Irish Ale House\, 8110 Lakewood Main Street\, in Lakewood Ranch\, on Tuesday\, February 22nd\, beginning at 6:00 pm. The restaurant has a menu to satisfy all tastes. We are limited to 35 attendees\, so sign up early.\nOur hosts will again be Harvey and Ann Goldberg. We hope to see you there!
URL:https://suncoastpca.org/event/date-your-porsche-night-51/
LOCATION:McGrath’s\, 8110 Lakewood Main St\, Lakewood Ranch\, FL\, 34202\, United States
CATEGORIES:Social
END:VEVENT
BEGIN:VEVENT
DTSTART;TZID=America/New_York:20220226T083000
DTEND;TZID=America/New_York:20220226T110000
DTSTAMP:20260425T164943
CREATED:20220213T191243Z
LAST-MODIFIED:20220213T191522Z
UID:10000777-1645864200-1645873200@suncoastpca.org
SUMMARY:Monthly Breakfast
DESCRIPTION:Come join your fellow Suncoast Porsche members and guests for breakfast at Skillet’s at 9722 FL-64\, Bradenton. We will be gathering at 8:30am Saturday\, February 26th. The restaurant will provide seating for us at tables inside because of potential cold weather.\nThis a monthly affair we hope to continue on the fourth Saturday of each month. So plan to come and enjoy each others’ company and make it a habit.
URL:https://suncoastpca.org/event/monthly-breakfast-2/
LOCATION:Skillets Bradenton\, 9722 FL-64\, Bradenton\, FL\, 34212\, United States
CATEGORIES:Social
END:VEVENT
END:VCALENDAR