BEGIN:VCALENDAR
VERSION:2.0
PRODID:-//Suncoast Florida Region - PCA - ECPv6.15.20//NONSGML v1.0//EN
CALSCALE:GREGORIAN
METHOD:PUBLISH
X-WR-CALNAME:Suncoast Florida Region - PCA
X-ORIGINAL-URL:https://suncoastpca.org
X-WR-CALDESC:Events for Suncoast Florida Region - PCA
REFRESH-INTERVAL;VALUE=DURATION:PT1H
X-Robots-Tag:noindex
X-PUBLISHED-TTL:PT1H
BEGIN:VTIMEZONE
TZID:America/New_York
BEGIN:DAYLIGHT
TZOFFSETFROM:-0500
TZOFFSETTO:-0400
TZNAME:EDT
DTSTART:20150308T070000
END:DAYLIGHT
BEGIN:STANDARD
TZOFFSETFROM:-0400
TZOFFSETTO:-0500
TZNAME:EST
DTSTART:20151101T060000
END:STANDARD
BEGIN:DAYLIGHT
TZOFFSETFROM:-0500
TZOFFSETTO:-0400
TZNAME:EDT
DTSTART:20160313T070000
END:DAYLIGHT
BEGIN:STANDARD
TZOFFSETFROM:-0400
TZOFFSETTO:-0500
TZNAME:EST
DTSTART:20161106T060000
END:STANDARD
BEGIN:DAYLIGHT
TZOFFSETFROM:-0500
TZOFFSETTO:-0400
TZNAME:EDT
DTSTART:20170312T070000
END:DAYLIGHT
BEGIN:STANDARD
TZOFFSETFROM:-0400
TZOFFSETTO:-0500
TZNAME:EST
DTSTART:20171105T060000
END:STANDARD
BEGIN:DAYLIGHT
TZOFFSETFROM:-0500
TZOFFSETTO:-0400
TZNAME:EDT
DTSTART:20180311T070000
END:DAYLIGHT
BEGIN:STANDARD
TZOFFSETFROM:-0400
TZOFFSETTO:-0500
TZNAME:EST
DTSTART:20181104T060000
END:STANDARD
BEGIN:DAYLIGHT
TZOFFSETFROM:-0500
TZOFFSETTO:-0400
TZNAME:EDT
DTSTART:20190310T070000
END:DAYLIGHT
BEGIN:STANDARD
TZOFFSETFROM:-0400
TZOFFSETTO:-0500
TZNAME:EST
DTSTART:20191103T060000
END:STANDARD
BEGIN:DAYLIGHT
TZOFFSETFROM:-0500
TZOFFSETTO:-0400
TZNAME:EDT
DTSTART:20200308T070000
END:DAYLIGHT
BEGIN:STANDARD
TZOFFSETFROM:-0400
TZOFFSETTO:-0500
TZNAME:EST
DTSTART:20201101T060000
END:STANDARD
END:VTIMEZONE
BEGIN:VEVENT
DTSTART;TZID=America/New_York:20190914T100000
DTEND;TZID=America/New_York:20190914T100000
DTSTAMP:20260422T195523
CREATED:20190511T164704Z
LAST-MODIFIED:20190902T144447Z
UID:10000695-1568455200-1568455200@suncoastpca.org
SUMMARY:Time Speed Distance Rally
DESCRIPTION:After Dorian leaves Florida and you’re ready to take your Porsche out of the garage and enjoy beautiful weather\, join us for a Time-Speed-Distance (TSD) Rally on Saturday\, September 14. Our Rally Master\, Jim Hoey\, has planned a wonderful day for us! It will start at Kostas Family Restaurant in Palmetto at 09:50 AM (take I-75 Exit #224 and head East towards Palmetto\, stay on the main road into town\, turn Right at the traffic light on 10th Ave W; Kostas will be one long block up on your left at 17th Street). \nThere will be a rally school from 10:00 to 10:45 AM. The Rally starts at 11:00 AM. The rally should take about 2-1/2 hours to complete. The end point is an eatery\, with food available at your option. \nNOTE: there is a 20 car limit for this rally. You will automatically be wait-listed if we exceed that number.  \nhttps://clubregistration.net/events/signUp.cfm/event/10124
URL:https://suncoastpca.org/event/time-speed-distance-rally-2/
LOCATION:Kostas Family Restaraunt\, 1631 8th Ave W\, Palmetto\, FL\, 34221\, United States
CATEGORIES:Other
END:VEVENT
BEGIN:VEVENT
DTSTART;VALUE=DATE:20190524
DTEND;VALUE=DATE:20190527
DTSTAMP:20260422T195523
CREATED:20190306T203959Z
LAST-MODIFIED:20190306T203959Z
UID:10000691-1558656000-1558915199@suncoastpca.org
SUMMARY:Zone 12 Zonefest
DESCRIPTION:
URL:https://suncoastpca.org/event/zone-12-zonefest/
LOCATION:Lakeside Inn\, 100 Alexander St\, Mt Dora\, FL\, 32757\, United States
CATEGORIES:Other
END:VEVENT
BEGIN:VEVENT
DTSTART;TZID=America/New_York:20190407T100000
DTEND;TZID=America/New_York:20190407T160000
DTSTAMP:20260422T195523
CREATED:20190125T031927Z
LAST-MODIFIED:20190217T014008Z
UID:10000686-1554631200-1554652800@suncoastpca.org
SUMMARY:Festivals of Speed & Porsches on Parade
DESCRIPTION:This event is being sponsored by our good and long standing friends at Bert Smith Porsche. \nPlease join us at this event as a spectator or as a participant. \nRich Tillotson\nuscarrera@gmail.com\n(727) 534-1008
URL:https://suncoastpca.org/event/festivals-of-speed-porsches-on-parade-2/
LOCATION:Vinoy Park\, 501 5th Ave NE\, St. Petersburg\, FL\, 33701\, United States
CATEGORIES:Other
END:VEVENT
BEGIN:VEVENT
DTSTART;VALUE=DATE:20190306
DTEND;VALUE=DATE:20190307
DTSTAMP:20260422T195523
CREATED:20190125T030237Z
LAST-MODIFIED:20190125T030300Z
UID:10000685-1551830400-1551916799@suncoastpca.org
SUMMARY:Kart4Kids
DESCRIPTION:Please note: this is a Non-PCA Event; PCA Insurance does not apply. 
URL:https://suncoastpca.org/event/kart4kids-2/
LOCATION:FL
CATEGORIES:Other
END:VEVENT
BEGIN:VEVENT
DTSTART;TZID=America/New_York:20190302T090000
DTEND;TZID=America/New_York:20190302T150000
DTSTAMP:20260422T195523
CREATED:20190223T125832Z
LAST-MODIFIED:20190223T125933Z
UID:10000690-1551517200-1551538800@suncoastpca.org
SUMMARY:Car & Tool Sale for Mark Lasota
DESCRIPTION:Anyone who has ever participated in one of our region’s Autocross events will know how instrumental Mark has been to the success of that program. All proceeds for this event will go towards helping Mark with his ongoing expenses.  \nSee attached lists. Many interesting cars and tools will be available. Cheap Bricklin\, Shelby Dodges\, Mustangs\, Triumphs\, Merkurs and more. There are also many car parts\, especially Ford\, Merkur and Triumph TR7. \nWhen is the last time you saw a Studebaker Lark\, or even a Dodge Omni? Come see garaged “barn finds” including Delorean\, TR8\, 1967 Fairlane and Avanti!  Tell your car friends!  Even better\, bring a friend! \nMost of the cars have not run in a long time and will need some work to get running again. Some will need a lot of work. Please plan to see them on sale day. We have a car trailer\, so we might be able to negotiate delivery. \nThe 1998 Porsche Boxster is a special case. It is a good looking car\, ready to go\, running great and available now. The price has been dropped to just $5900.  Where else is someone going to drive away in a Porsche for that kind of money?
URL:https://suncoastpca.org/event/car-tool-sale-for-mark-lasota/
LOCATION:Mark Lasota\, 116 Ten Oak Place\, Valrico\, FL\, 33594\, United States
CATEGORIES:Other
END:VEVENT
BEGIN:VEVENT
DTSTART;TZID=America/New_York:20190223T090000
DTEND;TZID=America/New_York:20190223T163000
DTSTAMP:20260422T195523
CREATED:20181201T155140Z
LAST-MODIFIED:20181201T155853Z
UID:10000668-1550912400-1550939400@suncoastpca.org
SUMMARY:Tire Rack Street Survival
DESCRIPTION:Please note that Porsche Club of America (local host for this school) does not allow anyone under the age of 16 to participate. Drivers 16 years old and older who hold a valid learners permit or drivers license that have no restrictions during the hours the school takes place are eligible to participate. (i.e. If the participant is allowed to drive to and from the event without an adult required to be in the car with them).. \nThe primary emphasis of the Tire Rack Street Survival® is a “hands-on” driving experience in real-world situations! We use your own car to teach you about its handling limits and how you can control them. The students will become more observant of the traffic situation they find themselves in. They will learn to look far enough ahead to anticipate unwise actions of other drivers. As the students master the application of physics to drive their cars\, they will make fewer unwise driving actions themselves. They will understand why they should always wear their own seatbelts\, and why they should insist that their passengers wear seatbelts\, too. \nIt’s about more than driving – it’s about LIVING! \nThree parents\, including Scott Goodyear\, former Indy Car Champion\, share their perspectives in this video. \nAll Schools $95. \nSee our FAQ page at: www.streetsurvival.org/frequently-asked-questions.php \nAny questions after reviewing the FAQ page call Bill Wade\, National Program Manager\, @ 502-649-4871 (8 am – 8 pm EST) \nTo register for this event\, please click here. 
URL:https://suncoastpca.org/event/tire-rack-street-survival-2/
LOCATION:Sebring International Raceway\, 113 Midway Drive\, Sebring\, FL\, 33870\, United States
CATEGORIES:Other
ORGANIZER;CN="John Sabatini":MAILTO:john.a.sabatini@gmail.com
END:VEVENT
BEGIN:VEVENT
DTSTART;TZID=America/New_York:20190223T080000
DTEND;TZID=America/New_York:20190223T080000
DTSTAMP:20260422T195523
CREATED:20190207T222733Z
LAST-MODIFIED:20190207T222733Z
UID:10000688-1550908800-1550908800@suncoastpca.org
SUMMARY:Day Tour to Porsche 356 FOG Concours Event
DESCRIPTION:In the Porsche world of street driven rear engine production cars there are three basic groups of progression. Many of the owners concur that although technology generally gets better in each generation\, much is lost in the past. Some feel the 356 was the beginning and is the true classic Porsche\, others feel the introduction of the 911 though 1998\, the air cooled models\, ended the true 911 Series. Many find that the liquid cooled 1999 on up versions are the most drivable and offer a new comfort and performance level. \nEach year the Porsche 356 Florida Owners Group (FOG) has a “Gathering of the Faithful” event. \nTwo years ago\, 35 Porsches got together and attended the FOG event. Those who went were left with two vivid impressions. The great road tour and beautiful 356`s we viewed. \nLast year we did Tour 02 to Howie-in-the-Hills to view the 356 Florida Owners Group Concours Event “The Gathering of the Faithful” It was a display the of 356 models that are among the best in the country. Rarely do you see this many 356 cars together. \nThis year I have planned a tour to their Concours event in Historic Downtown Lakeland on Saturday February 23. The setting will be at the Amphitheater on Lake Mirror. \nDetails: We will meet at Fords Garage Restaurant in Wesley Chapel at 8:00 am\, with a departure at 8:30. This is across from the Outlet Mall at I-75 and SR 56. We will take a leisurely and scenic (trailer parks to strawberry fields) tour to Lakeland. After the Concours there is shopping and lunch where everyone will be on their own. \nNotes: approx travel time 1 ½ hours\, 60 miles. \nTHIS IS NOT A PCA OR SUNCOAST REGION EVENT. THERE IS NO INSURANCE PROVIDED. \nQuestions: Mark Krekorian at krekorian@aol.com
URL:https://suncoastpca.org/event/day-tour-to-porsche-356-fog-concours-event/
LOCATION:FL
CATEGORIES:Other
END:VEVENT
BEGIN:VEVENT
DTSTART;VALUE=DATE:20190131
DTEND;VALUE=DATE:20190204
DTSTAMP:20260422T195523
CREATED:20181113T211521Z
LAST-MODIFIED:20181113T211521Z
UID:10000667-1548892800-1549238399@suncoastpca.org
SUMMARY:48 Hours at Sebring
DESCRIPTION:
URL:https://suncoastpca.org/event/48-hours-at-sebring-4/
LOCATION:Sebring International Raceway\, 113 Midway Drive\, Sebring\, FL\, 33870\, United States
CATEGORIES:Other
END:VEVENT
BEGIN:VEVENT
DTSTART;VALUE=DATE:20181027
DTEND;VALUE=DATE:20181028
DTSTAMP:20260422T195523
CREATED:20180921T015425Z
LAST-MODIFIED:20180925T113944Z
UID:10000661-1540598400-1540684799@suncoastpca.org
SUMMARY:Suncoast PCA Test Drive
DESCRIPTION:https://clubregistration.net/events/signUp.cfm/event/9361
URL:https://suncoastpca.org/event/suncoast-pca-test-drive/
LOCATION:Sebring International Raceway\, 113 Midway Drive\, Sebring\, FL\, 33870\, United States
CATEGORIES:Other
END:VEVENT
BEGIN:VEVENT
DTSTART;TZID=America/New_York:20180508T183000
DTEND;TZID=America/New_York:20180508T183000
DTSTAMP:20260422T195523
CREATED:20180502T212910Z
LAST-MODIFIED:20180502T213108Z
UID:10000655-1525804200-1525804200@suncoastpca.org
SUMMARY:Porsche Owners Meet & Greet
DESCRIPTION:This is a casual get together for anyone that wants to come out. It will be held on the 2nd Tuesday of each month at 6:30ish starting in May\, 2018 at the JBurns Pizza Shop in Lakeland\, FL.  \nNote that this is a non-PCA event\, so PCA insurance does not apply.  \n 
URL:https://suncoastpca.org/event/porsche-owners-meet-greet/
LOCATION:JBurns Pizza Shop\, 2306 East Edgewood Drive\, Lakeland\, FL\, 33803\, United States
CATEGORIES:Other
ORGANIZER;CN="Shawn Graham":MAILTO:divefl26@aol.com
END:VEVENT
BEGIN:VEVENT
DTSTART;VALUE=DATE:20180325
DTEND;VALUE=DATE:20180326
DTSTAMP:20260422T195523
CREATED:20180117T160357Z
LAST-MODIFIED:20180309T145918Z
UID:10000649-1521936000-1522022399@suncoastpca.org
SUMMARY:Festivals of Speed & Porsches on Parade
DESCRIPTION:Porsche Race Car Display \nMark your calendars now do not miss this opportunity to view some very nice Porsche race cars\, both factory built cars and also cars built be your fellow Suncoast members. These race cars will be displayed as a group in the center grass viewing area at this great event. \nWe are looking for Porsche race car owners who would like to join us by displaying their cars at this event. If you own a Porsche race car and you would like to be included in this display please contact me directly and I can give you further details including how to register your car for the event at no charge to you. \nThis event is being sponsored by our good and long standing friends at Bert Smith Porsche. \nPlease join us at this event as a spectator or as a participant. \nRich Tillotson\nuscarrera@gmail.com\n727-534- 1008
URL:https://suncoastpca.org/event/festivals-of-speed-porsches-on-parade/
LOCATION:FL
CATEGORIES:Other
END:VEVENT
BEGIN:VEVENT
DTSTART;VALUE=DATE:20180317
DTEND;VALUE=DATE:20180318
DTSTAMP:20260422T195523
CREATED:20180117T155540Z
LAST-MODIFIED:20180117T155540Z
UID:10000647-1521244800-1521331199@suncoastpca.org
SUMMARY:12 Hours of Sebring
DESCRIPTION:
URL:https://suncoastpca.org/event/12-hours-of-sebring-4/
LOCATION:Sebring International Raceway\, 113 Midway Drive\, Sebring\, FL\, 33870\, United States
CATEGORIES:Other
END:VEVENT
BEGIN:VEVENT
DTSTART;VALUE=DATE:20180309
DTEND;VALUE=DATE:20180312
DTSTAMP:20260422T195523
CREATED:20180117T130107Z
LAST-MODIFIED:20180117T130107Z
UID:10000645-1520553600-1520812799@suncoastpca.org
SUMMARY:Amelia Island Concours d'Elegance Weekend
DESCRIPTION:Note that this is a non-PCA event and that PCA insurance does not apply.
URL:https://suncoastpca.org/event/amelia-island-concours-delegance-weekend/
LOCATION:Amelia Island\, FL\, United States
CATEGORIES:Other
END:VEVENT
BEGIN:VEVENT
DTSTART;VALUE=DATE:20180309
DTEND;VALUE=DATE:20180310
DTSTAMP:20260422T195523
CREATED:20180117T155328Z
LAST-MODIFIED:20180117T155328Z
UID:10000646-1520553600-1520639999@suncoastpca.org
SUMMARY:Werks Reunion Amelia Island
DESCRIPTION:
URL:https://suncoastpca.org/event/werks-reunion-amelia-island/
LOCATION:Amelia Island\, FL\, United States
CATEGORIES:Other
END:VEVENT
BEGIN:VEVENT
DTSTART;VALUE=DATE:20180224
DTEND;VALUE=DATE:20180225
DTSTAMP:20260422T195523
CREATED:20180105T152153Z
LAST-MODIFIED:20180105T152349Z
UID:10000643-1519430400-1519516799@suncoastpca.org
SUMMARY:TRSS Teen Driving School
DESCRIPTION:
URL:https://suncoastpca.org/event/trss-teen-driving-school-2/
LOCATION:Sebring International Raceway\, 113 Midway Drive\, Sebring\, FL\, 33870\, United States
CATEGORIES:Other
END:VEVENT
BEGIN:VEVENT
DTSTART;TZID=America/New_York:20180218T110000
DTEND;TZID=America/New_York:20180218T110000
DTSTAMP:20260422T195523
CREATED:20180105T150317Z
LAST-MODIFIED:20180105T150317Z
UID:10000638-1518951600-1518951600@suncoastpca.org
SUMMARY:Porsches and Polo
DESCRIPTION:Porsches and Polo is sponsored by Suncoast Porsche. A polo match\, refreshments\, and catered lunch. Email mkomyati@sunsetautogroup.com or call Margharita at 941-921-8007 to register to receive a bracelet. You must have a bracelet to enter the area for this fun filled day. \nPlease note: this is a Non-PCA Event; PCA Insurance does not apply. 
URL:https://suncoastpca.org/event/porsches-and-polo-4/
LOCATION:Sarasota Polo Club\, 8201 Polo Club Lane\, Lakewood Ranch\, FL\, 34240\, United States
CATEGORIES:Other
ATTACH;FMTTYPE=image/jpeg:https://suncoastpca.org/wp-content/uploads/2013/11/Polo-player.jpg
ORGANIZER;CN="Margharita":MAILTO:mkomyati@sunsetautogroup.com
GEO:27.3807039;-82.4014306
X-APPLE-STRUCTURED-LOCATION;VALUE=URI;X-ADDRESS=Sarasota Polo Club 8201 Polo Club Lane Lakewood Ranch FL 34240 United States;X-APPLE-RADIUS=500;X-TITLE=8201 Polo Club Lane:geo:-82.4014306,27.3807039
END:VEVENT
BEGIN:VEVENT
DTSTART;VALUE=DATE:20180217
DTEND;VALUE=DATE:20180218
DTSTAMP:20260422T195523
CREATED:20180105T152239Z
LAST-MODIFIED:20180105T152239Z
UID:10000644-1518825600-1518911999@suncoastpca.org
SUMMARY:FOG Gathering of the Faithful
DESCRIPTION:
URL:https://suncoastpca.org/event/fog-gathering-of-the-faithful/
LOCATION:FL
CATEGORIES:Other
END:VEVENT
BEGIN:VEVENT
DTSTART;VALUE=DATE:20180201
DTEND;VALUE=DATE:20180205
DTSTAMP:20260422T195523
CREATED:20180105T151956Z
LAST-MODIFIED:20180105T151956Z
UID:10000641-1517443200-1517788799@suncoastpca.org
SUMMARY:48 Hours at Sebring
DESCRIPTION:
URL:https://suncoastpca.org/event/48-hours-at-sebring-3/
LOCATION:Sebring International Raceway\, 113 Midway Drive\, Sebring\, FL\, 33870\, United States
CATEGORIES:Other
END:VEVENT
BEGIN:VEVENT
DTSTART;VALUE=DATE:20180126
DTEND;VALUE=DATE:20180129
DTSTAMP:20260422T195523
CREATED:20180105T151834Z
LAST-MODIFIED:20180105T151834Z
UID:10000640-1516924800-1517183999@suncoastpca.org
SUMMARY:PCA Hospitality at Rolex 24
DESCRIPTION:
URL:https://suncoastpca.org/event/pca-hospitality-at-rolex-24/
LOCATION:Daytona International Speedway\, 1801 W International Speedway Blvd\, Daytona Beach\, FL\, 32114\, United States
CATEGORIES:Other
GEO:29.1911697;-81.0681152
X-APPLE-STRUCTURED-LOCATION;VALUE=URI;X-ADDRESS=Daytona International Speedway 1801 W International Speedway Blvd Daytona Beach FL 32114 United States;X-APPLE-RADIUS=500;X-TITLE=1801 W International Speedway Blvd:geo:-81.0681152,29.1911697
END:VEVENT
BEGIN:VEVENT
DTSTART;TZID=America/New_York:20171209T100000
DTEND;TZID=America/New_York:20171209T170000
DTSTAMP:20260422T195523
CREATED:20170129T151606Z
LAST-MODIFIED:20170129T151606Z
UID:10000607-1512813600-1512838800@suncoastpca.org
SUMMARY:Porsches in the Park
DESCRIPTION:Space is limited and you must rsvp and receive a wrist band to wear in order to be part of this fun day sponsored by our friends at the Suncoast dealership in Sarasota. \nRSVP to mkomyati@sunsetautogroup.com
URL:https://suncoastpca.org/event/porsches-in-the-park-5/
LOCATION:St. Armands Circle\, 300 Madison Dr\, Sarasota\, FL\, 34236\, United States
CATEGORIES:Other
ORGANIZER;CN="Margharita":MAILTO:mkomyati@sunsetautogroup.com
GEO:27.318794;-82.5788479
X-APPLE-STRUCTURED-LOCATION;VALUE=URI;X-ADDRESS=St. Armands Circle 300 Madison Dr Sarasota FL 34236 United States;X-APPLE-RADIUS=500;X-TITLE=300 Madison Dr:geo:-82.5788479,27.318794
END:VEVENT
BEGIN:VEVENT
DTSTART;VALUE=DATE:20171013
DTEND;VALUE=DATE:20171018
DTSTAMP:20260422T195523
CREATED:20170515T152226Z
LAST-MODIFIED:20170515T152404Z
UID:10000615-1507852800-1508284799@suncoastpca.org
SUMMARY:Annual Leaf Tour
DESCRIPTION:For more information contact Carl or Diane Bohall at cdbohall@yahoo.com or contact Carl at 941-916-4152. Enjoy the beautiful colors of fall as you watch the leaves fall from the trees while driving the curves with other Porsche pals. The Smokey Mountains are aglow and for sure just for our group to enjoy.  
URL:https://suncoastpca.org/event/annual-leaf-tour/
LOCATION:FL
CATEGORIES:Other
END:VEVENT
BEGIN:VEVENT
DTSTART;TZID=America/New_York:20170402T070000
DTEND;TZID=America/New_York:20170402T160000
DTSTAMP:20260422T195523
CREATED:20170320T194138Z
LAST-MODIFIED:20170320T194138Z
UID:10000613-1491116400-1491148800@suncoastpca.org
SUMMARY:Porsche on Parade
DESCRIPTION:PORSCHE ON PARADE \n  \nCome join the annual Porsche on Parade sponsored by Bert Smith Porsche at the Vinoy Park inside of the Festivals of Speed in downtown St Petersburg that is featuring this year an air-cooled car display. Sunday April 2\, 2017 \n  \nThe event includes:  \n  \n– Wash & Shine open to all Porsches\, Peoples Choice judging \n– Air Cooled Porsche display\, Festivals of Speed judged. \n– BERT SMITH PORSCHE our sponsor and will serve lunch. \n  \nCars move in 7:00 to 9:30 am Move out 4:00 pm. \n  \n Register here: \n http://www.festivalsofspeed.com/entry-guidelines/ \n  \nYou need to purchase their car registration ticket here:  \nhttp://festivalsofspeed.tix.com/Event.aspx?EventCode=895881 \n  \nType in “SUNCOAST ” in the Code box\, to receive the discount ($25 off)\, during checkout: \n  \nFor registration issues\, contact: Britta@festivalsofspeed.com
URL:https://suncoastpca.org/event/porsche-on-parade/
LOCATION:Festivals of Speed\, 501 5th ave NE\, St. Petsersburg\, FL\, 33701\, United States
CATEGORIES:Other
GEO:27.7780978;-82.6300818
X-APPLE-STRUCTURED-LOCATION;VALUE=URI;X-ADDRESS=Festivals of Speed 501 5th ave NE St. Petsersburg FL 33701 United States;X-APPLE-RADIUS=500;X-TITLE=501 5th ave NE:geo:-82.6300818,27.7780978
END:VEVENT
BEGIN:VEVENT
DTSTART;TZID=America/New_York:20170325T090000
DTEND;TZID=America/New_York:20170325T160000
DTSTAMP:20260422T195523
CREATED:20170114T232503Z
LAST-MODIFIED:20170129T144834Z
UID:10000601-1490432400-1490457600@suncoastpca.org
SUMMARY:Swap Meet at Alegra Motorsports
DESCRIPTION:Swap meet at Alegra Motorsports \n8408 Benjamin Road \nTampa\, FL  33634 \n9 AM – 4 PM \nVendor spaces available.  Tours of the world renowned Alegra Motorsport Porsche collection will be given throughout the day. \nPlease register as an attendee on clubregistration.net. \nFor more information or to sign up as a vendor\, please contact Eric Rahenkamp at 813-294-3098 or  eric@rdgroup.org.
URL:https://suncoastpca.org/event/swap-meet-at-allegra-motorsports/
LOCATION:Alegra Motorsports\, 8408 Benjamin Road \, Tampa\, FL\, 33634\, United States
CATEGORIES:Other
ORGANIZER;CN="Eric Rahenkamp":MAILTO: eric@rdgroup.org
GEO:28.0257793;-82.5417526
X-APPLE-STRUCTURED-LOCATION;VALUE=URI;X-ADDRESS=Alegra Motorsports 8408 Benjamin Road  Tampa FL 33634 United States;X-APPLE-RADIUS=500;X-TITLE=8408 Benjamin Road:geo:-82.5417526,28.0257793
END:VEVENT
BEGIN:VEVENT
DTSTART;VALUE=DATE:20170310
DTEND;VALUE=DATE:20170311
DTSTAMP:20260422T195523
CREATED:20170129T145432Z
LAST-MODIFIED:20170129T145432Z
UID:10000604-1489104000-1489190399@suncoastpca.org
SUMMARY:Amelia Island Concours d'Elegance
DESCRIPTION:Note that this is a non-PCA event and that PCA insurance does not apply.
URL:https://suncoastpca.org/event/amelia-island-concours-delegance/
LOCATION:Amelia Island\, FL\, United States
CATEGORIES:Other
END:VEVENT
BEGIN:VEVENT
DTSTART;TZID=America/New_York:20170219T110000
DTEND;TZID=America/New_York:20170219T110000
DTSTAMP:20260422T195523
CREATED:20170123T044242Z
LAST-MODIFIED:20170123T044741Z
UID:10000603-1487502000-1487502000@suncoastpca.org
SUMMARY:Porsches and Polo
DESCRIPTION:Porsches and Polo is sponsored by Suncoast Porsche. A polo match\, refreshments\, and catered lunch. Email mkomyati@sunsetautogroup.com or call Margharita at 941-921-8007 to register to receive a bracelet. You must have a bracelet to enter the area for this fun filled day. \nPlease note: this is a Non-PCA Event; PCA Insurance does not apply. 
URL:https://suncoastpca.org/event/porsches-and-polo-5/
LOCATION:Sarasota Polo Club\, 8201 Polo Club Lane\, Lakewood Ranch\, FL\, 34240\, United States
CATEGORIES:Other
ATTACH;FMTTYPE=image/jpeg:https://suncoastpca.org/wp-content/uploads/2013/11/Polo-player.jpg
ORGANIZER;CN="Margharita":MAILTO:mkomyati@sunsetautogroup.com
GEO:27.3807039;-82.4014306
X-APPLE-STRUCTURED-LOCATION;VALUE=URI;X-ADDRESS=Sarasota Polo Club 8201 Polo Club Lane Lakewood Ranch FL 34240 United States;X-APPLE-RADIUS=500;X-TITLE=8201 Polo Club Lane:geo:-82.4014306,27.3807039
END:VEVENT
BEGIN:VEVENT
DTSTART;VALUE=DATE:20170202
DTEND;VALUE=DATE:20170206
DTSTAMP:20260422T195523
CREATED:20170117T134931Z
LAST-MODIFIED:20170117T134931Z
UID:10000602-1485993600-1486339199@suncoastpca.org
SUMMARY:48 Hours at Sebring
DESCRIPTION:The Gold Coast and Suncoast 24th annual 48 Hours at Sebring PCA Club Race is less than a month away (Feb 2 – 5th\, 2017). \nThis event provides funds for the Regions and for charities. It also is a chance to meet PCA members from all over the world and see a wide variety of Porsches in action. \nWe are looking for several volunteers still in the following areas: \n– 3 people Wednesday 2/1/16 evening to help sign-in Vendors and racers. \n– 4 people Thursday to help sign-in people at the guard house. \n– More people for Grid and Traffic Control all days. \n– More people to help setup for the Speed Showcase Friday about 5:30 PM \n– More people for Timing & Scoring All days. \n– More people for At-track Registration Thursday thru Saturday. \n– 10 people to serve as Pit Marshals for Sunday’s Enduros from 9:45 AM until about 4:00 PM. \nIf you do not have a preference\, signup for Miscellaneous and we will put you where we need help. \nYou can sign-up online at: http://www.48hoursatsebring.com/Volunteers/VolunteerSignUp2017.aspx \nor \nCopy the form and email it to Jerry Daily at Poorish911@aol.com.
URL:https://suncoastpca.org/event/48-hours-at-sebring-2/
LOCATION:Sebring International Raceway\, 113 Midway Drive\, Sebring\, FL\, 33870\, United States
CATEGORIES:Other
END:VEVENT
BEGIN:VEVENT
DTSTART;TZID=America/New_York:20161210T100000
DTEND;TZID=America/New_York:20161210T100000
DTSTAMP:20260422T195523
CREATED:20161108T214541Z
LAST-MODIFIED:20161108T214541Z
UID:10000585-1481364000-1481364000@suncoastpca.org
SUMMARY:Porsches in the Park
DESCRIPTION:Space is limited and you must rsvp and receive a wrist band to wear in order to be part of this fun day sponsored by our friends at the Suncoast dealership in Sarasota. \nRSVP to mkomyati@sunsetautogroup.com
URL:https://suncoastpca.org/event/porsches-in-the-park-4/
LOCATION:St. Armands Circle\, 300 Madison Dr\, Sarasota\, FL\, 34236\, United States
CATEGORIES:Other
ORGANIZER;CN="Margharita":MAILTO:mkomyati@sunsetautogroup.com
GEO:27.318794;-82.5788479
X-APPLE-STRUCTURED-LOCATION;VALUE=URI;X-ADDRESS=St. Armands Circle 300 Madison Dr Sarasota FL 34236 United States;X-APPLE-RADIUS=500;X-TITLE=300 Madison Dr:geo:-82.5788479,27.318794
END:VEVENT
BEGIN:VEVENT
DTSTART;VALUE=DATE:20160403
DTEND;VALUE=DATE:20160404
DTSTAMP:20260422T195523
CREATED:20151028T185543Z
LAST-MODIFIED:20151028T185543Z
UID:10000552-1459641600-1459727999@suncoastpca.org
SUMMARY:Porsche on Parade and The Festivals of Speed
DESCRIPTION:
URL:https://suncoastpca.org/event/porsche-on-parade-and-the-festivals-of-speed/
LOCATION:Festivals of Speed\, 501 5th ave NE\, St. Petsersburg\, FL\, 33701\, United States
CATEGORIES:Other
GEO:27.7780978;-82.6300818
X-APPLE-STRUCTURED-LOCATION;VALUE=URI;X-ADDRESS=Festivals of Speed 501 5th ave NE St. Petsersburg FL 33701 United States;X-APPLE-RADIUS=500;X-TITLE=501 5th ave NE:geo:-82.6300818,27.7780978
END:VEVENT
BEGIN:VEVENT
DTSTART;VALUE=DATE:20160320
DTEND;VALUE=DATE:20160321
DTSTAMP:20260422T195523
CREATED:20151028T184219Z
LAST-MODIFIED:20151028T190826Z
UID:10000551-1458432000-1458518399@suncoastpca.org
SUMMARY:Kart4Kids
DESCRIPTION:  \nPlease note: this is a Non-PCA Event; PCA Insurance does not apply. 
URL:https://suncoastpca.org/event/kart4kids/
LOCATION:Anderson Race Park\, 10101 U.S. 41\, Palmetto\, FL\, 34221\, United States
CATEGORIES:Other
GEO:27.606759;-82.541982
X-APPLE-STRUCTURED-LOCATION;VALUE=URI;X-ADDRESS=Anderson Race Park 10101 U.S. 41 Palmetto FL 34221 United States;X-APPLE-RADIUS=500;X-TITLE=10101 U.S. 41:geo:-82.541982,27.606759
END:VEVENT
BEGIN:VEVENT
DTSTART;VALUE=DATE:20160316
DTEND;VALUE=DATE:20160320
DTSTAMP:20260422T195523
CREATED:20151028T183221Z
LAST-MODIFIED:20151028T183221Z
UID:10000550-1458086400-1458431999@suncoastpca.org
SUMMARY:12 Hours of Sebring
DESCRIPTION:  \nPlease note: this is a Non-PCA Event; PCA Insurance does not apply.
URL:https://suncoastpca.org/event/12-hours-of-sebring-3/
LOCATION:Sebring International Raceway\, 113 Midway Drive\, Sebring\, FL\, 33870\, United States
CATEGORIES:Other
END:VEVENT
END:VCALENDAR