BEGIN:VCALENDAR
VERSION:2.0
PRODID:-//Suncoast Florida Region - PCA - ECPv6.15.20//NONSGML v1.0//EN
CALSCALE:GREGORIAN
METHOD:PUBLISH
X-WR-CALNAME:Suncoast Florida Region - PCA
X-ORIGINAL-URL:https://suncoastpca.org
X-WR-CALDESC:Events for Suncoast Florida Region - PCA
REFRESH-INTERVAL;VALUE=DURATION:PT1H
X-Robots-Tag:noindex
X-PUBLISHED-TTL:PT1H
BEGIN:VTIMEZONE
TZID:America/New_York
BEGIN:DAYLIGHT
TZOFFSETFROM:-0500
TZOFFSETTO:-0400
TZNAME:EDT
DTSTART:20250309T070000
END:DAYLIGHT
BEGIN:STANDARD
TZOFFSETFROM:-0400
TZOFFSETTO:-0500
TZNAME:EST
DTSTART:20251102T060000
END:STANDARD
BEGIN:DAYLIGHT
TZOFFSETFROM:-0500
TZOFFSETTO:-0400
TZNAME:EDT
DTSTART:20260308T070000
END:DAYLIGHT
BEGIN:STANDARD
TZOFFSETFROM:-0400
TZOFFSETTO:-0500
TZNAME:EST
DTSTART:20261101T060000
END:STANDARD
BEGIN:DAYLIGHT
TZOFFSETFROM:-0500
TZOFFSETTO:-0400
TZNAME:EDT
DTSTART:20270314T070000
END:DAYLIGHT
BEGIN:STANDARD
TZOFFSETFROM:-0400
TZOFFSETTO:-0500
TZNAME:EST
DTSTART:20271107T060000
END:STANDARD
END:VTIMEZONE
BEGIN:VEVENT
DTSTART;TZID=America/New_York:20260322T103000
DTEND;TZID=America/New_York:20260322T103000
DTSTAMP:20260422T144800
CREATED:20260312T120217Z
LAST-MODIFIED:20260312T120217Z
UID:10001317-1774175400-1774175400@suncoastpca.org
SUMMARY:Porsches and Polo
DESCRIPTION:You’re invited to Porsches & Polo 2026 with Suncoast Porsche \nSuncoast Porsche is delighted to invite members of Suncoast PCA to a special day of Porsche\, sport\, and great company at the beautiful Sarasota Polo Club. \nJoin us on Sunday\, March 22\, 2026 for an unforgettable gathering surrounded by the elegance of the polo fields and the passion of the Porsche community. \nThe morning will begin at 10:30 AM\, where guests will be welcomed with a relaxed social atmosphere and exceptional food prepared by Pier 22. \nOn of the highlights of the day will be the Porsche Parade\, where approximately 40 Porsche vehicles will take the ceremonial lap around the polo field just before the match begins. \nThe polo match will start at 1:00PM\, offer a spectacular setting to enjoy the sport while surrounded by fellow Porsche enthusiasts. \nThis is more than an event. It is a celebration of the Porsche lifestyle\, great cars\, great people\, and a perfect Florida afternoon! \nDate: Sunday\, March 22\, 2026\nLocation: Sarasota Polo Club\nArrival: 10:30AM\nPorsche Parade: Prior to the 1:00PM match\nFood: Catered by Pier22 \nSpace is LIMITED and we look forward to sharing this special day with our Porsche family.\nRegister
URL:https://suncoastpca.org/event/porsches-and-polo-6/
LOCATION:Sarasota Polo Club\, 8201 Polo Club Lane\, Lakewood Ranch\, FL\, 34240\, United States
CATEGORIES:Other
GEO:27.3807039;-82.4014306
X-APPLE-STRUCTURED-LOCATION;VALUE=URI;X-ADDRESS=Sarasota Polo Club 8201 Polo Club Lane Lakewood Ranch FL 34240 United States;X-APPLE-RADIUS=500;X-TITLE=8201 Polo Club Lane:geo:-82.4014306,27.3807039
END:VEVENT
END:VCALENDAR