BEGIN:VCALENDAR
VERSION:2.0
PRODID:-//Suncoast Florida Region - PCA - ECPv6.15.20//NONSGML v1.0//EN
CALSCALE:GREGORIAN
METHOD:PUBLISH
X-ORIGINAL-URL:https://suncoastpca.org
X-WR-CALDESC:Events for Suncoast Florida Region - PCA
REFRESH-INTERVAL;VALUE=DURATION:PT1H
X-Robots-Tag:noindex
X-PUBLISHED-TTL:PT1H
BEGIN:VTIMEZONE
TZID:America/New_York
BEGIN:DAYLIGHT
TZOFFSETFROM:-0500
TZOFFSETTO:-0400
TZNAME:EDT
DTSTART:20240310T070000
END:DAYLIGHT
BEGIN:STANDARD
TZOFFSETFROM:-0400
TZOFFSETTO:-0500
TZNAME:EST
DTSTART:20241103T060000
END:STANDARD
BEGIN:DAYLIGHT
TZOFFSETFROM:-0500
TZOFFSETTO:-0400
TZNAME:EDT
DTSTART:20250309T070000
END:DAYLIGHT
BEGIN:STANDARD
TZOFFSETFROM:-0400
TZOFFSETTO:-0500
TZNAME:EST
DTSTART:20251102T060000
END:STANDARD
BEGIN:DAYLIGHT
TZOFFSETFROM:-0500
TZOFFSETTO:-0400
TZNAME:EDT
DTSTART:20260308T070000
END:DAYLIGHT
BEGIN:STANDARD
TZOFFSETFROM:-0400
TZOFFSETTO:-0500
TZNAME:EST
DTSTART:20261101T060000
END:STANDARD
END:VTIMEZONE
BEGIN:VEVENT
DTSTART;VALUE=DATE:20250912
DTEND;VALUE=DATE:20250915
DTSTAMP:20260422T230908
CREATED:20250813T203748Z
LAST-MODIFIED:20250813T203748Z
UID:10001180-1757635200-1757894399@suncoastpca.org
SUMMARY:PCA 70th Anniversary Celebration
DESCRIPTION:On behalf of the President and Board of Directors of PCA Suncoast Florida\, you are invited to join us for a once-in-a-lifetime celebration of 70 years of the Porsche Club of America. \nThis milestone weekend at Sebring International Raceway will bring together PCA members from across Florida for a packed schedule of driving\, social\, and celebratory events. \nWeekend Highlights \n\nDrivers Education (DE) and Autocross for all skill levels\nRoad Tours\, Driving Rallies\, Tech Quizzes\nLunch Track Tour for Porsches Only & Group 70th Photo\nSaturday Evening Celebration with Guest Speakers\nSwag Bags\, Friends\, and Memories to Last a Lifetime\n\nAll Event Listings\nView all PCA 70th Anniversary weekend events (except DE) here:\nhttps://clubregistration.net/events/eventsRegional.cfm/PCA%2070th%20(Florida)/0 \nSuncoast Code: SUNCOAST \nDrivers Education – September 12–14\nRegister for the DE event here:\nhttps://clubregistration.net/events/signUp.cfm/event/15935 \nAutocross – Saturday\, September 13\nTwo autocross events in one day – run in the morning\, afternoon\, or both! \n\nMorning Event – Limit 32 paid entries\nAfternoon Event – Limit 32 paid entries\nPorsche cars / PCA members only\nClasses based on current PCR guidelines\nLoaner helmets available for rent (reserve in registration under “Options”)\n\nNew This Year – AutoX Chalk Talk\nFriday afternoon\, September 12 – Learn from the experts before you hit the cones! (details to follow) \nAutocross Registration – No On-Site Signup \nMorning Autocross: https://clubregistration.net/events/signUp.cfm/event/16117 \nAfternoon Autocross: https://clubregistration.net/events/signUp.cfm/event/16118 \nSaturday Evening Celebration\nReserve your spot via Eventbrite:\nhttps://www.eventbrite.com/e/1571472088319?aff=oddtdtcreator \nHotel Information (Reserve Early – Rooms Go Fast!)\nInn on the Lakes: Call 863-471-9400 (mention “PCA 70th”) \nSEVEN Hotel: Call 863-655-7200 (mention “PCA 70th Birthday”) \nTru by Hilton: Book Online or call 863-304-7186 (mention “PCA 70th”) \nResidence Inn by Marriott: Book Online or call 863-314-9100 (mention “PCA 70th”) \nWe look forward to celebrating this historic milestone with you and your Porsche. \nJoe Shukys\nPresident – Suncoast Florida Region\nBoard of Directors – PCA Suncoast Florida Region
URL:https://suncoastpca.org/event/pca-70th-anniversary-celebration/
LOCATION:Sebring International Raceway\, 113 Midway Drive\, Sebring\, FL\, 33870\, United States
CATEGORIES:Other
END:VEVENT
BEGIN:VEVENT
DTSTART;TZID=America/New_York:20250920T070000
DTEND;TZID=America/New_York:20250920T170000
DTSTAMP:20260422T230908
CREATED:20250911T162335Z
LAST-MODIFIED:20250911T162335Z
UID:10001181-1758351600-1758387600@suncoastpca.org
SUMMARY:The Motor Enclave Ultimate Porsche Track Day
DESCRIPTION:On behalf of The Motor Enclave\, there will be an exclusive Porsche-only Ultimate Track Day at our private driving circuit in Tampa\, FL. \nThis special event includes: \n\nA full day on our world-class track designed for performance driving\nPorsche-only participation to ensure an elevated experience\nCatered breakfast and lunch provided onsite\nAccess to our premium facilities and community of enthusiasts\nWe’d love to see your members join us for this unforgettable day dedicated to Porsche passion.\n\nYou can find more details and register here: https://themotorenclave.ticketspice.com/porsche-ultimate-track-day-
URL:https://suncoastpca.org/event/the-motor-enclave-ultimate-porsche-track-day/
LOCATION:The Motor Enclave\, 6500 Motor Enclave Way\, Tampa\, 33610\, United States
CATEGORIES:Other
END:VEVENT
END:VCALENDAR