BEGIN:VCALENDAR
VERSION:2.0
PRODID:-//Suncoast Florida Region - PCA - ECPv6.15.20//NONSGML v1.0//EN
CALSCALE:GREGORIAN
METHOD:PUBLISH
X-ORIGINAL-URL:https://suncoastpca.org
X-WR-CALDESC:Events for Suncoast Florida Region - PCA
REFRESH-INTERVAL;VALUE=DURATION:PT1H
X-Robots-Tag:noindex
X-PUBLISHED-TTL:PT1H
BEGIN:VTIMEZONE
TZID:America/New_York
BEGIN:DAYLIGHT
TZOFFSETFROM:-0500
TZOFFSETTO:-0400
TZNAME:EDT
DTSTART:20230312T070000
END:DAYLIGHT
BEGIN:STANDARD
TZOFFSETFROM:-0400
TZOFFSETTO:-0500
TZNAME:EST
DTSTART:20231105T060000
END:STANDARD
BEGIN:DAYLIGHT
TZOFFSETFROM:-0500
TZOFFSETTO:-0400
TZNAME:EDT
DTSTART:20240310T070000
END:DAYLIGHT
BEGIN:STANDARD
TZOFFSETFROM:-0400
TZOFFSETTO:-0500
TZNAME:EST
DTSTART:20241103T060000
END:STANDARD
BEGIN:DAYLIGHT
TZOFFSETFROM:-0500
TZOFFSETTO:-0400
TZNAME:EDT
DTSTART:20250309T070000
END:DAYLIGHT
BEGIN:STANDARD
TZOFFSETFROM:-0400
TZOFFSETTO:-0500
TZNAME:EST
DTSTART:20251102T060000
END:STANDARD
END:VTIMEZONE
BEGIN:VEVENT
DTSTART;TZID=America/New_York:20241201T080000
DTEND;TZID=America/New_York:20241201T080000
DTSTAMP:20260423T124955
CREATED:20240924T165504Z
LAST-MODIFIED:20240924T165504Z
UID:10001089-1733040000-1733040000@suncoastpca.org
SUMMARY:Swap Meet and Wash & Shine Porsche Show
DESCRIPTION:At QUAKER STEAK AND LUBE 10400 49TH STREET N. CLEARWATER\, FL \nSwap Meet set up 8 AM: Only $20.00 donation for sellers. Register online. Bring whatever you need to set up in a vacant parking spot\, such as tents\, chairs. \nWash & Shine set up 8:30 AM: Only $20.00 donation (register online) to have your Porsche judged. \nJudging begins at 10:30 AM. Awards at 12:30 PM.\nGawkers and Shoppers\, 10:00 AM Free. Bring plenty of cash\, for those rare items you will only find at a Porsche swap meet. ATM on site. \nQuaker Steak and Lube will be open for an early lunch. They donate the space for our event. Please support them. PCA will supply water. Register and pay at: https://clubregistration.net/events/event-details.cfm?event_id=15067 \nClub event proceeds will benefit Johns Hopkins All Children’s Hospital thru the charity KART 4 KIDS created by Suncoast Region members. \nContacts:\nSwap Meet\, Page Obenshain\, page6532@gmail.com\nWash & Shine\, Danny Shields\, fastdan5@aol.com
URL:https://suncoastpca.org/event/swap-meet-and-wash-shine-porsche-show/
LOCATION:Quaker Steak & Lube\, 10400 49th St. N\, Clearwater\, FL\, 33762\, United States
CATEGORIES:Other
END:VEVENT
END:VCALENDAR