BEGIN:VCALENDAR
VERSION:2.0
PRODID:-//Suncoast Florida Region - PCA - ECPv6.15.20//NONSGML v1.0//EN
CALSCALE:GREGORIAN
METHOD:PUBLISH
X-ORIGINAL-URL:https://suncoastpca.org
X-WR-CALDESC:Events for Suncoast Florida Region - PCA
REFRESH-INTERVAL;VALUE=DURATION:PT1H
X-Robots-Tag:noindex
X-PUBLISHED-TTL:PT1H
BEGIN:VTIMEZONE
TZID:America/New_York
BEGIN:DAYLIGHT
TZOFFSETFROM:-0500
TZOFFSETTO:-0400
TZNAME:EDT
DTSTART:20210314T070000
END:DAYLIGHT
BEGIN:STANDARD
TZOFFSETFROM:-0400
TZOFFSETTO:-0500
TZNAME:EST
DTSTART:20211107T060000
END:STANDARD
BEGIN:DAYLIGHT
TZOFFSETFROM:-0500
TZOFFSETTO:-0400
TZNAME:EDT
DTSTART:20220313T070000
END:DAYLIGHT
BEGIN:STANDARD
TZOFFSETFROM:-0400
TZOFFSETTO:-0500
TZNAME:EST
DTSTART:20221106T060000
END:STANDARD
BEGIN:DAYLIGHT
TZOFFSETFROM:-0500
TZOFFSETTO:-0400
TZNAME:EDT
DTSTART:20230312T070000
END:DAYLIGHT
BEGIN:STANDARD
TZOFFSETFROM:-0400
TZOFFSETTO:-0500
TZNAME:EST
DTSTART:20231105T060000
END:STANDARD
END:VTIMEZONE
BEGIN:VEVENT
DTSTART;VALUE=DATE:20220709
DTEND;VALUE=DATE:20220710
DTSTAMP:20260425T101213
CREATED:20220601T130335Z
LAST-MODIFIED:20220601T130521Z
UID:10000791-1657324800-1657411199@suncoastpca.org
SUMMARY:Time Speed Distance (TSD) Rally
DESCRIPTION:Rally in July! For those of us who have not traveled north for the Summer we will have a TSD Rally on Saturday July 9th. The gathering location will be the Eggs-Traordinary Cafe\, 3981 Cattlemen Rd\, Sarasota\, FL 34233 (south off Bee Ridge Rd west of I-75). The end location is a waterfront restaurant in Nokomis. Registration opens online at 8 AM June 6 at Club Registration.
URL:https://suncoastpca.org/event/time-speed-distance-tsd-rally-2/
LOCATION:FL\, United States
CATEGORIES:Other
GEO:27.6648274;-81.5157535
END:VEVENT
END:VCALENDAR