BEGIN:VCALENDAR
VERSION:2.0
PRODID:-//Suncoast Florida Region - PCA - ECPv6.15.20//NONSGML v1.0//EN
CALSCALE:GREGORIAN
METHOD:PUBLISH
X-ORIGINAL-URL:https://suncoastpca.org
X-WR-CALDESC:Events for Suncoast Florida Region - PCA
REFRESH-INTERVAL;VALUE=DURATION:PT1H
X-Robots-Tag:noindex
X-PUBLISHED-TTL:PT1H
BEGIN:VTIMEZONE
TZID:America/New_York
BEGIN:DAYLIGHT
TZOFFSETFROM:-0500
TZOFFSETTO:-0400
TZNAME:EDT
DTSTART:20210314T070000
END:DAYLIGHT
BEGIN:STANDARD
TZOFFSETFROM:-0400
TZOFFSETTO:-0500
TZNAME:EST
DTSTART:20211107T060000
END:STANDARD
BEGIN:DAYLIGHT
TZOFFSETFROM:-0500
TZOFFSETTO:-0400
TZNAME:EDT
DTSTART:20220313T070000
END:DAYLIGHT
BEGIN:STANDARD
TZOFFSETFROM:-0400
TZOFFSETTO:-0500
TZNAME:EST
DTSTART:20221106T060000
END:STANDARD
BEGIN:DAYLIGHT
TZOFFSETFROM:-0500
TZOFFSETTO:-0400
TZNAME:EDT
DTSTART:20230312T070000
END:DAYLIGHT
BEGIN:STANDARD
TZOFFSETFROM:-0400
TZOFFSETTO:-0500
TZNAME:EST
DTSTART:20231105T060000
END:STANDARD
END:VTIMEZONE
BEGIN:VEVENT
DTSTART;TZID=America/New_York:20220522T090000
DTEND;TZID=America/New_York:20220522T170000
DTSTAMP:20260425T131239
CREATED:20220518T161211Z
LAST-MODIFIED:20220518T161211Z
UID:10000788-1653210000-1653238800@suncoastpca.org
SUMMARY:TSD/Gimmick Rally
DESCRIPTION:Start location: Eggs-Traordinary Cafe\, Nokomis\, FL. Driver meeting at 9 AM sharp. Get there early if you wish to purchase some breakfast foods/snacks. You can choose which instructions you would like to follow (TSD or Gimmick). Both will be fun and challenging!  Optional: lunch at the waterfront ending location near the bridge to Casey Key. \nThe TSD version is recommended for those who will be attending Porsche Parade in the Pocono Mountains this June. It may help to sharpen your rally skills! But the Gimmick version will also give you a chance to practice your route-following driving abilities. 🙂 \nRegister here: \nhttps://clubregistration.net/events/signUp.cfm/event/12504
URL:https://suncoastpca.org/event/tsd-gimmick-rally/
LOCATION:FL\, United States
CATEGORIES:Other
GEO:27.6648274;-81.5157535
END:VEVENT
END:VCALENDAR