BEGIN:VCALENDAR
VERSION:2.0
PRODID:-//Suncoast Florida Region - PCA - ECPv6.15.20//NONSGML v1.0//EN
CALSCALE:GREGORIAN
METHOD:PUBLISH
X-WR-CALNAME:Suncoast Florida Region - PCA
X-ORIGINAL-URL:https://suncoastpca.org
X-WR-CALDESC:Events for Suncoast Florida Region - PCA
REFRESH-INTERVAL;VALUE=DURATION:PT1H
X-Robots-Tag:noindex
X-PUBLISHED-TTL:PT1H
BEGIN:VTIMEZONE
TZID:America/New_York
BEGIN:DAYLIGHT
TZOFFSETFROM:-0500
TZOFFSETTO:-0400
TZNAME:EDT
DTSTART:20250309T070000
END:DAYLIGHT
BEGIN:STANDARD
TZOFFSETFROM:-0400
TZOFFSETTO:-0500
TZNAME:EST
DTSTART:20251102T060000
END:STANDARD
BEGIN:DAYLIGHT
TZOFFSETFROM:-0500
TZOFFSETTO:-0400
TZNAME:EDT
DTSTART:20260308T070000
END:DAYLIGHT
BEGIN:STANDARD
TZOFFSETFROM:-0400
TZOFFSETTO:-0500
TZNAME:EST
DTSTART:20261101T060000
END:STANDARD
BEGIN:DAYLIGHT
TZOFFSETFROM:-0500
TZOFFSETTO:-0400
TZNAME:EDT
DTSTART:20270314T070000
END:DAYLIGHT
BEGIN:STANDARD
TZOFFSETFROM:-0400
TZOFFSETTO:-0500
TZNAME:EST
DTSTART:20271107T060000
END:STANDARD
END:VTIMEZONE
BEGIN:VEVENT
DTSTART;TZID=America/New_York:20260118T080000
DTEND;TZID=America/New_York:20260118T170000
DTSTAMP:20260422T163833
CREATED:20251219T160235Z
LAST-MODIFIED:20251219T160235Z
UID:10001202-1768723200-1768755600@suncoastpca.org
SUMMARY:Autocross
DESCRIPTION:**Read Entire Description** – Events have been reaching max capacity\, so we will have to prioritize registrations by: Current PCA membership validated in your Clurbreg profile; Porsche cars; BMWCCA Club Members (driving BMW) and Guests only are invited to register on 12/18/25.  \nDO NOT make payment in advance if you are not a Porsche PCA/BMWCCA Member car as you will be charged the credit card fee to cancel your payment. We will email you if we are able to move you from the waitlist to “Pending” status to make payment.  \nEvent will be capped at approximately 40 drivers and up to 10 registered guests. Registration will close on 1/10/26 and cancellations must be submitted prior to that date for refund (less credit card processing fee). NO on-site registrations will be allowed. \nPre-payment (current/active PCA MEMBERSHIP # MUST be listed in your Clubreg Profile to qualify for the Member rate of $50)\, and the PCA Event Liability Waiver is required to be e-signed before you will be confirmed on the Roster. Your registration will remain as “Pending” until completed and you have received a confirmation email and see your name on the Roster. You can review and verify your car class and categories on the Suncoast PCA activities/autocross page at: https://suncoastpca.org/autocross/ \nALL non-driver GUEST attendees must register and e-sign the liability waiver as a “Crew/Guest” on Clubregistration.net. No on-site registrations as this is a private event. Please assist your guest in setting up an account with Clubregistration.net. $5 is requested if your guest will join us for lunch. \nPCA requires eSignatures for all events. Electronically sign the Event Liability Waiver prior to the event.  \n**New for 2026** SNELL SA2015 helmet or newer required. Limited loaner helmets available. \nPlease arrive at the gate between 7:45am and 8:15am. Tech inspection 8am – 8:30am. Guided course walk at 8:45am followed by drivers’ meeting at 9:15am. Group A ready to Grid by 9:30am. Lunch and cold drinks will be provided\, but feel free to bring your own cooler. We always target 4 morning runs and 4 afternoon runs depending on weather and other factor. Please make plans to stay the entire day so we have enough workers for the final B run group. We usually wrap up around 3:30pm and we will host awards for the 2025 Season! \nAll Drivers must be 18 years of age with valid Driver’s License.  Registered PCA “Juniors Program” members may drive at 16 years of age with valid Driver’s License.  Parent/Guardian must attend and sign Minor Participation Waiver. \nhttps://clubregistration.net/events/signUp.cfm/event/16331?CFID=14323110&CFTOKEN=3de0cb367f1510d2-2957E08C-A804-53E0-4DB4F89CD959CAC7
URL:https://suncoastpca.org/event/autocross-28/
LOCATION:St. Petersburg College Allstate Center\, 3200 34th St S\, St Petersburg\, 33711
CATEGORIES:Autocross
END:VEVENT
BEGIN:VEVENT
DTSTART;TZID=America/New_York:20260131T080000
DTEND;TZID=America/New_York:20260131T170000
DTSTAMP:20260422T163833
CREATED:20251219T161423Z
LAST-MODIFIED:20251219T161423Z
UID:10001207-1769846400-1769878800@suncoastpca.org
SUMMARY:Autocross
DESCRIPTION:Autocross has become a feature part of the 48 Hours at Sebring Club Race and will again be run as part of this Club Race at Historic Sebring Raceway. Every region should consider sending their top PCA autocrossers to this year’s zone 12 AX Challenge. Classes will be based on PCR’s\, with class combining where applicable\, so that each class has at least 2 competitors. This is a Porsche car/PCA member only event. This year\, two (2) AX events in one day! Run morning\, afternoon\, or both. \nHere are the AM details: Date: Saturday\, Jan. 31\, 2026 \nMorning: Time: 7:30 AM – 12:00 PM \n7:30 – 8:30 Check in/Tech/course walk\n8:40 Driver meeting\n9:00 First car out on course\nTBA Possible Track Tour and Lunch break\n12:00 Finish all runs\n5:00 Present trophies at Skid Pad \nHere are the PM details: Date: Saturday\, Jan. 31\, 2026 \nAfternoon: Time: 12:30 AM – 5:00 PM \n12:30 – 1:30 Check in/Tech/course walk\nTBA Possible Track Tour and Lunch break\n1:30 Driver meeting\n2:00 First car out on course\n5:00 Finish all runs and present trophies at Skid Pad \nThere will be a limit of 32 paid entries in the morning and 32 paid entries in the afternoon. No on-site registration. Use the Suncoast and Gold coast PCA links below: \nMorning registration link  https://clubregistration.net/events/signUp.cfm/event/16351 \nAfternoon registration link https://clubregistration.net/events/signUp.cfm/event/16352 \nCost: $45.00 for each event Prepaid @ Clubregistration.net only. ($65 if paid after Jan. 21) \nWe anticipate that all entrants will receive a T-Shirt and possibly a commemorative AutoX keepsake. Should you wish to make a donation to Ronald McDonald House or the Boy Scouts of America\, just click on that Options. Thank you! \nWhat’s new? The two-event structure won’t take up your entire day. You will have either the morning or afternoon to AutoX and the other half of the day to volunteer or watch the racing and socialize. Hard core competitors can run both events. Added feature: an AutoX school on Friday afternoon January 30th  https://clubregistration.net/events/signUp.cfm/event/16353 – Limit of 12 registrants \nAX Team contacts: Steve Kidd (954) 292-3915 or Dottie Kidd (954) 562-5919 \nOR email dottiekidd@bellsouth.net \nIf you are driving your transaxle Porsche (944\,924\,968 or 928) and would like to park in the Transaxle Corral on Jan. 31\, just click this link: https://clubregistration.net/events/signUp.cfm/event/16355
URL:https://suncoastpca.org/event/autocross-33/
LOCATION:Sebring International Raceway\, 113 Midway Drive\, Sebring\, FL\, 33870\, United States
CATEGORIES:Autocross
END:VEVENT
END:VCALENDAR