BEGIN:VCALENDAR
VERSION:2.0
PRODID:-//Suncoast Florida Region - PCA - ECPv6.15.20//NONSGML v1.0//EN
CALSCALE:GREGORIAN
METHOD:PUBLISH
X-ORIGINAL-URL:https://suncoastpca.org
X-WR-CALDESC:Events for Suncoast Florida Region - PCA
REFRESH-INTERVAL;VALUE=DURATION:PT1H
X-Robots-Tag:noindex
X-PUBLISHED-TTL:PT1H
BEGIN:VTIMEZONE
TZID:America/New_York
BEGIN:DAYLIGHT
TZOFFSETFROM:-0500
TZOFFSETTO:-0400
TZNAME:EDT
DTSTART:20240310T070000
END:DAYLIGHT
BEGIN:STANDARD
TZOFFSETFROM:-0400
TZOFFSETTO:-0500
TZNAME:EST
DTSTART:20241103T060000
END:STANDARD
BEGIN:DAYLIGHT
TZOFFSETFROM:-0500
TZOFFSETTO:-0400
TZNAME:EDT
DTSTART:20250309T070000
END:DAYLIGHT
BEGIN:STANDARD
TZOFFSETFROM:-0400
TZOFFSETTO:-0500
TZNAME:EST
DTSTART:20251102T060000
END:STANDARD
BEGIN:DAYLIGHT
TZOFFSETFROM:-0500
TZOFFSETTO:-0400
TZNAME:EDT
DTSTART:20260308T070000
END:DAYLIGHT
BEGIN:STANDARD
TZOFFSETFROM:-0400
TZOFFSETTO:-0500
TZNAME:EST
DTSTART:20261101T060000
END:STANDARD
END:VTIMEZONE
BEGIN:VEVENT
DTSTART;TZID=America/New_York:20251206T080000
DTEND;TZID=America/New_York:20251206T170000
DTSTAMP:20260422T181631
CREATED:20250911T164920Z
LAST-MODIFIED:20250911T164920Z
UID:10001184-1765008000-1765040400@suncoastpca.org
SUMMARY:Autocross
DESCRIPTION:Final Autox of 2025!! Events have been reaching max capacity\, so we will have to prioritize registrations by: Current PCA membership validated in your Clubreg profile; Porsche cars; BMWCCA Club Members (driving BMW) and Guests only are invited to register on 11/6/25. We advise you to not make payment in advance if you are not a Porsche car as you will be charged the credit card fee to cancel your payment. We will email you if we are able to move you from the waitlist to “Pending” status to make payment. Event will be capped at approximately 40-45 drivers and up to 10 registered guests. Registration will close on 11/30/25 and cancellations must be submitted prior to that date for refund (less credit card processing fee). NO on-site registrations will be allowed. \nIF INTERESTED\, CLICK ON THE LINK BELOW TO GO TO CLUBREGISTRATION AND READ ALL OF THE INFORMATION SINCE IT WAS TOO MUCH TO POST \nhttps://clubregistration.net/events/event-details.cfm?event_id=16088 \nAll Drivers must be 18 years of age with valid Driver’s License. Registered PCA “Juniors Program” members may drive at 16 years of age with valid Driver’s License. Parent/Guardian must attend and sign Minor Participation Waiver.
URL:https://suncoastpca.org/event/autocross-27/
LOCATION:St. Petersburg College Allstate Center\, 3200 34th St S\, St Petersburg\, 33711
CATEGORIES:Autocross
END:VEVENT
END:VCALENDAR